BEGIN:VCALENDAR
VERSION:2.0
PRODID:-//The Pacific Northwest Conference of The United Methodist Church - ECPv6.15.20//NONSGML v1.0//EN
CALSCALE:GREGORIAN
METHOD:PUBLISH
X-ORIGINAL-URL:https://www.pnwumc.org
X-WR-CALDESC:Events for The Pacific Northwest Conference of The United Methodist Church
REFRESH-INTERVAL;VALUE=DURATION:PT1H
X-Robots-Tag:noindex
X-PUBLISHED-TTL:PT1H
BEGIN:VTIMEZONE
TZID:America/Los_Angeles
BEGIN:DAYLIGHT
TZOFFSETFROM:-0800
TZOFFSETTO:-0700
TZNAME:PDT
DTSTART:20230312T100000
END:DAYLIGHT
BEGIN:STANDARD
TZOFFSETFROM:-0700
TZOFFSETTO:-0800
TZNAME:PST
DTSTART:20231105T090000
END:STANDARD
BEGIN:DAYLIGHT
TZOFFSETFROM:-0800
TZOFFSETTO:-0700
TZNAME:PDT
DTSTART:20240310T100000
END:DAYLIGHT
BEGIN:STANDARD
TZOFFSETFROM:-0700
TZOFFSETTO:-0800
TZNAME:PST
DTSTART:20241103T090000
END:STANDARD
BEGIN:DAYLIGHT
TZOFFSETFROM:-0800
TZOFFSETTO:-0700
TZNAME:PDT
DTSTART:20250309T100000
END:DAYLIGHT
BEGIN:STANDARD
TZOFFSETFROM:-0700
TZOFFSETTO:-0800
TZNAME:PST
DTSTART:20251102T090000
END:STANDARD
END:VTIMEZONE
BEGIN:VEVENT
DTSTART;TZID=America/Los_Angeles:20241024T120000
DTEND;TZID=America/Los_Angeles:20241026T120000
DTSTAMP:20260423T155620
CREATED:20240829T214344Z
LAST-MODIFIED:20240923T171815Z
UID:10000893-1729771200-1729944000@www.pnwumc.org
SUMMARY:PNW Leadership Summit & Immersive Learning Opportunity
DESCRIPTION:The 2024 PNW Conference Leadership Summit will occur on October 24-26\, 2024\, at Wesley United Methodist Church in Yakima\, Washington. The event will inform and equip lay and clergy members of conference boards and agencies as they begin or continue to serve in positions during the new quadrennium. \nClick here to register. \nThe event will begin at noon on Thursday\, October 24. In cooperation with the Board of Ordained Ministry\, the first day of programming will offer an immersive learning opportunity led by Corey Greaves\, president and founder of Mending Wings. Presentations will help participants better understand the history and harm caused by the Westward expansion of European settlers\, the role of Methodists\, and efforts to preserve and celebrate Indigenous culture on the Yakama Reservation today. \nThis immersive learning opportunity is open to pastoral leaders beyond those participating in the Leadership Summit. It meets the quadrennial cultural competency for the quadrennium ending December 31\, 2024. Other opportunities to meet this criteria are on the conference calendar\, with more details coming soon. \nThe second day of programming (beginning at noon on Friday\, October 25) will include worship\, a keynote by Bishop Cedrick Bridgeforth\, and informational resourcing from other conference staff and leaders to equip boards and agencies with their work. The event will conclude around Noon on Saturday\, October 26.
URL:https://www.pnwumc.org/event/pnw-leadership-summit/
LOCATION:Yakima: Wesley UMC\, 14 North 48th Avenue\, Yakima\, WA\, 98908\, United States
CATEGORIES:Annual Conference,Training
ATTACH;FMTTYPE=image/jpeg:https://www.pnwumc.org/wp-content/uploads/2024/08/LeadersSummit-16-9.jpg
ORGANIZER;CN="Kathy Hogg":MAILTO:khogg@pnwumc.org
GEO:46.5971846;-120.5733166
X-APPLE-STRUCTURED-LOCATION;VALUE=URI;X-ADDRESS=Yakima: Wesley UMC 14 North 48th Avenue Yakima WA 98908 United States;X-APPLE-RADIUS=500;X-TITLE=14 North 48th Avenue:geo:-120.5733166,46.5971846
END:VEVENT
END:VCALENDAR