BEGIN:VCALENDAR
VERSION:2.0
PRODID:-//The Pacific Northwest Conference of The United Methodist Church - ECPv6.15.20//NONSGML v1.0//EN
CALSCALE:GREGORIAN
METHOD:PUBLISH
X-ORIGINAL-URL:https://www.pnwumc.org
X-WR-CALDESC:Events for The Pacific Northwest Conference of The United Methodist Church
REFRESH-INTERVAL;VALUE=DURATION:PT1H
X-Robots-Tag:noindex
X-PUBLISHED-TTL:PT1H
BEGIN:VTIMEZONE
TZID:America/Los_Angeles
BEGIN:DAYLIGHT
TZOFFSETFROM:-0800
TZOFFSETTO:-0700
TZNAME:PDT
DTSTART:20230312T100000
END:DAYLIGHT
BEGIN:STANDARD
TZOFFSETFROM:-0700
TZOFFSETTO:-0800
TZNAME:PST
DTSTART:20231105T090000
END:STANDARD
BEGIN:DAYLIGHT
TZOFFSETFROM:-0800
TZOFFSETTO:-0700
TZNAME:PDT
DTSTART:20240310T100000
END:DAYLIGHT
BEGIN:STANDARD
TZOFFSETFROM:-0700
TZOFFSETTO:-0800
TZNAME:PST
DTSTART:20241103T090000
END:STANDARD
BEGIN:DAYLIGHT
TZOFFSETFROM:-0800
TZOFFSETTO:-0700
TZNAME:PDT
DTSTART:20250309T100000
END:DAYLIGHT
BEGIN:STANDARD
TZOFFSETFROM:-0700
TZOFFSETTO:-0800
TZNAME:PST
DTSTART:20251102T090000
END:STANDARD
END:VTIMEZONE
BEGIN:VEVENT
DTSTART;TZID=America/Los_Angeles:20240530T090000
DTEND;TZID=America/Los_Angeles:20240530T170000
DTSTAMP:20260424T020253
CREATED:20230910T211529Z
LAST-MODIFIED:20231003T192452Z
UID:10000662-1717059600-1717088400@www.pnwumc.org
SUMMARY:Institutional Equity Cohort
DESCRIPTION:The date for one of six in-person Equity Cohort gatherings for individuals within the Oregon-Idaho and Pacific Northwest Annual Conferences leadership structures.
URL:https://www.pnwumc.org/event/institutional-equity-cohort-4/
LOCATION:Grotto Retreat Center\, 8840 NE Skidmore St\, Portland\, 97220\, United States
CATEGORIES:Greater NW Area,Training
ATTACH;FMTTYPE=image/png:https://www.pnwumc.org/wp-content/uploads/2023/09/Equity-Cohorts.png
ORGANIZER;CN="Kristina Gonzalez":MAILTO:kgonzalez@greaternw.org
END:VEVENT
BEGIN:VEVENT
DTSTART;TZID=America/Los_Angeles:20240531T090000
DTEND;TZID=America/Los_Angeles:20240531T170000
DTSTAMP:20260424T020253
CREATED:20231003T192151Z
LAST-MODIFIED:20231003T192151Z
UID:10000667-1717146000-1717174800@www.pnwumc.org
SUMMARY:Congregational Equity Cohort
DESCRIPTION:The date for one of six in-person Equity Cohort gatherings for Congregational Leaders within the Oregon-Idaho and Pacific Northwest Annual Conferences.
URL:https://www.pnwumc.org/event/congregational-equity-cohort-7/
LOCATION:Grotto Retreat Center\, 8840 NE Skidmore St\, Portland\, 97220\, United States
CATEGORIES:Greater NW Area,Training
ATTACH;FMTTYPE=image/png:https://www.pnwumc.org/wp-content/uploads/2023/09/Equity-Cohorts.png
ORGANIZER;CN="Kristina Gonzalez":MAILTO:kgonzalez@greaternw.org
END:VEVENT
END:VCALENDAR