BEGIN:VCALENDAR
VERSION:2.0
PRODID:-//The Pacific Northwest Conference of The United Methodist Church - ECPv6.15.20//NONSGML v1.0//EN
CALSCALE:GREGORIAN
METHOD:PUBLISH
X-ORIGINAL-URL:https://www.pnwumc.org
X-WR-CALDESC:Events for The Pacific Northwest Conference of The United Methodist Church
REFRESH-INTERVAL;VALUE=DURATION:PT1H
X-Robots-Tag:noindex
X-PUBLISHED-TTL:PT1H
BEGIN:VTIMEZONE
TZID:America/Los_Angeles
BEGIN:DAYLIGHT
TZOFFSETFROM:-0800
TZOFFSETTO:-0700
TZNAME:PDT
DTSTART:20220313T100000
END:DAYLIGHT
BEGIN:STANDARD
TZOFFSETFROM:-0700
TZOFFSETTO:-0800
TZNAME:PST
DTSTART:20221106T090000
END:STANDARD
BEGIN:DAYLIGHT
TZOFFSETFROM:-0800
TZOFFSETTO:-0700
TZNAME:PDT
DTSTART:20230312T100000
END:DAYLIGHT
BEGIN:STANDARD
TZOFFSETFROM:-0700
TZOFFSETTO:-0800
TZNAME:PST
DTSTART:20231105T090000
END:STANDARD
BEGIN:DAYLIGHT
TZOFFSETFROM:-0800
TZOFFSETTO:-0700
TZNAME:PDT
DTSTART:20240310T100000
END:DAYLIGHT
BEGIN:STANDARD
TZOFFSETFROM:-0700
TZOFFSETTO:-0800
TZNAME:PST
DTSTART:20241103T090000
END:STANDARD
END:VTIMEZONE
BEGIN:VEVENT
DTSTART;TZID=America/Los_Angeles:20231021T090000
DTEND;TZID=America/Los_Angeles:20231021T120000
DTSTAMP:20260424T141005
CREATED:20230822T233014Z
LAST-MODIFIED:20230822T233014Z
UID:10000649-1697878800-1697889600@www.pnwumc.org
SUMMARY:Advanced Preaching Class for Certified Lay Ministers and Lay Speakers
DESCRIPTION:The Advanced Preaching Class is intended to provide students with advanced skills in preaching and to give them feedback from experienced preachers in our Conference on a sermon they prepare and deliver. Participants must attend both sessions and prepare a written manuscript of a sermon on an assigned text during the week between the sessions. \nThis free course will be offered online via the Zoom Platform on October 21 and 28\, 2023\, from 9 a.m. to Noon PT. Registration is limited to nine students and closes on October 6. You can register online here: https://gnw-reg.brtapp.com/AdvancedPreaching2023 \nLaity from the Alaska\, Oregon-Idaho\, and Pacific Northwest Conferences who have completed an Introductory Course in Preaching are eligible to attend. This class qualifies as an approved advanced course for both CLMs and certified lay speakers. \nThis course will be taught by Rev. Kathy Neary and Rev. Andy Oliver. \nIf you have questions about the event\, please get in touch with Rev. Kathy Neary at kneary@pnwumc.org.
URL:https://www.pnwumc.org/event/advanced-preaching-class-for-certified-lay-ministers-and-lay-speakers/2023-10-21/
CATEGORIES:Certified Lay Minister,Laity,Training
ATTACH;FMTTYPE=image/jpeg:https://www.pnwumc.org/wp-content/uploads/2023/08/advanced-preaching.jpg
ORGANIZER;CN="Kathy Neary":MAILTO:kneary@pnwumc.org
END:VEVENT
END:VCALENDAR