BEGIN:VCALENDAR
VERSION:2.0
PRODID:-//The Pacific Northwest Conference of The United Methodist Church - ECPv6.15.20//NONSGML v1.0//EN
CALSCALE:GREGORIAN
METHOD:PUBLISH
X-ORIGINAL-URL:https://www.pnwumc.org
X-WR-CALDESC:Events for The Pacific Northwest Conference of The United Methodist Church
REFRESH-INTERVAL;VALUE=DURATION:PT1H
X-Robots-Tag:noindex
X-PUBLISHED-TTL:PT1H
BEGIN:VTIMEZONE
TZID:America/Los_Angeles
BEGIN:DAYLIGHT
TZOFFSETFROM:-0800
TZOFFSETTO:-0700
TZNAME:PDT
DTSTART:20160313T100000
END:DAYLIGHT
BEGIN:STANDARD
TZOFFSETFROM:-0700
TZOFFSETTO:-0800
TZNAME:PST
DTSTART:20161106T090000
END:STANDARD
BEGIN:DAYLIGHT
TZOFFSETFROM:-0800
TZOFFSETTO:-0700
TZNAME:PDT
DTSTART:20170312T100000
END:DAYLIGHT
BEGIN:STANDARD
TZOFFSETFROM:-0700
TZOFFSETTO:-0800
TZNAME:PST
DTSTART:20171105T090000
END:STANDARD
BEGIN:DAYLIGHT
TZOFFSETFROM:-0800
TZOFFSETTO:-0700
TZNAME:PDT
DTSTART:20180311T100000
END:DAYLIGHT
BEGIN:STANDARD
TZOFFSETFROM:-0700
TZOFFSETTO:-0800
TZNAME:PST
DTSTART:20181104T090000
END:STANDARD
BEGIN:DAYLIGHT
TZOFFSETFROM:-0800
TZOFFSETTO:-0700
TZNAME:PDT
DTSTART:20190310T100000
END:DAYLIGHT
BEGIN:STANDARD
TZOFFSETFROM:-0700
TZOFFSETTO:-0800
TZNAME:PST
DTSTART:20191103T090000
END:STANDARD
BEGIN:DAYLIGHT
TZOFFSETFROM:-0800
TZOFFSETTO:-0700
TZNAME:PDT
DTSTART:20200308T100000
END:DAYLIGHT
BEGIN:STANDARD
TZOFFSETFROM:-0700
TZOFFSETTO:-0800
TZNAME:PST
DTSTART:20201101T090000
END:STANDARD
BEGIN:DAYLIGHT
TZOFFSETFROM:-0800
TZOFFSETTO:-0700
TZNAME:PDT
DTSTART:20210314T100000
END:DAYLIGHT
BEGIN:STANDARD
TZOFFSETFROM:-0700
TZOFFSETTO:-0800
TZNAME:PST
DTSTART:20211107T090000
END:STANDARD
BEGIN:DAYLIGHT
TZOFFSETFROM:-0800
TZOFFSETTO:-0700
TZNAME:PDT
DTSTART:20220313T100000
END:DAYLIGHT
BEGIN:STANDARD
TZOFFSETFROM:-0700
TZOFFSETTO:-0800
TZNAME:PST
DTSTART:20221106T090000
END:STANDARD
BEGIN:DAYLIGHT
TZOFFSETFROM:-0800
TZOFFSETTO:-0700
TZNAME:PDT
DTSTART:20230312T100000
END:DAYLIGHT
BEGIN:STANDARD
TZOFFSETFROM:-0700
TZOFFSETTO:-0800
TZNAME:PST
DTSTART:20231105T090000
END:STANDARD
BEGIN:DAYLIGHT
TZOFFSETFROM:-0800
TZOFFSETTO:-0700
TZNAME:PDT
DTSTART:20240310T100000
END:DAYLIGHT
BEGIN:STANDARD
TZOFFSETFROM:-0700
TZOFFSETTO:-0800
TZNAME:PST
DTSTART:20241103T090000
END:STANDARD
BEGIN:DAYLIGHT
TZOFFSETFROM:-0800
TZOFFSETTO:-0700
TZNAME:PDT
DTSTART:20250309T100000
END:DAYLIGHT
BEGIN:STANDARD
TZOFFSETFROM:-0700
TZOFFSETTO:-0800
TZNAME:PST
DTSTART:20251102T090000
END:STANDARD
BEGIN:DAYLIGHT
TZOFFSETFROM:-0800
TZOFFSETTO:-0700
TZNAME:PDT
DTSTART:20260308T100000
END:DAYLIGHT
BEGIN:STANDARD
TZOFFSETFROM:-0700
TZOFFSETTO:-0800
TZNAME:PST
DTSTART:20261101T090000
END:STANDARD
END:VTIMEZONE
BEGIN:VEVENT
DTSTART;TZID=America/Los_Angeles:20251018T090000
DTEND;TZID=America/Los_Angeles:20251018T170000
DTSTAMP:20260420T071536
CREATED:20250903T212808Z
LAST-MODIFIED:20250904T023742Z
UID:10001597-1760778000-1760806800@www.pnwumc.org
SUMMARY:Connecting Neighbors preparedness training
DESCRIPTION:Be the Connection Before\, During\, and After Disaster \nWhether you’re a church leader\, volunteer\, or someone who simply wants to be part of the solution\, this training equips you to care for your family\, your congregation\, and your neighbors before and after disaster strikes. Anyone in the GNW Area is invited to attend! \nWho Should Attend?\nAnyone in your church community—no special background or experience required! \nWhat You’ll Learn: \nReady Congregants – How to prepare yourself and your household\nReady Churches – How to protect your church property and people\nReady Response – How to serve your community in disaster response and recovery \nWant to Go a Step Further?\nYou can become a Connecting Neighbors Ambassador—trained and resourced to lead workshops in your own church and beyond. It’s a great way to multiply impact and help others get ready\, too. \nThis training is FREE! Lunch\, snacks and materials are all included. Registration Closes Friday\, October 10. \nLet’s prepare together—because loving our neighbors means being ready to show up when they need us most. \nDownload a flier to promote this event! \nClick here to register today!
URL:https://www.pnwumc.org/event/connecting-neighbors-preparedness-training/
LOCATION:Edmonds United Methodist Church\, 828 Caspers Street\, Edmonds\, WA\, 98020\, United States
CATEGORIES:Disaster Response,Emergency Preparedness,Training,UMVIM
ATTACH;FMTTYPE=image/jpeg:https://www.pnwumc.org/wp-content/uploads/2025/09/Connecting-neighbors.jpg
ORGANIZER;CN="Kathy Bryson":MAILTO:brysonpnw@gmail.com
GEO:47.8176703;-122.3690318
X-APPLE-STRUCTURED-LOCATION;VALUE=URI;X-ADDRESS=Edmonds United Methodist Church 828 Caspers Street Edmonds WA 98020 United States;X-APPLE-RADIUS=500;X-TITLE=828 Caspers Street:geo:-122.3690318,47.8176703
END:VEVENT
BEGIN:VEVENT
DTSTART;TZID=America/Los_Angeles:20230826T083000
DTEND;TZID=America/Los_Angeles:20230826T170000
DTSTAMP:20260420T071536
CREATED:20230707T173421Z
LAST-MODIFIED:20230707T173421Z
UID:10000638-1693038600-1693069200@www.pnwumc.org
SUMMARY:Early Response Team Basic Training
DESCRIPTION:Be ready when the next disaster strikes to help those most in need. The Early Response Team Basic Training will prepare you on ways to clean out a flooded home\, haul debris\, sift through ashes and work alongside survivors while staying safe. The class is taught by United Methodist Committee on Relief (UMCOR) certified trainers and includes examples of recent missions\, hands-on activities\, and an opportunity to meet people with a passion to serve. Anyone 18 years or older is welcome to attend.  \nClick here to register! The registration deadline is Friday\, August 18. \nRegistration fee is $25 and includes all training materials\, lunch\, and snacks.  Scholarships are available. \nClick here to download a printable flier. \nQuestions? Contact Kathy Bryson\, PNW Conference Disaster Response Coordinator\, at brysonpnw@gmail.com\, (509) 539-2978.
URL:https://www.pnwumc.org/event/early-response-team-basic-training-3/
LOCATION:Mount Vernon First United Methodist Church\, 1607 E. Division\, Mount Vernon\, WA\, 98274\, United States
CATEGORIES:Disaster Response,Training,UMVIM
ATTACH;FMTTYPE=image/jpeg:https://www.pnwumc.org/wp-content/uploads/2023/07/ERT_Training-fall-2023.jpg
ORGANIZER;CN="Kathy Bryson":MAILTO:brysonpnw@gmail.com
GEO:48.4210479;-122.321072
X-APPLE-STRUCTURED-LOCATION;VALUE=URI;X-ADDRESS=Mount Vernon First United Methodist Church 1607 E. Division Mount Vernon WA 98274 United States;X-APPLE-RADIUS=500;X-TITLE=1607 E. Division:geo:-122.321072,48.4210479
END:VEVENT
BEGIN:VEVENT
DTSTART;VALUE=DATE:20200508
DTEND;VALUE=DATE:20200510
DTSTAMP:20260420T071536
CREATED:20191116T081458Z
LAST-MODIFIED:20200331T055116Z
UID:10000412-1588896000-1589068799@www.pnwumc.org
SUMMARY:POSTPONED - 4th Annual Early Response Team "Spring Training"
DESCRIPTION:This event had been postponed due to COVID-19. \nBasic ERT Class\, Advanced Classes\, special presentations\, and speakers will all be offered. More details to follow. Contact Kathy Bryson for info at brysonpnw@gmail.com.
URL:https://www.pnwumc.org/event/4th-annual-early-response-team-spring-training/
LOCATION:Lazy F Camp and Retreat Center\, 16170 Manastash Road\, Ellensburg\, WA\, 98926\, United States
CATEGORIES:Annual Conference,Emergency Preparedness,Training,UMVIM
GEO:46.961686;-120.775124
X-APPLE-STRUCTURED-LOCATION;VALUE=URI;X-ADDRESS=Lazy F Camp and Retreat Center 16170 Manastash Road Ellensburg WA 98926 United States;X-APPLE-RADIUS=500;X-TITLE=16170 Manastash Road:geo:-120.775124,46.961686
END:VEVENT
BEGIN:VEVENT
DTSTART;TZID=America/Los_Angeles:20191026T083000
DTEND;TZID=America/Los_Angeles:20191026T170000
DTSTAMP:20260420T071536
CREATED:20190920T175715Z
LAST-MODIFIED:20190920T180210Z
UID:10000405-1572078600-1572109200@www.pnwumc.org
SUMMARY:Early Response Team Basic Training
DESCRIPTION:Tornado in Port Orchard • Typhoons in Saipan • Floods in Oklahoma\nWe’re There\nBe ready when the next disaster strikes to help those most in need. The Early Response Team Basic Training will prepare you on ways to clean out a flooded home\, haul debris\, sift through ashes and work alongside survivors while staying safe. The class is taught by United Methodist Committee on Relief (UMCOR) certified trainers and includes examples of recent missions\, hands-on activities and an opportunity to meet people with a passion to serve. Anyone 18 years or older is welcomed to attend. \nRegistration fee is $25 and includes all training materials\, lunch\, and snacks. \nClick Here to Register Online \nDeadline for registration is Friday\, October 18. \nClick here to download a flier. \nQuestions? Contact Kathy Bryson\, PNW Conference Disaster Response Coordinator\, at brysonpnw@gmail.com.
URL:https://www.pnwumc.org/event/early-response-team-basic-training/
LOCATION:Edmonds United Methodist Church\, 828 Caspers Street\, Edmonds\, WA\, 98020\, United States
CATEGORIES:Disaster Response,Emergency Preparedness,Training,UMVIM
ATTACH;FMTTYPE=image/jpeg:https://www.pnwumc.org/wp-content/uploads/2019/09/ERT_EventBrite-Edmonds-2019.jpg
GEO:47.8176703;-122.3690318
X-APPLE-STRUCTURED-LOCATION;VALUE=URI;X-ADDRESS=Edmonds United Methodist Church 828 Caspers Street Edmonds WA 98020 United States;X-APPLE-RADIUS=500;X-TITLE=828 Caspers Street:geo:-122.3690318,47.8176703
END:VEVENT
BEGIN:VEVENT
DTSTART;VALUE=DATE:20190510
DTEND;VALUE=DATE:20190512
DTSTAMP:20260420T071536
CREATED:20181203T204433Z
LAST-MODIFIED:20190323T042100Z
UID:10000341-1557446400-1557619199@www.pnwumc.org
SUMMARY:PNW Early Response Team Spring Training
DESCRIPTION:Floods – Fires – Hurricanes – Tornadoes \nWe’re there. \nEarly Response Team members are trained and badged volunteers ready to clean out flooded homes\, sift ashes\, haul debris after local\, regional and national disasters. Teams work alongside and provide a caring Christian presence for disaster survivors. This two-day training offers Basic training for first-time participants and Advanced classes for current and renewing badge holders. \nFor more information please contact Kathy Bryson at pnwumcert@gmail.com. \nCLICK HERE to Register Today!
URL:https://www.pnwumc.org/event/pnw-early-response-team-spring-training/
LOCATION:Lazy F Camp and Retreat Center\, 16170 Manastash Road\, Ellensburg\, WA\, 98926\, United States
CATEGORIES:Annual Conference,Clergy,Disaster Response,Emergency Preparedness,Laity,Training,UMVIM
ATTACH;FMTTYPE=image/jpeg:https://www.pnwumc.org/wp-content/uploads/2018/12/SaveDATE_ERTSpringTraining-1.jpg
ORGANIZER;CN="Kathy Bryson":MAILTO:brysonpnw@gmail.com
GEO:46.961686;-120.775124
X-APPLE-STRUCTURED-LOCATION;VALUE=URI;X-ADDRESS=Lazy F Camp and Retreat Center 16170 Manastash Road Ellensburg WA 98926 United States;X-APPLE-RADIUS=500;X-TITLE=16170 Manastash Road:geo:-120.775124,46.961686
END:VEVENT
BEGIN:VEVENT
DTSTART;TZID=America/Los_Angeles:20190316T090000
DTEND;TZID=America/Los_Angeles:20190316T150000
DTSTAMP:20260420T071536
CREATED:20190201T015706Z
LAST-MODIFIED:20190201T015706Z
UID:10000359-1552726800-1552748400@www.pnwumc.org
SUMMARY:Volunteer in Missions Training
DESCRIPTION:You are invited to join Cheryl Reagan\, our PNW UMVIM Coordinator\, for Volunteer In Mission leader training. Not planning to be a team leader? This information will also be useful to team members in general – we welcome everyone who wants to know more about volunteer service through UMVIM and/or leading mission trips. \nCost is $10/person. Space is limited so register early by contacting Laurie Edwards at lauriee@fumcbellevue.org.
URL:https://www.pnwumc.org/event/volunteer-in-missions-training/
LOCATION:Bellevue First UMC\, 1934 108th Ave NE\, Bellevue\, WA\, 98004\, United States
CATEGORIES:Training,UMVIM
ATTACH;FMTTYPE=image/jpeg:https://www.pnwumc.org/wp-content/uploads/2017/08/tools-UMVIM-1.jpg
GEO:47.6278507;-122.1954816
X-APPLE-STRUCTURED-LOCATION;VALUE=URI;X-ADDRESS=Bellevue First UMC 1934 108th Ave NE Bellevue WA 98004 United States;X-APPLE-RADIUS=500;X-TITLE=1934 108th Ave NE:geo:-122.1954816,47.6278507
END:VEVENT
BEGIN:VEVENT
DTSTART;TZID=America/Los_Angeles:20181027T083000
DTEND;TZID=America/Los_Angeles:20181027T170000
DTSTAMP:20260420T071536
CREATED:20180817T232406Z
LAST-MODIFIED:20181024T224157Z
UID:10000282-1540629000-1540659600@www.pnwumc.org
SUMMARY:CANCELLED: Fall Early Response Team Training
DESCRIPTION:  \nBe ready to help when a disaster strikes. Learn from experienced instructors how to clean out a flooded home\, sift through ashes and work alongside survivors while staying safe. \n$25 for the Basic class (8:30am – 5:00pm)\, $10 for Advanced Classes (8:30am – 12:30pm; for current or renewing ERT badge holders) includes training materials\, lunch and snacks. \nClasses are open to anyone 18 years or older. \nDeadline to register is Friday\, October 19. \nHave questions or like more information? Contact Kathy Bryson\, PNWUMC ERT Coordinatoratpnwumcert@gmail.comor (509)539-2978 \nClick here to learn more and register today!
URL:https://www.pnwumc.org/event/fall-early-response-team-training/
LOCATION:Bremerton United Methodist Church\, 1150 Marine Dr\, Bremerton\, WA\, 98312\, United States
CATEGORIES:Annual Conference,Disaster Response,Emergency Preparedness,Training,UMVIM
GEO:47.572687;-122.6649575
X-APPLE-STRUCTURED-LOCATION;VALUE=URI;X-ADDRESS=Bremerton United Methodist Church 1150 Marine Dr Bremerton WA 98312 United States;X-APPLE-RADIUS=500;X-TITLE=1150 Marine Dr:geo:-122.6649575,47.572687
END:VEVENT
BEGIN:VEVENT
DTSTART;TZID=America/Los_Angeles:20180630T083000
DTEND;TZID=America/Los_Angeles:20180630T170000
DTSTAMP:20260420T071536
CREATED:20180523T062118Z
LAST-MODIFIED:20180523T062118Z
UID:10000271-1530347400-1530378000@www.pnwumc.org
SUMMARY:Early Response Team - Basic Training Class
DESCRIPTION:Be ready to help when a disaster strikes. Learn how to clean out a flooded home\, sift through ashes and work alongside survivors while staying safe. The class is open to anyone 18 years or older. \nOur registration fee of $25 includes training materials\, lunch and snacks. The deadline for registration is Friday\, June 22\, 2018. \nHave questions or like more information? Contact Kathy Bryson\, PNWUMC ERT Coordinator\, at pnwumcert@gmail.com\, (509) 539-2978. \nCLICK HERE to register!
URL:https://www.pnwumc.org/event/early-response-team-basic-training-class/
LOCATION:Cheney United Methodist Church\, 204 4th Street\, Cheney\, WA\, 99004\, United States
CATEGORIES:Annual Conference,Clergy,Disaster Response,Laity,Training,UMVIM
ATTACH;FMTTYPE=image/jpeg:https://www.pnwumc.org/wp-content/uploads/2018/05/FB_ERT_Cheney_June_30-mc.jpg
ORGANIZER;CN="Kathy Bryson":MAILTO:brysonpnw@gmail.com
GEO:47.4875433;-117.5797971
X-APPLE-STRUCTURED-LOCATION;VALUE=URI;X-ADDRESS=Cheney United Methodist Church 204 4th Street Cheney WA 99004 United States;X-APPLE-RADIUS=500;X-TITLE=204 4th Street:geo:-117.5797971,47.4875433
END:VEVENT
BEGIN:VEVENT
DTSTART;TZID=America/Los_Angeles:20171118T090000
DTEND;TZID=America/Los_Angeles:20171118T153000
DTSTAMP:20260420T071536
CREATED:20170825T170934Z
LAST-MODIFIED:20170914T060313Z
UID:10000141-1510995600-1511019000@www.pnwumc.org
SUMMARY:UM Volunteers in Mission Team Leader/Team Member Training
DESCRIPTION:You are invited to join your Western Jurisdiction United Methodist Volunteers in Mission (UMVIM) Coordinator and your Pacific Northwest UMVIM Coordinator for new\, updated team leader training. Not planning to be a team leader? This information will also be useful to team members in general – we welcome everyone who wants to know more about volunteer service through UMVIM. \nEast side training is at Riverview UMC in Pasco\, October 28th\, 9:00 – 3:30. \nRegister for East side Training \nWest side training is at Tumwater UMC\, November 18th\, 9:00 – 3:30. \nRegister for West side Training \nCost for the training is $20 to cover lunch and materials.
URL:https://www.pnwumc.org/event/um-volunteers-in-mission-team-leaderteam-member-training-2017-11-18/
LOCATION:Tumwater UMC\, 1401 Lake Park Dr SW\, Tumwater\, WA\, 98512\, United States
CATEGORIES:Disaster Response,Training,UMVIM
ATTACH;FMTTYPE=image/jpeg:https://www.pnwumc.org/wp-content/uploads/2017/08/tools-UMVIM-1.jpg
GEO:47.003482;-122.9195747
X-APPLE-STRUCTURED-LOCATION;VALUE=URI;X-ADDRESS=Tumwater UMC 1401 Lake Park Dr SW Tumwater WA 98512 United States;X-APPLE-RADIUS=500;X-TITLE=1401 Lake Park Dr SW:geo:-122.9195747,47.003482
END:VEVENT
BEGIN:VEVENT
DTSTART;TZID=America/Los_Angeles:20171104T080000
DTEND;TZID=America/Los_Angeles:20171104T160000
DTSTAMP:20260420T071536
CREATED:20171010T213728Z
LAST-MODIFIED:20171030T215913Z
UID:10000163-1509782400-1509811200@www.pnwumc.org
SUMMARY:"Be Ready to Answer the Call" - ERT Training Kennewick First UMC
DESCRIPTION:Learn from experienced volunteers\, participate in hands-on activities and understand the right way to help disaster survivors move towards their “new normal”. Training emphasizes teaming skills\, safety and ways to clear out flood debris. Classes are open to anyone 18 years or older. Lunch is provided and there is no cost for the training. \nERT Basic Class: 8:30am – 4:00pm \nERT Refresher Course: (For previously certified ERT volunteers)12 Noon – 4:00pm  featuring Site Assessment and Team Leader training \nClick here to Register \nRegistration is now closed. \nFor questions or additional information please email Kathy Bryson\, PNW ERT Coordinator\, at pnwumcert@gmail.com or call 509-539-2978.
URL:https://www.pnwumc.org/event/ert-kennewick/
LOCATION:WA
CATEGORIES:Training,UMVIM
ATTACH;FMTTYPE=image/png:https://www.pnwumc.org/wp-content/uploads/2017/10/FB_ERT_Kennewick_1080px_Oct30.png
ORGANIZER;CN="Kathy Bryson":MAILTO:brysonpnw@gmail.com
END:VEVENT
BEGIN:VEVENT
DTSTART;TZID=America/Los_Angeles:20171028T090000
DTEND;TZID=America/Los_Angeles:20171028T153000
DTSTAMP:20260420T071536
CREATED:20170825T170934Z
LAST-MODIFIED:20170914T060313Z
UID:10000140-1509181200-1509204600@www.pnwumc.org
SUMMARY:UM Volunteers in Mission Team Leader/Team Member Training
DESCRIPTION:You are invited to join your Western Jurisdiction United Methodist Volunteers in Mission (UMVIM) Coordinator and your Pacific Northwest UMVIM Coordinator for new\, updated team leader training. Not planning to be a team leader? This information will also be useful to team members in general – we welcome everyone who wants to know more about volunteer service through UMVIM. \nEast side training is at Riverview UMC in Pasco\, October 28th\, 9:00 – 3:30. \nRegister for East side Training \nWest side training is at Tumwater UMC\, November 18th\, 9:00 – 3:30. \nRegister for West side Training \nCost for the training is $20 to cover lunch and materials.
URL:https://www.pnwumc.org/event/um-volunteers-in-mission-team-leaderteam-member-training/
LOCATION:Pasco: Riverview UMC\, 4012 W. Court Street\, Pasco\, WA\, 99302-2306\, United States
CATEGORIES:Disaster Response,Training,UMVIM
ATTACH;FMTTYPE=image/jpeg:https://www.pnwumc.org/wp-content/uploads/2017/08/tools-UMVIM-1.jpg
GEO:46.241039;-119.144229
X-APPLE-STRUCTURED-LOCATION;VALUE=URI;X-ADDRESS=Pasco: Riverview UMC 4012 W. Court Street Pasco WA 99302-2306 United States;X-APPLE-RADIUS=500;X-TITLE=4012 W. Court Street:geo:-119.144229,46.241039
END:VEVENT
BEGIN:VEVENT
DTSTART;TZID=America/Los_Angeles:20171021T100000
DTEND;TZID=America/Los_Angeles:20171021T120000
DTSTAMP:20260420T071536
CREATED:20170915T190720Z
LAST-MODIFIED:20170915T190720Z
UID:10000154-1508580000-1508587200@www.pnwumc.org
SUMMARY:A Fresh Start at Riverton Park – A New Beginning Celebration!
DESCRIPTION:Riverton Park UMC invites you to join them as they celebrate their new beginning in deepening service with their neighbors. \nThe church has faithfully provided emergency and long-term housing\, as well as a food bank and a location for cooking meals. Now\, they’re planning to put permanent tent pads in place\, refurbish a garage to be used as an emergency shelter\, and repair and replace their single shower. \nView RPUMC’s Project list. \nProject Coordinator\, the Rev. Steve London\, invites you to join the church and their neighbors in celebrating this new beginning. Visitors are welcome to view this project and hear an explanation of the future plans to be made. Then\, a southern style lunch will be served. If you plan to attend\, please contact Steve London at stevelondo@msn.com so he knows how many to cook for! \nRiverton Park is applying to be a United Methodist Volunteers In Mission (UMVIM)site. Much more building and refurbishing is needed. \n\nIf you are interested in bringing a team for work on-site\, contact UMVIM Coordinator Wendy Riddle at wriddle56@gmail.com.
URL:https://www.pnwumc.org/event/a-fresh-start-at-riverton-park-a-new-beginning-celebration/
LOCATION:Riverton Park United Methodist Church\, 3118 S. 140th. St.\, Tukwila\, WA\, 98168\, United States
CATEGORIES:Local Church,SeaTac,UMVIM
ORGANIZER;CN="Steve London":MAILTO:stevelondo@msn.com
GEO:47.4785987;-122.2924361
X-APPLE-STRUCTURED-LOCATION;VALUE=URI;X-ADDRESS=Riverton Park United Methodist Church 3118 S. 140th. St. Tukwila WA 98168 United States;X-APPLE-RADIUS=500;X-TITLE=3118 S. 140th. St.:geo:-122.2924361,47.4785987
END:VEVENT
BEGIN:VEVENT
DTSTART;TZID=America/Los_Angeles:20171014T080000
DTEND;TZID=America/Los_Angeles:20171014T163000
DTSTAMP:20260420T071536
CREATED:20170912T224141Z
LAST-MODIFIED:20170913T212041Z
UID:10000148-1507968000-1507998600@www.pnwumc.org
SUMMARY:"Be Ready to Answer the Call" - ERT Training Kitsap County
DESCRIPTION:The PNWUMC Disaster Response team is hosting an Early Response Team Basic Training October 14\, 2017 at Bremerton UMC.  UMCOR trained instructors will teach the ERT Basic and Refresher Class. For ERT members needing their badge renewed\, the refresher segment is just the afternoon portion.  Must be 18 years or older to participate. Classes are free.  Lunch is included for both classes. \nClasses offerred:\nBasic Class for new participants  8:30am – 4:00pm\nRefresher Course for badge renewal  12:00pm – 4:00pm \nClick here to register \nRegistration Closes October 5th.
URL:https://www.pnwumc.org/event/be-ready-to-answer-the-call-ert-training-kitsap-county/
LOCATION:Bremerton United Methodist Church\, 1150 Marine Dr\, Bremerton\, WA\, 98312\, United States
CATEGORIES:Disaster Response,Training,UMVIM
ATTACH;FMTTYPE=image/png:https://www.pnwumc.org/wp-content/uploads/2017/09/FB_ERTKitsapTraining.png
ORGANIZER;CN="Kathy Bryson":MAILTO:brysonpnw@gmail.com
GEO:47.572687;-122.6649575
X-APPLE-STRUCTURED-LOCATION;VALUE=URI;X-ADDRESS=Bremerton United Methodist Church 1150 Marine Dr Bremerton WA 98312 United States;X-APPLE-RADIUS=500;X-TITLE=1150 Marine Dr:geo:-122.6649575,47.572687
END:VEVENT
END:VCALENDAR