BEGIN:VCALENDAR
VERSION:2.0
PRODID:-//The Pacific Northwest Conference of The United Methodist Church - ECPv6.15.20//NONSGML v1.0//EN
CALSCALE:GREGORIAN
METHOD:PUBLISH
X-ORIGINAL-URL:https://www.pnwumc.org
X-WR-CALDESC:Events for The Pacific Northwest Conference of The United Methodist Church
REFRESH-INTERVAL;VALUE=DURATION:PT1H
X-Robots-Tag:noindex
X-PUBLISHED-TTL:PT1H
BEGIN:VTIMEZONE
TZID:America/Los_Angeles
BEGIN:DAYLIGHT
TZOFFSETFROM:-0800
TZOFFSETTO:-0700
TZNAME:PDT
DTSTART:20230312T100000
END:DAYLIGHT
BEGIN:STANDARD
TZOFFSETFROM:-0700
TZOFFSETTO:-0800
TZNAME:PST
DTSTART:20231105T090000
END:STANDARD
BEGIN:DAYLIGHT
TZOFFSETFROM:-0800
TZOFFSETTO:-0700
TZNAME:PDT
DTSTART:20240310T100000
END:DAYLIGHT
BEGIN:STANDARD
TZOFFSETFROM:-0700
TZOFFSETTO:-0800
TZNAME:PST
DTSTART:20241103T090000
END:STANDARD
BEGIN:DAYLIGHT
TZOFFSETFROM:-0800
TZOFFSETTO:-0700
TZNAME:PDT
DTSTART:20250309T100000
END:DAYLIGHT
BEGIN:STANDARD
TZOFFSETFROM:-0700
TZOFFSETTO:-0800
TZNAME:PST
DTSTART:20251102T090000
END:STANDARD
END:VTIMEZONE
BEGIN:VEVENT
DTSTART;TZID=America/Los_Angeles:20240829T150000
DTEND;TZID=America/Los_Angeles:20240829T160000
DTSTAMP:20260424T052643
CREATED:20240815T224205Z
LAST-MODIFIED:20240815T224205Z
UID:10000888-1724943600-1724947200@www.pnwumc.org
SUMMARY:Online CLM Orientation for Clergy
DESCRIPTION:The Desert Southwest Conference is inviting all clergy to join them in an “ABC’s of CLMs” session on Thursday\, Aug. 29\, 3-4 p.m. PT. You will hear from clergy persons who are in team ministry with Certified Lay Ministers (CLMs)\, learn about the application/accountability process for a CLM\, and “why” there should be a CLM at every church. \nWhile some of the process pieces may differ from conference to conference\, our PNW Conference Director of Lay Servant Ministry John Townsend recommends that clergy attend this event\, expecting that it will be a helpful and informative event. \nClick here to join this orientation on Zoom. \nFor event information\, contact Kathy Jewell at kpjewell7676@gmail.com.
URL:https://www.pnwumc.org/event/online-clm-orientation-for-clergy/
CATEGORIES:Certified Lay Minister,Laity,Training
ATTACH;FMTTYPE=image/jpeg:https://www.pnwumc.org/wp-content/uploads/2016/09/Lay-servant-1x1-e1475794755829.jpg
END:VEVENT
END:VCALENDAR