BEGIN:VCALENDAR
VERSION:2.0
PRODID:-//The Pacific Northwest Conference of The United Methodist Church - ECPv6.15.20//NONSGML v1.0//EN
CALSCALE:GREGORIAN
METHOD:PUBLISH
X-WR-CALNAME:The Pacific Northwest Conference of The United Methodist Church
X-ORIGINAL-URL:https://www.pnwumc.org
X-WR-CALDESC:Events for The Pacific Northwest Conference of The United Methodist Church
REFRESH-INTERVAL;VALUE=DURATION:PT1H
X-Robots-Tag:noindex
X-PUBLISHED-TTL:PT1H
BEGIN:VTIMEZONE
TZID:America/Los_Angeles
BEGIN:DAYLIGHT
TZOFFSETFROM:-0800
TZOFFSETTO:-0700
TZNAME:PDT
DTSTART:20240310T100000
END:DAYLIGHT
BEGIN:STANDARD
TZOFFSETFROM:-0700
TZOFFSETTO:-0800
TZNAME:PST
DTSTART:20241103T090000
END:STANDARD
BEGIN:DAYLIGHT
TZOFFSETFROM:-0800
TZOFFSETTO:-0700
TZNAME:PDT
DTSTART:20250309T100000
END:DAYLIGHT
BEGIN:STANDARD
TZOFFSETFROM:-0700
TZOFFSETTO:-0800
TZNAME:PST
DTSTART:20251102T090000
END:STANDARD
BEGIN:DAYLIGHT
TZOFFSETFROM:-0800
TZOFFSETTO:-0700
TZNAME:PDT
DTSTART:20260308T100000
END:DAYLIGHT
BEGIN:STANDARD
TZOFFSETFROM:-0700
TZOFFSETTO:-0800
TZNAME:PST
DTSTART:20261101T090000
END:STANDARD
END:VTIMEZONE
BEGIN:VEVENT
DTSTART;TZID=America/Los_Angeles:20251101T090000
DTEND;TZID=America/Los_Angeles:20251101T113000
DTSTAMP:20260422T154303
CREATED:20250826T232644Z
LAST-MODIFIED:20250826T232644Z
UID:10001587-1761987600-1761996600@www.pnwumc.org
SUMMARY:Lay Servant Ministries: Leading Worship
DESCRIPTION:Lay Servants who have completed the Basic Course are invited to participate in this four-week class on leading worship\, led by Rev. Dr. Desi Larson\, from November 1-22\, 2025. The class will be held on Zoom on Saturdays from 9:00-11:30am. This class is worth 1 CEU and counts toward either Lay Servant or Lay Speaker Certification. It is also a prerequisite for Certified Lay Minister Modules. \nUsing Hoyt Hickman’s book\, Worshiping with United Methodists\, this course will help students understand the basic pattern of United Methodist worship within the broader context of Christian worship. Drawing upon five basic principles\, the author explains the formative nature of worship and how it can revitalize persons’ lives. \nThe Rev. Dr. Desi Larson is a member of the Oregon-Idaho Conference\, currently serving as Pastor of Trinity UMC in Sequim\, WA. Prior to moving to the western US in 2016\, Desi was a member of the New England Conference and served as Pastor of several churches in Maine. Desi holds a BA degree in English and Visual Arts from Waynesburg College in Pennsylvania and a Master of Divinity from Boston University in Massachusetts. Being a life-long learner\, Pastor Desi also received MS and Ph.D. degrees in Adult Education from Cornell University in New York. \nDATES: November 1\, 8\, 15\, and 22 \nTIME: Saturdays\, 9:00-11:30am PST     \nWHERE: Zoom (Link will be sent with registration confirmation)  \nFEE:  the cost of the book — Worshiping with United Methodists by Hoyt Hickman ($13.99 at Cokesbury\, or $20.99 at Amazon; ISBN 13: 9780687335268) \nParticipant Requirements: Must have completed the Basic course. Each participant must have a book\, read it prior to the first session\, complete assignments\, and be fully engaged in all 4 sessions with audio and video capability active. The registration deadline is October 20. \nContact Rev Sheila Miranda\, smiranda@pnwumc.org\, with questions or if you need assistance. \nTo register\, please complete the form on our registration website. 
URL:https://www.pnwumc.org/event/lay-servant-ministries-leading-worship-2/2025-11-01/
LOCATION:Zoom
CATEGORIES:Certified Lay Minister,Education,Laity,Online Training,Training
ATTACH;FMTTYPE=image/png:https://www.pnwumc.org/wp-content/uploads/2023/08/LayServantMinistries16-9.png
ORGANIZER;CN="Sheila Miranda":MAILTO:SMiranda@pnwumc.org
END:VEVENT
BEGIN:VEVENT
DTSTART;TZID=America/Los_Angeles:20251105T180000
DTEND;TZID=America/Los_Angeles:20251105T200000
DTSTAMP:20260422T154303
CREATED:20250701T171355Z
LAST-MODIFIED:20250701T193257Z
UID:10001563-1762365600-1762372800@www.pnwumc.org
SUMMARY:Lay Servant Ministries: Advanced Course - Called To Preach
DESCRIPTION:Join Rev. Joanne Coleman Campbell as she leads you through the Advanced Course on Preaching\, “Called to Preach.” This course is designed for those who have not completed formal preaching training\, for pastors seeking a basic refresher course\, and for others who are called upon to preach in a pastor’s absence. Called to Preach is the required preaching course in the lay Speaker track of study.  Register:  https://gnw-reg.brtapp.com/LayServantMinistriesACCalledToPreach \n  \n 
URL:https://www.pnwumc.org/event/lay-servant-ministries-advanced-course-called-to-preach-wednesday/2025-11-05/
LOCATION:Zoom
CATEGORIES:Certified Lay Minister,Laity,Online Training,Training
ATTACH;FMTTYPE=image/png:https://www.pnwumc.org/wp-content/uploads/2025/01/Called-to-Preach-Section-1-featured-image.png
ORGANIZER;CN="Joanne Coleman Campbell":MAILTO:jecolecamp@gmail.com
END:VEVENT
BEGIN:VEVENT
DTSTART;TZID=America/Los_Angeles:20251108T090000
DTEND;TZID=America/Los_Angeles:20251108T113000
DTSTAMP:20260422T154303
CREATED:20250826T232644Z
LAST-MODIFIED:20250826T232644Z
UID:10001588-1762592400-1762601400@www.pnwumc.org
SUMMARY:Lay Servant Ministries: Leading Worship
DESCRIPTION:Lay Servants who have completed the Basic Course are invited to participate in this four-week class on leading worship\, led by Rev. Dr. Desi Larson\, from November 1-22\, 2025. The class will be held on Zoom on Saturdays from 9:00-11:30am. This class is worth 1 CEU and counts toward either Lay Servant or Lay Speaker Certification. It is also a prerequisite for Certified Lay Minister Modules. \nUsing Hoyt Hickman’s book\, Worshiping with United Methodists\, this course will help students understand the basic pattern of United Methodist worship within the broader context of Christian worship. Drawing upon five basic principles\, the author explains the formative nature of worship and how it can revitalize persons’ lives. \nThe Rev. Dr. Desi Larson is a member of the Oregon-Idaho Conference\, currently serving as Pastor of Trinity UMC in Sequim\, WA. Prior to moving to the western US in 2016\, Desi was a member of the New England Conference and served as Pastor of several churches in Maine. Desi holds a BA degree in English and Visual Arts from Waynesburg College in Pennsylvania and a Master of Divinity from Boston University in Massachusetts. Being a life-long learner\, Pastor Desi also received MS and Ph.D. degrees in Adult Education from Cornell University in New York. \nDATES: November 1\, 8\, 15\, and 22 \nTIME: Saturdays\, 9:00-11:30am PST     \nWHERE: Zoom (Link will be sent with registration confirmation)  \nFEE:  the cost of the book — Worshiping with United Methodists by Hoyt Hickman ($13.99 at Cokesbury\, or $20.99 at Amazon; ISBN 13: 9780687335268) \nParticipant Requirements: Must have completed the Basic course. Each participant must have a book\, read it prior to the first session\, complete assignments\, and be fully engaged in all 4 sessions with audio and video capability active. The registration deadline is October 20. \nContact Rev Sheila Miranda\, smiranda@pnwumc.org\, with questions or if you need assistance. \nTo register\, please complete the form on our registration website. 
URL:https://www.pnwumc.org/event/lay-servant-ministries-leading-worship-2/2025-11-08/
LOCATION:Zoom
CATEGORIES:Certified Lay Minister,Education,Laity,Online Training,Training
ATTACH;FMTTYPE=image/png:https://www.pnwumc.org/wp-content/uploads/2023/08/LayServantMinistries16-9.png
ORGANIZER;CN="Sheila Miranda":MAILTO:SMiranda@pnwumc.org
END:VEVENT
BEGIN:VEVENT
DTSTART;TZID=America/Los_Angeles:20251112T180000
DTEND;TZID=America/Los_Angeles:20251112T200000
DTSTAMP:20260422T154303
CREATED:20250701T171355Z
LAST-MODIFIED:20250701T193257Z
UID:10001564-1762970400-1762977600@www.pnwumc.org
SUMMARY:Lay Servant Ministries: Advanced Course - Called To Preach
DESCRIPTION:Join Rev. Joanne Coleman Campbell as she leads you through the Advanced Course on Preaching\, “Called to Preach.” This course is designed for those who have not completed formal preaching training\, for pastors seeking a basic refresher course\, and for others who are called upon to preach in a pastor’s absence. Called to Preach is the required preaching course in the lay Speaker track of study.  Register:  https://gnw-reg.brtapp.com/LayServantMinistriesACCalledToPreach \n  \n 
URL:https://www.pnwumc.org/event/lay-servant-ministries-advanced-course-called-to-preach-wednesday/2025-11-12/
LOCATION:Zoom
CATEGORIES:Certified Lay Minister,Laity,Online Training,Training
ATTACH;FMTTYPE=image/png:https://www.pnwumc.org/wp-content/uploads/2025/01/Called-to-Preach-Section-1-featured-image.png
ORGANIZER;CN="Joanne Coleman Campbell":MAILTO:jecolecamp@gmail.com
END:VEVENT
BEGIN:VEVENT
DTSTART;TZID=America/Los_Angeles:20251115T090000
DTEND;TZID=America/Los_Angeles:20251115T113000
DTSTAMP:20260422T154303
CREATED:20250826T232644Z
LAST-MODIFIED:20250826T232644Z
UID:10001589-1763197200-1763206200@www.pnwumc.org
SUMMARY:Lay Servant Ministries: Leading Worship
DESCRIPTION:Lay Servants who have completed the Basic Course are invited to participate in this four-week class on leading worship\, led by Rev. Dr. Desi Larson\, from November 1-22\, 2025. The class will be held on Zoom on Saturdays from 9:00-11:30am. This class is worth 1 CEU and counts toward either Lay Servant or Lay Speaker Certification. It is also a prerequisite for Certified Lay Minister Modules. \nUsing Hoyt Hickman’s book\, Worshiping with United Methodists\, this course will help students understand the basic pattern of United Methodist worship within the broader context of Christian worship. Drawing upon five basic principles\, the author explains the formative nature of worship and how it can revitalize persons’ lives. \nThe Rev. Dr. Desi Larson is a member of the Oregon-Idaho Conference\, currently serving as Pastor of Trinity UMC in Sequim\, WA. Prior to moving to the western US in 2016\, Desi was a member of the New England Conference and served as Pastor of several churches in Maine. Desi holds a BA degree in English and Visual Arts from Waynesburg College in Pennsylvania and a Master of Divinity from Boston University in Massachusetts. Being a life-long learner\, Pastor Desi also received MS and Ph.D. degrees in Adult Education from Cornell University in New York. \nDATES: November 1\, 8\, 15\, and 22 \nTIME: Saturdays\, 9:00-11:30am PST     \nWHERE: Zoom (Link will be sent with registration confirmation)  \nFEE:  the cost of the book — Worshiping with United Methodists by Hoyt Hickman ($13.99 at Cokesbury\, or $20.99 at Amazon; ISBN 13: 9780687335268) \nParticipant Requirements: Must have completed the Basic course. Each participant must have a book\, read it prior to the first session\, complete assignments\, and be fully engaged in all 4 sessions with audio and video capability active. The registration deadline is October 20. \nContact Rev Sheila Miranda\, smiranda@pnwumc.org\, with questions or if you need assistance. \nTo register\, please complete the form on our registration website. 
URL:https://www.pnwumc.org/event/lay-servant-ministries-leading-worship-2/2025-11-15/
LOCATION:Zoom
CATEGORIES:Certified Lay Minister,Education,Laity,Online Training,Training
ATTACH;FMTTYPE=image/png:https://www.pnwumc.org/wp-content/uploads/2023/08/LayServantMinistries16-9.png
ORGANIZER;CN="Sheila Miranda":MAILTO:SMiranda@pnwumc.org
END:VEVENT
BEGIN:VEVENT
DTSTART;TZID=America/Los_Angeles:20251115T090000
DTEND;TZID=America/Los_Angeles:20251115T150000
DTSTAMP:20260422T154303
CREATED:20250827T000836Z
LAST-MODIFIED:20250910T202532Z
UID:10001594-1763197200-1763218800@www.pnwumc.org
SUMMARY:Roots & Wings: Puget Sound District Training
DESCRIPTION:Laity and clergy of the Puget Sound District are invited to join use for our annual training event. In an effort to make the event more accessible\, we are once again hosting Roots & Wings on three different dates in different locations across the district. The dates and locations are: \nSaturday\, September 27 – Central UMC\, Sedro-Woolley\nSaturday\, October 25 – Community UMC\, Port Hadlock\nSaturday\, November 15 – Haller Lake UMC\, Seattle \nEach location will feature members of the church sharing about ministry that is happening in their community\, along with tips and suggestions for other churches to consider. There will also be other workshops across a variety of topics. \nRegistration for Roots & Wings here.
URL:https://www.pnwumc.org/event/roots-wings-puget-sound-district-training-6/
LOCATION:Haller Lake United Methodist Church\, 13055 1st Ave NE\, Seattle\, WA\, 98125\, United States
CATEGORIES:District,Laity,Puget Sound,Training
ATTACH;FMTTYPE=image/png:https://www.pnwumc.org/wp-content/uploads/2025/08/Roots-Wings-logo-2025-smaller-file.png
GEO:47.7246388;-122.3294304
X-APPLE-STRUCTURED-LOCATION;VALUE=URI;X-ADDRESS=Haller Lake United Methodist Church 13055 1st Ave NE Seattle WA 98125 United States;X-APPLE-RADIUS=500;X-TITLE=13055 1st Ave NE:geo:-122.3294304,47.7246388
END:VEVENT
BEGIN:VEVENT
DTSTART;TZID=America/Los_Angeles:20251119T180000
DTEND;TZID=America/Los_Angeles:20251119T200000
DTSTAMP:20260422T154303
CREATED:20250701T171355Z
LAST-MODIFIED:20250701T193257Z
UID:10001565-1763575200-1763582400@www.pnwumc.org
SUMMARY:Lay Servant Ministries: Advanced Course - Called To Preach
DESCRIPTION:Join Rev. Joanne Coleman Campbell as she leads you through the Advanced Course on Preaching\, “Called to Preach.” This course is designed for those who have not completed formal preaching training\, for pastors seeking a basic refresher course\, and for others who are called upon to preach in a pastor’s absence. Called to Preach is the required preaching course in the lay Speaker track of study.  Register:  https://gnw-reg.brtapp.com/LayServantMinistriesACCalledToPreach \n  \n 
URL:https://www.pnwumc.org/event/lay-servant-ministries-advanced-course-called-to-preach-wednesday/2025-11-19/
LOCATION:Zoom
CATEGORIES:Certified Lay Minister,Laity,Online Training,Training
ATTACH;FMTTYPE=image/png:https://www.pnwumc.org/wp-content/uploads/2025/01/Called-to-Preach-Section-1-featured-image.png
ORGANIZER;CN="Joanne Coleman Campbell":MAILTO:jecolecamp@gmail.com
END:VEVENT
BEGIN:VEVENT
DTSTART;TZID=America/Los_Angeles:20251122T090000
DTEND;TZID=America/Los_Angeles:20251122T113000
DTSTAMP:20260422T154303
CREATED:20250826T232644Z
LAST-MODIFIED:20250826T232644Z
UID:10001590-1763802000-1763811000@www.pnwumc.org
SUMMARY:Lay Servant Ministries: Leading Worship
DESCRIPTION:Lay Servants who have completed the Basic Course are invited to participate in this four-week class on leading worship\, led by Rev. Dr. Desi Larson\, from November 1-22\, 2025. The class will be held on Zoom on Saturdays from 9:00-11:30am. This class is worth 1 CEU and counts toward either Lay Servant or Lay Speaker Certification. It is also a prerequisite for Certified Lay Minister Modules. \nUsing Hoyt Hickman’s book\, Worshiping with United Methodists\, this course will help students understand the basic pattern of United Methodist worship within the broader context of Christian worship. Drawing upon five basic principles\, the author explains the formative nature of worship and how it can revitalize persons’ lives. \nThe Rev. Dr. Desi Larson is a member of the Oregon-Idaho Conference\, currently serving as Pastor of Trinity UMC in Sequim\, WA. Prior to moving to the western US in 2016\, Desi was a member of the New England Conference and served as Pastor of several churches in Maine. Desi holds a BA degree in English and Visual Arts from Waynesburg College in Pennsylvania and a Master of Divinity from Boston University in Massachusetts. Being a life-long learner\, Pastor Desi also received MS and Ph.D. degrees in Adult Education from Cornell University in New York. \nDATES: November 1\, 8\, 15\, and 22 \nTIME: Saturdays\, 9:00-11:30am PST     \nWHERE: Zoom (Link will be sent with registration confirmation)  \nFEE:  the cost of the book — Worshiping with United Methodists by Hoyt Hickman ($13.99 at Cokesbury\, or $20.99 at Amazon; ISBN 13: 9780687335268) \nParticipant Requirements: Must have completed the Basic course. Each participant must have a book\, read it prior to the first session\, complete assignments\, and be fully engaged in all 4 sessions with audio and video capability active. The registration deadline is October 20. \nContact Rev Sheila Miranda\, smiranda@pnwumc.org\, with questions or if you need assistance. \nTo register\, please complete the form on our registration website. 
URL:https://www.pnwumc.org/event/lay-servant-ministries-leading-worship-2/2025-11-22/
LOCATION:Zoom
CATEGORIES:Certified Lay Minister,Education,Laity,Online Training,Training
ATTACH;FMTTYPE=image/png:https://www.pnwumc.org/wp-content/uploads/2023/08/LayServantMinistries16-9.png
ORGANIZER;CN="Sheila Miranda":MAILTO:SMiranda@pnwumc.org
END:VEVENT
END:VCALENDAR