BEGIN:VCALENDAR
VERSION:2.0
PRODID:-//The Pacific Northwest Conference of The United Methodist Church - ECPv6.15.20//NONSGML v1.0//EN
CALSCALE:GREGORIAN
METHOD:PUBLISH
X-WR-CALNAME:The Pacific Northwest Conference of The United Methodist Church
X-ORIGINAL-URL:https://www.pnwumc.org
X-WR-CALDESC:Events for The Pacific Northwest Conference of The United Methodist Church
REFRESH-INTERVAL;VALUE=DURATION:PT1H
X-Robots-Tag:noindex
X-PUBLISHED-TTL:PT1H
BEGIN:VTIMEZONE
TZID:America/Los_Angeles
BEGIN:DAYLIGHT
TZOFFSETFROM:-0800
TZOFFSETTO:-0700
TZNAME:PDT
DTSTART:20240310T100000
END:DAYLIGHT
BEGIN:STANDARD
TZOFFSETFROM:-0700
TZOFFSETTO:-0800
TZNAME:PST
DTSTART:20241103T090000
END:STANDARD
BEGIN:DAYLIGHT
TZOFFSETFROM:-0800
TZOFFSETTO:-0700
TZNAME:PDT
DTSTART:20250309T100000
END:DAYLIGHT
BEGIN:STANDARD
TZOFFSETFROM:-0700
TZOFFSETTO:-0800
TZNAME:PST
DTSTART:20251102T090000
END:STANDARD
BEGIN:DAYLIGHT
TZOFFSETFROM:-0800
TZOFFSETTO:-0700
TZNAME:PDT
DTSTART:20260308T100000
END:DAYLIGHT
BEGIN:STANDARD
TZOFFSETFROM:-0700
TZOFFSETTO:-0800
TZNAME:PST
DTSTART:20261101T090000
END:STANDARD
END:VTIMEZONE
BEGIN:VEVENT
DTSTART;TZID=America/Los_Angeles:20250401T183000
DTEND;TZID=America/Los_Angeles:20250401T203000
DTSTAMP:20260423T040339
CREATED:20241202T230941Z
LAST-MODIFIED:20250401T214840Z
UID:10001040-1743532200-1743539400@www.pnwumc.org
SUMMARY:Introduction to Lay Servant Ministries: The Basic Course
DESCRIPTION:The “Introduction to Lay Servant Ministry: The BASIC Course” is the foundational course for Lay Servant Ministries. \nThis five-week course\, led by Rev. Sheila Miranda\, is the gateway course for those who are called to be Certified Lay Servants\, Lay Speakers\, and Lay Ministers. It can also be part of a person’s discipleship plan to acquaint them with their gifts\, callings\, and responsibilities as followers of Christ.  \nClasses are held on Tuesdays from 6:30 – 8:30 pm Beginning March 11 -April 8. \nFor more information and to register\, Click Here.
URL:https://www.pnwumc.org/event/introduction-to-lay-servant-ministries-the-basic-course-4-2/2025-04-01/
CATEGORIES:Certified Lay Minister,Laity
ATTACH;FMTTYPE=image/jpeg:https://www.pnwumc.org/wp-content/uploads/2015/06/Lay-Servant-Ministries.jpg
ORGANIZER;CN="Sheila Miranda":MAILTO:SMiranda@pnwumc.org
LOCATION:https://www.pnwumc.org/event/introduction-to-lay-servant-ministries-the-basic-course-4-2/2025-04-01/
END:VEVENT
BEGIN:VEVENT
DTSTART;TZID=America/Los_Angeles:20250402T180000
DTEND;TZID=America/Los_Angeles:20250402T200000
DTSTAMP:20260423T040339
CREATED:20241202T223918Z
LAST-MODIFIED:20250401T214922Z
UID:10001035-1743616800-1743624000@www.pnwumc.org
SUMMARY:Lay Servant Ministries: Advanced Course - Called To Preach\, Section 1
DESCRIPTION:Join Rev. Joanne Coleman Campbell as she leads you through the Advanced Course on Preaching\, “Called to Preach.” This course is designed for those who have not completed formal preaching training\, for pastors seeking a basic refresher course\, and for others who are called upon to preach in a pastor’s absence. Called to Preach is the required preaching course in the lay Speaker track of study.  Click here to Register.
URL:https://www.pnwumc.org/event/lay-servant-ministries-advanced-course-called-to-preach/2025-04-02/
LOCATION:Zoom
CATEGORIES:Certified Lay Minister,Laity
ATTACH;FMTTYPE=image/png:https://www.pnwumc.org/wp-content/uploads/2025/01/Called-to-Preach-Section-1-featured-image.png
ORGANIZER;CN="Joanne Coleman Campbell":MAILTO:jecolecamp@gmail.com
END:VEVENT
BEGIN:VEVENT
DTSTART;TZID=America/Los_Angeles:20250403T180000
DTEND;TZID=America/Los_Angeles:20250403T200000
DTSTAMP:20260423T040339
CREATED:20250121T232008Z
LAST-MODIFIED:20250401T215001Z
UID:10001134-1743703200-1743710400@www.pnwumc.org
SUMMARY:Lay Servant Ministries: Advanced Course - Called To Preach\, Section 2
DESCRIPTION:Join Rev. Joanne Coleman Campbell as she leads you through the Advanced Course on Preaching\, “Called to Preach.” This course is designed for those who have not completed formal preaching training\, for pastors seeking a basic refresher course\, and for others who are called upon to preach in a pastor’s absence. Called to Preach is the required preaching course in the lay Speaker track of study. Click here to register.
URL:https://www.pnwumc.org/event/lay-servant-ministries-advanced-course-called-to-preach-section-2/2025-04-03/
LOCATION:Zoom
CATEGORIES:Certified Lay Minister,Laity
ATTACH;FMTTYPE=image/png:https://www.pnwumc.org/wp-content/uploads/2025/01/Called-to-Preach-Section-2-featured-image.png
ORGANIZER;CN="Joanne Coleman Campbell":MAILTO:jecolecamp@gmail.com
END:VEVENT
BEGIN:VEVENT
DTSTART;TZID=America/Los_Angeles:20250405T140000
DTEND;TZID=America/Los_Angeles:20250406T123000
DTSTAMP:20260423T040339
CREATED:20250125T174751Z
LAST-MODIFIED:20250125T183026Z
UID:10001143-1743861600-1743942600@www.pnwumc.org
SUMMARY:Intersections Overnight Youth Event
DESCRIPTION:What: Overnight Youth Event for Youth Groups in the PNW Conference\nWhen: from Saturday\, April 5th 2:00PM to Sunday\, April 6th 12:30PM\nWhere: Kent United Methodist Church\, 11010 SE 248th St. • Kent\, WA 98030\nCost: $10 per person \nGod continually meets us at the crossroads of our lives with a plan to change us and the world. \nJoin youth from across Western Washington at Kent UMC for a 24 hour retreat full of fun\, faith\, and good food. You’ll make new friends and discover where in your life God wants to meet up! \nDinner on Saturday\, and breakfast and lunch on Sunday will be provided by the host church. Please bring non-nut snacks to share. \nClick here to download a promotional flier. \nQuestions? Contact EJ Ragual Youth Leader at Kent UMC ejragualhb@gmail.com or 253-656-1377 \nIf you would like to be a part of the planning team\, reach out to EJ!
URL:https://www.pnwumc.org/event/intersections-overnight-youth-event/
LOCATION:Kent United Methodist Church\, 11010 248th St. SE\, Kent\, WA\, 98030\, United States
CATEGORIES:Disaster Response,United Women in Faith,Young People's Ministry,Youth
ATTACH;FMTTYPE=image/jpeg:https://www.pnwumc.org/wp-content/uploads/2025/01/intertli-1.jpg
GEO:47.380646;-122.193872
X-APPLE-STRUCTURED-LOCATION;VALUE=URI;X-ADDRESS=Kent United Methodist Church 11010 248th St. SE Kent WA 98030 United States;X-APPLE-RADIUS=500;X-TITLE=11010 248th St. SE:geo:-122.193872,47.380646
END:VEVENT
BEGIN:VEVENT
DTSTART;TZID=America/Los_Angeles:20250408T183000
DTEND;TZID=America/Los_Angeles:20250408T203000
DTSTAMP:20260423T040339
CREATED:20241202T230941Z
LAST-MODIFIED:20250401T214840Z
UID:10001041-1744137000-1744144200@www.pnwumc.org
SUMMARY:Introduction to Lay Servant Ministries: The Basic Course
DESCRIPTION:The “Introduction to Lay Servant Ministry: The BASIC Course” is the foundational course for Lay Servant Ministries. \nThis five-week course\, led by Rev. Sheila Miranda\, is the gateway course for those who are called to be Certified Lay Servants\, Lay Speakers\, and Lay Ministers. It can also be part of a person’s discipleship plan to acquaint them with their gifts\, callings\, and responsibilities as followers of Christ.  \nClasses are held on Tuesdays from 6:30 – 8:30 pm Beginning March 11 -April 8. \nFor more information and to register\, Click Here.
URL:https://www.pnwumc.org/event/introduction-to-lay-servant-ministries-the-basic-course-4-2/2025-04-08/
CATEGORIES:Certified Lay Minister,Laity
ATTACH;FMTTYPE=image/jpeg:https://www.pnwumc.org/wp-content/uploads/2015/06/Lay-Servant-Ministries.jpg
ORGANIZER;CN="Sheila Miranda":MAILTO:SMiranda@pnwumc.org
LOCATION:https://www.pnwumc.org/event/introduction-to-lay-servant-ministries-the-basic-course-4-2/2025-04-08/
END:VEVENT
BEGIN:VEVENT
DTSTART;TZID=America/Los_Angeles:20250409T180000
DTEND;TZID=America/Los_Angeles:20250409T200000
DTSTAMP:20260423T040339
CREATED:20241202T223918Z
LAST-MODIFIED:20250401T214922Z
UID:10001036-1744221600-1744228800@www.pnwumc.org
SUMMARY:Lay Servant Ministries: Advanced Course - Called To Preach\, Section 1
DESCRIPTION:Join Rev. Joanne Coleman Campbell as she leads you through the Advanced Course on Preaching\, “Called to Preach.” This course is designed for those who have not completed formal preaching training\, for pastors seeking a basic refresher course\, and for others who are called upon to preach in a pastor’s absence. Called to Preach is the required preaching course in the lay Speaker track of study.  Click here to Register.
URL:https://www.pnwumc.org/event/lay-servant-ministries-advanced-course-called-to-preach/2025-04-09/
LOCATION:Zoom
CATEGORIES:Certified Lay Minister,Laity
ATTACH;FMTTYPE=image/png:https://www.pnwumc.org/wp-content/uploads/2025/01/Called-to-Preach-Section-1-featured-image.png
ORGANIZER;CN="Joanne Coleman Campbell":MAILTO:jecolecamp@gmail.com
END:VEVENT
BEGIN:VEVENT
DTSTART;TZID=America/Los_Angeles:20250410T180000
DTEND;TZID=America/Los_Angeles:20250410T200000
DTSTAMP:20260423T040339
CREATED:20250121T232008Z
LAST-MODIFIED:20250401T215001Z
UID:10001135-1744308000-1744315200@www.pnwumc.org
SUMMARY:Lay Servant Ministries: Advanced Course - Called To Preach\, Section 2
DESCRIPTION:Join Rev. Joanne Coleman Campbell as she leads you through the Advanced Course on Preaching\, “Called to Preach.” This course is designed for those who have not completed formal preaching training\, for pastors seeking a basic refresher course\, and for others who are called upon to preach in a pastor’s absence. Called to Preach is the required preaching course in the lay Speaker track of study. Click here to register.
URL:https://www.pnwumc.org/event/lay-servant-ministries-advanced-course-called-to-preach-section-2/2025-04-10/
LOCATION:Zoom
CATEGORIES:Certified Lay Minister,Laity
ATTACH;FMTTYPE=image/png:https://www.pnwumc.org/wp-content/uploads/2025/01/Called-to-Preach-Section-2-featured-image.png
ORGANIZER;CN="Joanne Coleman Campbell":MAILTO:jecolecamp@gmail.com
END:VEVENT
BEGIN:VEVENT
DTSTART;TZID=America/Los_Angeles:20250423T183000
DTEND;TZID=America/Los_Angeles:20250423T203000
DTSTAMP:20260423T040339
CREATED:20241204T232722Z
LAST-MODIFIED:20241204T232834Z
UID:10001104-1745433000-1745440200@www.pnwumc.org
SUMMARY:Lay Servant Ministries: Discovering and Using Spiritual Gifts
DESCRIPTION:Lay Servants who have completed the Basic Course are invited to participate in this five-week class on discovering and using your spiritual gifts\, led by Rev. Dr. Desi Larson\, from April 23rd – May 21st\, 2025. The class will be held on Zoom on Wednesdays from 6:30-8:30 PM. This class is worth 1 CEU and counts toward either Lay Servant or Lay Speaker Certification. It is also a prerequisite for Certified Lay Minister Modules. \nThis course helps participants understand spiritual gifts and how the church can use them to fulfill its mission and ministry. Participants will also learn what it means to be a spiritual leader and will be equipped to lead others in exploring and using their spiritual gifts. \nThe Rev. Dr. Desi Larson is a member of the Oregon-Idaho Conference\, currently serving as Pastor of Trinity UMC in Sequim\, WA. Prior to moving to the western US in 2016\, Desi was a member of the New England Conference and served as Pastor of several churches in Maine. Desi holds a BA degree in English and Visual Arts from Waynesburg College in Pennsylvania and a Master of Divinity from Boston University in Massachusetts. Being a life-long learner\, Pastor Desi also received MS and Ph.D. degrees in Adult Education from Cornell University in New York. \nDATES: April 23\, 30\, May 7\, 14\, & 21 \nTIME: Wednesdays 6:30-8:30 pm PST     \nWHERE: Zoom (Link will be sent with registration confirmation)  \nFEE:  the cost of the book — For the Common Good: Discovering and Using Your Spiritual Gifts by Christine Harman ($10.49 at Cokesbury\, Upper Room\, or Amazon; ISBN 13: 9780802870971) \nParticipant Requirements: Must have completed the Basic course. Each participant must have a book\, read it prior to the first session\, complete assignments\, and be fully engaged in all 5 sessions with audio and video capability active. The registration deadline is April 9. \nContact Rev Sheila Miranda\, smiranda@pnwumc.org\, with questions or if you need assistance. \nTo register\, click here.
URL:https://www.pnwumc.org/event/lay-servant-ministries-discovering-and-using-spiritual-gifts/2025-04-23/
LOCATION:Zoom Webinar\, United States
CATEGORIES:Laity,Online Training,Training
ATTACH;FMTTYPE=image/png:https://www.pnwumc.org/wp-content/uploads/2024/12/LSM-Discovering-Spiritual-Gifts.png
ORGANIZER;CN="Sheila Miranda":MAILTO:SMiranda@pnwumc.org
GEO:37.09024;-95.712891
END:VEVENT
BEGIN:VEVENT
DTSTART;TZID=America/Los_Angeles:20250430T180000
DTEND;TZID=America/Los_Angeles:20250430T193000
DTSTAMP:20260423T040339
CREATED:20250401T232722Z
LAST-MODIFIED:20250416T010752Z
UID:10001172-1746036000-1746041400@www.pnwumc.org
SUMMARY:Sanctuary (Everywhere) / Santuario (En Todas Partes)
DESCRIPTION:The Interfaith Movement for Migrant Justice (IMIrJ) was birthed through the creation of the sanctuary movement in Portland Oregon in 2007. Through the years we have become one of the key players in first responding to the needs of our immigrant communities. IMIrJ works with faith communities in collaboration with many immigrant rights organizations and individuals. \nWHAT IS THE PURPOSE OF THIS TRAINING? \n\nLearn the history of the Sanctuary Movement in the USA\nDevelop strategies for creating sanctuary communities\nRapid response tips -Learn legal considerations and protections\nGet resources\nSupport our work\n\nThis workshop is designed for pastors\, laypeople\, and community organizers who work with Hispanic/Latinx immigrant families. It will be conducted in Spanish. \nClick here to register for this training!\n—- \nEl Movimiento Interreligioso por la Justicia para Inmigrantes nació a través de la creación del movimiento santuario en Portland\, Oregón\, en 2007. A lo largo de los años\, nos hemos convertido en uno de los actores clave en la primera respuesta a las necesidades de nuestras comunidades inmigrantes. IMIrJ trabaja con comunidades de fe y en colaboración con muchas organizaciones y personas defensoras de los derechos de los inmigrantes. \n¿CUÁL ES EL PROPÓSITO DE ESTA CAPACITACIÓN? \n\nConocer la historia del Movimiento Santuario en EE.UU.\nDesarrollar estrategias para crear comunidades santuario\nConsejos de respuesta rápida -Aprender sobre consideraciones y protecciones legales\nObtener recursos\nApoyar nuestro trabajo\n\nEste taller está diseñado para pastores\, líderes laicos y organizadores comunitarios que trabajan con familias inmigrantes hispanas/latinas. Se llevará a cabo en español.
URL:https://www.pnwumc.org/event/sanctuary-everywhere-santuario-en-todas-partes/
CATEGORIES:Hispanic Ministries,Online Training,Training
ATTACH;FMTTYPE=image/jpeg:https://www.pnwumc.org/wp-content/uploads/2025/04/Sanctuary-Everywhere.jpg
ORGANIZER;CN="Rev. Cruz Edwin Santos":MAILTO:cesantos@pnwumc.org
LOCATION:https://www.pnwumc.org/event/sanctuary-everywhere-santuario-en-todas-partes/
END:VEVENT
BEGIN:VEVENT
DTSTART;TZID=America/Los_Angeles:20250430T183000
DTEND;TZID=America/Los_Angeles:20250430T203000
DTSTAMP:20260423T040339
CREATED:20241204T232722Z
LAST-MODIFIED:20241204T232834Z
UID:10001105-1746037800-1746045000@www.pnwumc.org
SUMMARY:Lay Servant Ministries: Discovering and Using Spiritual Gifts
DESCRIPTION:Lay Servants who have completed the Basic Course are invited to participate in this five-week class on discovering and using your spiritual gifts\, led by Rev. Dr. Desi Larson\, from April 23rd – May 21st\, 2025. The class will be held on Zoom on Wednesdays from 6:30-8:30 PM. This class is worth 1 CEU and counts toward either Lay Servant or Lay Speaker Certification. It is also a prerequisite for Certified Lay Minister Modules. \nThis course helps participants understand spiritual gifts and how the church can use them to fulfill its mission and ministry. Participants will also learn what it means to be a spiritual leader and will be equipped to lead others in exploring and using their spiritual gifts. \nThe Rev. Dr. Desi Larson is a member of the Oregon-Idaho Conference\, currently serving as Pastor of Trinity UMC in Sequim\, WA. Prior to moving to the western US in 2016\, Desi was a member of the New England Conference and served as Pastor of several churches in Maine. Desi holds a BA degree in English and Visual Arts from Waynesburg College in Pennsylvania and a Master of Divinity from Boston University in Massachusetts. Being a life-long learner\, Pastor Desi also received MS and Ph.D. degrees in Adult Education from Cornell University in New York. \nDATES: April 23\, 30\, May 7\, 14\, & 21 \nTIME: Wednesdays 6:30-8:30 pm PST     \nWHERE: Zoom (Link will be sent with registration confirmation)  \nFEE:  the cost of the book — For the Common Good: Discovering and Using Your Spiritual Gifts by Christine Harman ($10.49 at Cokesbury\, Upper Room\, or Amazon; ISBN 13: 9780802870971) \nParticipant Requirements: Must have completed the Basic course. Each participant must have a book\, read it prior to the first session\, complete assignments\, and be fully engaged in all 5 sessions with audio and video capability active. The registration deadline is April 9. \nContact Rev Sheila Miranda\, smiranda@pnwumc.org\, with questions or if you need assistance. \nTo register\, click here.
URL:https://www.pnwumc.org/event/lay-servant-ministries-discovering-and-using-spiritual-gifts/2025-04-30/
LOCATION:Zoom Webinar\, United States
CATEGORIES:Laity,Online Training,Training
ATTACH;FMTTYPE=image/png:https://www.pnwumc.org/wp-content/uploads/2024/12/LSM-Discovering-Spiritual-Gifts.png
ORGANIZER;CN="Sheila Miranda":MAILTO:SMiranda@pnwumc.org
GEO:37.09024;-95.712891
END:VEVENT
END:VCALENDAR