BEGIN:VCALENDAR
VERSION:2.0
PRODID:-//The Pacific Northwest Conference of The United Methodist Church - ECPv6.15.20//NONSGML v1.0//EN
CALSCALE:GREGORIAN
METHOD:PUBLISH
X-WR-CALNAME:The Pacific Northwest Conference of The United Methodist Church
X-ORIGINAL-URL:https://www.pnwumc.org
X-WR-CALDESC:Events for The Pacific Northwest Conference of The United Methodist Church
REFRESH-INTERVAL;VALUE=DURATION:PT1H
X-Robots-Tag:noindex
X-PUBLISHED-TTL:PT1H
BEGIN:VTIMEZONE
TZID:America/Los_Angeles
BEGIN:DAYLIGHT
TZOFFSETFROM:-0800
TZOFFSETTO:-0700
TZNAME:PDT
DTSTART:20240310T100000
END:DAYLIGHT
BEGIN:STANDARD
TZOFFSETFROM:-0700
TZOFFSETTO:-0800
TZNAME:PST
DTSTART:20241103T090000
END:STANDARD
BEGIN:DAYLIGHT
TZOFFSETFROM:-0800
TZOFFSETTO:-0700
TZNAME:PDT
DTSTART:20250309T100000
END:DAYLIGHT
BEGIN:STANDARD
TZOFFSETFROM:-0700
TZOFFSETTO:-0800
TZNAME:PST
DTSTART:20251102T090000
END:STANDARD
BEGIN:DAYLIGHT
TZOFFSETFROM:-0800
TZOFFSETTO:-0700
TZNAME:PDT
DTSTART:20260308T100000
END:DAYLIGHT
BEGIN:STANDARD
TZOFFSETFROM:-0700
TZOFFSETTO:-0800
TZNAME:PST
DTSTART:20261101T090000
END:STANDARD
END:VTIMEZONE
BEGIN:VEVENT
DTSTART;TZID=America/Los_Angeles:20250306T180000
DTEND;TZID=America/Los_Angeles:20250306T200000
DTSTAMP:20260423T054433
CREATED:20250121T232008Z
LAST-MODIFIED:20250401T215001Z
UID:10001132-1741284000-1741291200@www.pnwumc.org
SUMMARY:Lay Servant Ministries: Advanced Course - Called To Preach\, Section 2
DESCRIPTION:Join Rev. Joanne Coleman Campbell as she leads you through the Advanced Course on Preaching\, “Called to Preach.” This course is designed for those who have not completed formal preaching training\, for pastors seeking a basic refresher course\, and for others who are called upon to preach in a pastor’s absence. Called to Preach is the required preaching course in the lay Speaker track of study. Click here to register.
URL:https://www.pnwumc.org/event/lay-servant-ministries-advanced-course-called-to-preach-section-2/2025-03-06/
LOCATION:Zoom
CATEGORIES:Certified Lay Minister,Laity
ATTACH;FMTTYPE=image/png:https://www.pnwumc.org/wp-content/uploads/2025/01/Called-to-Preach-Section-2-featured-image.png
ORGANIZER;CN="Joanne Coleman Campbell":MAILTO:jecolecamp@gmail.com
END:VEVENT
BEGIN:VEVENT
DTSTART;TZID=America/Los_Angeles:20250311T183000
DTEND;TZID=America/Los_Angeles:20250311T203000
DTSTAMP:20260423T054433
CREATED:20241202T230941Z
LAST-MODIFIED:20250401T214840Z
UID:10001037-1741717800-1741725000@www.pnwumc.org
SUMMARY:Introduction to Lay Servant Ministries: The Basic Course
DESCRIPTION:The “Introduction to Lay Servant Ministry: The BASIC Course” is the foundational course for Lay Servant Ministries. \nThis five-week course\, led by Rev. Sheila Miranda\, is the gateway course for those who are called to be Certified Lay Servants\, Lay Speakers\, and Lay Ministers. It can also be part of a person’s discipleship plan to acquaint them with their gifts\, callings\, and responsibilities as followers of Christ.  \nClasses are held on Tuesdays from 6:30 – 8:30 pm Beginning March 11 -April 8. \nFor more information and to register\, Click Here.
URL:https://www.pnwumc.org/event/introduction-to-lay-servant-ministries-the-basic-course-4-2/2025-03-11/
CATEGORIES:Certified Lay Minister,Laity
ATTACH;FMTTYPE=image/jpeg:https://www.pnwumc.org/wp-content/uploads/2015/06/Lay-Servant-Ministries.jpg
ORGANIZER;CN="Sheila Miranda":MAILTO:SMiranda@pnwumc.org
LOCATION:https://www.pnwumc.org/event/introduction-to-lay-servant-ministries-the-basic-course-4-2/2025-03-11/
END:VEVENT
BEGIN:VEVENT
DTSTART;TZID=America/Los_Angeles:20250318T183000
DTEND;TZID=America/Los_Angeles:20250318T203000
DTSTAMP:20260423T054433
CREATED:20241202T230941Z
LAST-MODIFIED:20250401T214840Z
UID:10001038-1742322600-1742329800@www.pnwumc.org
SUMMARY:Introduction to Lay Servant Ministries: The Basic Course
DESCRIPTION:The “Introduction to Lay Servant Ministry: The BASIC Course” is the foundational course for Lay Servant Ministries. \nThis five-week course\, led by Rev. Sheila Miranda\, is the gateway course for those who are called to be Certified Lay Servants\, Lay Speakers\, and Lay Ministers. It can also be part of a person’s discipleship plan to acquaint them with their gifts\, callings\, and responsibilities as followers of Christ.  \nClasses are held on Tuesdays from 6:30 – 8:30 pm Beginning March 11 -April 8. \nFor more information and to register\, Click Here.
URL:https://www.pnwumc.org/event/introduction-to-lay-servant-ministries-the-basic-course-4-2/2025-03-18/
CATEGORIES:Certified Lay Minister,Laity
ATTACH;FMTTYPE=image/jpeg:https://www.pnwumc.org/wp-content/uploads/2015/06/Lay-Servant-Ministries.jpg
ORGANIZER;CN="Sheila Miranda":MAILTO:SMiranda@pnwumc.org
LOCATION:https://www.pnwumc.org/event/introduction-to-lay-servant-ministries-the-basic-course-4-2/2025-03-18/
END:VEVENT
BEGIN:VEVENT
DTSTART;TZID=America/Los_Angeles:20250319T180000
DTEND;TZID=America/Los_Angeles:20250319T200000
DTSTAMP:20260423T054433
CREATED:20241202T223918Z
LAST-MODIFIED:20250401T214922Z
UID:10001033-1742407200-1742414400@www.pnwumc.org
SUMMARY:Lay Servant Ministries: Advanced Course - Called To Preach\, Section 1
DESCRIPTION:Join Rev. Joanne Coleman Campbell as she leads you through the Advanced Course on Preaching\, “Called to Preach.” This course is designed for those who have not completed formal preaching training\, for pastors seeking a basic refresher course\, and for others who are called upon to preach in a pastor’s absence. Called to Preach is the required preaching course in the lay Speaker track of study.  Click here to Register.
URL:https://www.pnwumc.org/event/lay-servant-ministries-advanced-course-called-to-preach/2025-03-19/
LOCATION:Zoom
CATEGORIES:Certified Lay Minister,Laity
ATTACH;FMTTYPE=image/png:https://www.pnwumc.org/wp-content/uploads/2025/01/Called-to-Preach-Section-1-featured-image.png
ORGANIZER;CN="Joanne Coleman Campbell":MAILTO:jecolecamp@gmail.com
END:VEVENT
BEGIN:VEVENT
DTSTART;TZID=America/Los_Angeles:20250325T183000
DTEND;TZID=America/Los_Angeles:20250325T203000
DTSTAMP:20260423T054433
CREATED:20241202T230941Z
LAST-MODIFIED:20250401T214840Z
UID:10001039-1742927400-1742934600@www.pnwumc.org
SUMMARY:Introduction to Lay Servant Ministries: The Basic Course
DESCRIPTION:The “Introduction to Lay Servant Ministry: The BASIC Course” is the foundational course for Lay Servant Ministries. \nThis five-week course\, led by Rev. Sheila Miranda\, is the gateway course for those who are called to be Certified Lay Servants\, Lay Speakers\, and Lay Ministers. It can also be part of a person’s discipleship plan to acquaint them with their gifts\, callings\, and responsibilities as followers of Christ.  \nClasses are held on Tuesdays from 6:30 – 8:30 pm Beginning March 11 -April 8. \nFor more information and to register\, Click Here.
URL:https://www.pnwumc.org/event/introduction-to-lay-servant-ministries-the-basic-course-4-2/2025-03-25/
CATEGORIES:Certified Lay Minister,Laity
ATTACH;FMTTYPE=image/jpeg:https://www.pnwumc.org/wp-content/uploads/2015/06/Lay-Servant-Ministries.jpg
ORGANIZER;CN="Sheila Miranda":MAILTO:SMiranda@pnwumc.org
LOCATION:https://www.pnwumc.org/event/introduction-to-lay-servant-ministries-the-basic-course-4-2/2025-03-25/
END:VEVENT
BEGIN:VEVENT
DTSTART;TZID=America/Los_Angeles:20250326T180000
DTEND;TZID=America/Los_Angeles:20250326T200000
DTSTAMP:20260423T054433
CREATED:20241202T223918Z
LAST-MODIFIED:20250401T214922Z
UID:10001034-1743012000-1743019200@www.pnwumc.org
SUMMARY:Lay Servant Ministries: Advanced Course - Called To Preach\, Section 1
DESCRIPTION:Join Rev. Joanne Coleman Campbell as she leads you through the Advanced Course on Preaching\, “Called to Preach.” This course is designed for those who have not completed formal preaching training\, for pastors seeking a basic refresher course\, and for others who are called upon to preach in a pastor’s absence. Called to Preach is the required preaching course in the lay Speaker track of study.  Click here to Register.
URL:https://www.pnwumc.org/event/lay-servant-ministries-advanced-course-called-to-preach/2025-03-26/
LOCATION:Zoom
CATEGORIES:Certified Lay Minister,Laity
ATTACH;FMTTYPE=image/png:https://www.pnwumc.org/wp-content/uploads/2025/01/Called-to-Preach-Section-1-featured-image.png
ORGANIZER;CN="Joanne Coleman Campbell":MAILTO:jecolecamp@gmail.com
END:VEVENT
BEGIN:VEVENT
DTSTART;TZID=America/Los_Angeles:20250327T180000
DTEND;TZID=America/Los_Angeles:20250327T200000
DTSTAMP:20260423T054433
CREATED:20250121T232008Z
LAST-MODIFIED:20250401T215001Z
UID:10001133-1743098400-1743105600@www.pnwumc.org
SUMMARY:Lay Servant Ministries: Advanced Course - Called To Preach\, Section 2
DESCRIPTION:Join Rev. Joanne Coleman Campbell as she leads you through the Advanced Course on Preaching\, “Called to Preach.” This course is designed for those who have not completed formal preaching training\, for pastors seeking a basic refresher course\, and for others who are called upon to preach in a pastor’s absence. Called to Preach is the required preaching course in the lay Speaker track of study. Click here to register.
URL:https://www.pnwumc.org/event/lay-servant-ministries-advanced-course-called-to-preach-section-2/2025-03-27/
LOCATION:Zoom
CATEGORIES:Certified Lay Minister,Laity
ATTACH;FMTTYPE=image/png:https://www.pnwumc.org/wp-content/uploads/2025/01/Called-to-Preach-Section-2-featured-image.png
ORGANIZER;CN="Joanne Coleman Campbell":MAILTO:jecolecamp@gmail.com
END:VEVENT
BEGIN:VEVENT
DTSTART;TZID=America/Los_Angeles:20250329T083000
DTEND;TZID=America/Los_Angeles:20250329T170000
DTSTAMP:20260423T054433
CREATED:20241219T005420Z
LAST-MODIFIED:20241219T005420Z
UID:10001110-1743237000-1743267600@www.pnwumc.org
SUMMARY:UMCOR Disaster Response - Early Response Team Basic Training
DESCRIPTION:Be ready for when the next disaster strikes to help those most in need. \nTrain now to be an Early Response Team member. Click here to register! \nOur next UMCOR Disaster Response – Early Response Team Basic Training is being offered on Saturday\, March 29\, 2025\, from 8:30 a.m. – 5 p.m. PT at Bothell United Methodist Church (18515 92nd Ave NE\, Bothell\, WA 98011). \nThe Early Response Team Basic Training will prepare you on ways to clean out a flooded home\, haul debris\, sift through ashes and work alongside survivors while staying safe. The class is taught by United Methodist Committee on Relief (UMCOR) certified trainers and includes examples of recent missions\, hands-on activities and an opportunity to meet people with a passion to serve. Anyone 18 years or older is welcomed to attend. \nThe registration fee is $25 and includes all training materials\, lunch and snacks. The registration deadline is Friday\, March 21. There are several pre-requisites to complete before the class so please register ASAP. \nQuestions? Contact Kathy Bryson\, PNW Conference Disaster Response Coordinator\, at brysonpnw@gmail.com\, (509) 539-2978.
URL:https://www.pnwumc.org/event/umcor-disaster-response-early-response-team-basic-training/
LOCATION:Bothell United Methodist Church\, 18515 92nd Ave NE\, Bothell\, 98011\, United States
CATEGORIES:Disaster Response,Emergency Preparedness,Training
ATTACH;FMTTYPE=image/jpeg:https://www.pnwumc.org/wp-content/uploads/2024/12/ERT_Training-spring-2025.jpg
ORGANIZER;CN="Kathy Bryson":MAILTO:brysonpnw@gmail.com
GEO:47.7624306;-122.2189218
X-APPLE-STRUCTURED-LOCATION;VALUE=URI;X-ADDRESS=Bothell United Methodist Church 18515 92nd Ave NE Bothell 98011 United States;X-APPLE-RADIUS=500;X-TITLE=18515 92nd Ave NE:geo:-122.2189218,47.7624306
END:VEVENT
END:VCALENDAR