BEGIN:VCALENDAR
VERSION:2.0
PRODID:-//The Pacific Northwest Conference of The United Methodist Church - ECPv6.15.20//NONSGML v1.0//EN
CALSCALE:GREGORIAN
METHOD:PUBLISH
X-ORIGINAL-URL:https://www.pnwumc.org
X-WR-CALDESC:Events for The Pacific Northwest Conference of The United Methodist Church
REFRESH-INTERVAL;VALUE=DURATION:PT1H
X-Robots-Tag:noindex
X-PUBLISHED-TTL:PT1H
BEGIN:VTIMEZONE
TZID:America/Los_Angeles
BEGIN:DAYLIGHT
TZOFFSETFROM:-0800
TZOFFSETTO:-0700
TZNAME:PDT
DTSTART:20230312T100000
END:DAYLIGHT
BEGIN:STANDARD
TZOFFSETFROM:-0700
TZOFFSETTO:-0800
TZNAME:PST
DTSTART:20231105T090000
END:STANDARD
BEGIN:DAYLIGHT
TZOFFSETFROM:-0800
TZOFFSETTO:-0700
TZNAME:PDT
DTSTART:20240310T100000
END:DAYLIGHT
BEGIN:STANDARD
TZOFFSETFROM:-0700
TZOFFSETTO:-0800
TZNAME:PST
DTSTART:20241103T090000
END:STANDARD
BEGIN:DAYLIGHT
TZOFFSETFROM:-0800
TZOFFSETTO:-0700
TZNAME:PDT
DTSTART:20250309T100000
END:DAYLIGHT
BEGIN:STANDARD
TZOFFSETFROM:-0700
TZOFFSETTO:-0800
TZNAME:PST
DTSTART:20251102T090000
END:STANDARD
END:VTIMEZONE
BEGIN:VEVENT
DTSTART;TZID=America/Los_Angeles:20240402T183000
DTEND;TZID=America/Los_Angeles:20240402T203000
DTSTAMP:20260424T001928
CREATED:20240227T190253Z
LAST-MODIFIED:20240227T190253Z
UID:10000843-1712082600-1712089800@www.pnwumc.org
SUMMARY:Introduction to Lay Servant Ministries: The Basic Course
DESCRIPTION:The “Introduction to Lay Servant Ministry: The BASIC Course” is the foundational course for Lay Servant Ministries. This is the gateway course for those who are called to be Certified Lay Servants\, Lay Speakers\, and Lay Ministers. And can also be part of a person’s discipleship plan to acquaint you with their gifts\, calling\, and responsibilities as followers of Christ. \nThis course will be offered over five two-hour sessions on Zoom on April 2\, 9\, 16\, 23\, and 30\, 2024\, from 6:30-8:30 p.m. PT. \nClick here for more information and to register today!
URL:https://www.pnwumc.org/event/introduction-to-lay-servant-ministries-the-basic-course/2024-04-02/
CATEGORIES:Certified Lay Minister,Laity,Training
ATTACH;FMTTYPE=image/png:https://www.pnwumc.org/wp-content/uploads/2023/08/LayServantMinistries16-9.png
ORGANIZER;CN="Sheila Miranda":MAILTO:SMiranda@pnwumc.org
LOCATION:https://www.pnwumc.org/event/introduction-to-lay-servant-ministries-the-basic-course/2024-04-02/
END:VEVENT
BEGIN:VEVENT
DTSTART;VALUE=DATE:20240408
DTEND;VALUE=DATE:20240412
DTSTAMP:20260424T001928
CREATED:20231107T073322Z
LAST-MODIFIED:20231107T073322Z
UID:10000771-1712534400-1712879999@www.pnwumc.org
SUMMARY:Mountain West Volunteer Organizations Active in Disaster Conference
DESCRIPTION:
URL:https://www.pnwumc.org/event/mountain-west-volunteer-organizations-active-in-disaster-conference/
LOCATION:Kent United Methodist Church\, 11010 248th St. SE\, Kent\, WA\, 98030\, United States
CATEGORIES:Disaster Response,Networks
ORGANIZER;CN="Kathy Bryson":MAILTO:brysonpnw@gmail.com
GEO:47.380646;-122.193872
X-APPLE-STRUCTURED-LOCATION;VALUE=URI;X-ADDRESS=Kent United Methodist Church 11010 248th St. SE Kent WA 98030 United States;X-APPLE-RADIUS=500;X-TITLE=11010 248th St. SE:geo:-122.193872,47.380646
END:VEVENT
BEGIN:VEVENT
DTSTART;TZID=America/Los_Angeles:20240409T183000
DTEND;TZID=America/Los_Angeles:20240409T203000
DTSTAMP:20260424T001928
CREATED:20240227T190253Z
LAST-MODIFIED:20240227T190253Z
UID:10000844-1712687400-1712694600@www.pnwumc.org
SUMMARY:Introduction to Lay Servant Ministries: The Basic Course
DESCRIPTION:The “Introduction to Lay Servant Ministry: The BASIC Course” is the foundational course for Lay Servant Ministries. This is the gateway course for those who are called to be Certified Lay Servants\, Lay Speakers\, and Lay Ministers. And can also be part of a person’s discipleship plan to acquaint you with their gifts\, calling\, and responsibilities as followers of Christ. \nThis course will be offered over five two-hour sessions on Zoom on April 2\, 9\, 16\, 23\, and 30\, 2024\, from 6:30-8:30 p.m. PT. \nClick here for more information and to register today!
URL:https://www.pnwumc.org/event/introduction-to-lay-servant-ministries-the-basic-course/2024-04-09/
CATEGORIES:Certified Lay Minister,Laity,Training
ATTACH;FMTTYPE=image/png:https://www.pnwumc.org/wp-content/uploads/2023/08/LayServantMinistries16-9.png
ORGANIZER;CN="Sheila Miranda":MAILTO:SMiranda@pnwumc.org
LOCATION:https://www.pnwumc.org/event/introduction-to-lay-servant-ministries-the-basic-course/2024-04-09/
END:VEVENT
BEGIN:VEVENT
DTSTART;TZID=America/Los_Angeles:20240412T090000
DTEND;TZID=America/Los_Angeles:20240412T170000
DTSTAMP:20260424T001928
CREATED:20231003T192428Z
LAST-MODIFIED:20231003T192429Z
UID:10000661-1712912400-1712941200@www.pnwumc.org
SUMMARY:Institutional Equity Cohort
DESCRIPTION:The date for one of six in-person Equity Cohort gatherings for individuals within the Oregon-Idaho and Pacific Northwest Annual Conferences leadership structures.
URL:https://www.pnwumc.org/event/institutional-equity-cohort-7/
LOCATION:Fairwood Community United Methodist Church\, 15255 SE Fairwood Blvd.\, Renton\, WA\, 98058\, United States
CATEGORIES:Greater NW Area,Training
ATTACH;FMTTYPE=image/png:https://www.pnwumc.org/wp-content/uploads/2023/09/Equity-Cohorts.png
ORGANIZER;CN="Kristina Gonzalez":MAILTO:kgonzalez@greaternw.org
GEO:47.4473178;-122.1362455
X-APPLE-STRUCTURED-LOCATION;VALUE=URI;X-ADDRESS=Fairwood Community United Methodist Church 15255 SE Fairwood Blvd. Renton WA 98058 United States;X-APPLE-RADIUS=500;X-TITLE=15255 SE Fairwood Blvd.:geo:-122.1362455,47.4473178
END:VEVENT
BEGIN:VEVENT
DTSTART;TZID=America/Los_Angeles:20240413T090000
DTEND;TZID=America/Los_Angeles:20240413T170000
DTSTAMP:20260424T001928
CREATED:20230910T211822Z
LAST-MODIFIED:20231003T192124Z
UID:10000666-1712998800-1713027600@www.pnwumc.org
SUMMARY:Congregational Equity Cohort
DESCRIPTION:The date for one of six in-person Equity Cohort gatherings for Congregational Leaders within the Oregon-Idaho and Pacific Northwest Annual Conferences.
URL:https://www.pnwumc.org/event/congregational-equity-cohort-3/
LOCATION:Fairwood Community United Methodist Church\, 15255 SE Fairwood Blvd.\, Renton\, WA\, 98058\, United States
CATEGORIES:Greater NW Area,Training
ATTACH;FMTTYPE=image/png:https://www.pnwumc.org/wp-content/uploads/2023/09/Equity-Cohorts.png
ORGANIZER;CN="Kristina Gonzalez":MAILTO:kgonzalez@greaternw.org
GEO:47.4473178;-122.1362455
X-APPLE-STRUCTURED-LOCATION;VALUE=URI;X-ADDRESS=Fairwood Community United Methodist Church 15255 SE Fairwood Blvd. Renton WA 98058 United States;X-APPLE-RADIUS=500;X-TITLE=15255 SE Fairwood Blvd.:geo:-122.1362455,47.4473178
END:VEVENT
BEGIN:VEVENT
DTSTART;TZID=America/Los_Angeles:20240415T090000
DTEND;TZID=America/Los_Angeles:20240415T100000
DTSTAMP:20260424T001928
CREATED:20240328T023516Z
LAST-MODIFIED:20240328T023516Z
UID:10000855-1713171600-1713175200@www.pnwumc.org
SUMMARY:How to talk about General Conference
DESCRIPTION:On April 15\, 2024\, from 9 to 10 a.m. Pacific Time\, church leaders (lay and clergy) are invited to attend a one-hour Zoom presentation on communicating about the upcoming General Conference with the Directors of Communications from each conference in the Western Jurisdiction and Brenda Smotherman from United Methodist Communications (UMCom). \nIn essence\, this is a crisis communication training/refresher\, but we’ll also share our plans for distributing news about General Conference 2024 before exploring the following: \n\nWhat should you do if a reporter contacts your church in person\, by phone\, or via social media and asks you to comment on their story about the General Conference?\nHow can you offer your opinion while being clear that you don’t speak for the entirety of The United Methodist Church?\nWhere can members find the real news and daily outcomes\, especially if they see something alarming on social media about General Conference?\n\nThe Desert Southwest Conference is managing Zoom registrations for this event as part of its Monday Moments program. You can register for this opportunity at https://dscumc.org/monday-moments-registration/. \nAbout the Guest Presenter \nBrenda Smotherman is the Associate Public Relations Director at United Methodist Communications and has been with the agency for more than five years. She provides publicity support for UMCom\, communicators across the UMC connection\, The Connectional Table\, and the Commission on the General Conference. Smotherman oversees media pitching\, several social media channels\, publicity consultation and training\, and supportive written content\, resources and reports.
URL:https://www.pnwumc.org/event/how-to-talk-about-general-conference/
CATEGORIES:General Church,Training,Western Jurisdiction
ATTACH;FMTTYPE=image/png:https://www.pnwumc.org/wp-content/uploads/2024/03/How2TalkAboutGC.png
LOCATION:https://www.pnwumc.org/event/how-to-talk-about-general-conference/
END:VEVENT
BEGIN:VEVENT
DTSTART;TZID=America/Los_Angeles:20240416T183000
DTEND;TZID=America/Los_Angeles:20240416T203000
DTSTAMP:20260424T001928
CREATED:20240227T190253Z
LAST-MODIFIED:20240227T190253Z
UID:10000845-1713292200-1713299400@www.pnwumc.org
SUMMARY:Introduction to Lay Servant Ministries: The Basic Course
DESCRIPTION:The “Introduction to Lay Servant Ministry: The BASIC Course” is the foundational course for Lay Servant Ministries. This is the gateway course for those who are called to be Certified Lay Servants\, Lay Speakers\, and Lay Ministers. And can also be part of a person’s discipleship plan to acquaint you with their gifts\, calling\, and responsibilities as followers of Christ. \nThis course will be offered over five two-hour sessions on Zoom on April 2\, 9\, 16\, 23\, and 30\, 2024\, from 6:30-8:30 p.m. PT. \nClick here for more information and to register today!
URL:https://www.pnwumc.org/event/introduction-to-lay-servant-ministries-the-basic-course/2024-04-16/
CATEGORIES:Certified Lay Minister,Laity,Training
ATTACH;FMTTYPE=image/png:https://www.pnwumc.org/wp-content/uploads/2023/08/LayServantMinistries16-9.png
ORGANIZER;CN="Sheila Miranda":MAILTO:SMiranda@pnwumc.org
LOCATION:https://www.pnwumc.org/event/introduction-to-lay-servant-ministries-the-basic-course/2024-04-16/
END:VEVENT
BEGIN:VEVENT
DTSTART;TZID=America/Los_Angeles:20240420T100000
DTEND;TZID=America/Los_Angeles:20240420T140000
DTSTAMP:20260424T001928
CREATED:20240320T184421Z
LAST-MODIFIED:20240320T184421Z
UID:10000854-1713607200-1713621600@www.pnwumc.org
SUMMARY:Liturgy: How to Organize the Worship Experience in Our Local Churches
DESCRIPTION:Hispanic/Latinx Ministries will be hosting a workshop for Spanish-speaking pastors and laypeople\, with the theme “Liturgy: How to Organize the Worship Experience in Our Local Churches.” This workshop aims to provide practical guidance and insights for pastors and lay leaders on enhancing the worship experience within their congregations. This event will be valuable for the Hispanic/Latinx community and contribute to the growth and enrichment of these churches. \nFor more information and registration\, interested individuals can reach out to Rev. Cruz Edwin Santos at cesantos@pnwumc.org and Aurora Pavon at l.a.c.p.3122@gmail.com. \nClick here to download a flier for this event.
URL:https://www.pnwumc.org/event/liturgy-how-to-organize-the-worship-experience-in-our-local-churches/
LOCATION:Renton UMC\, 2201 Northeast 4th Street\, Renton\, WA\, 98056\, United States
CATEGORIES:Hispanic Ministries,Training
ATTACH;FMTTYPE=image/jpeg:https://www.pnwumc.org/wp-content/uploads/2024/03/hlimage.jpg
ORGANIZER;CN="Rev. Cruz Edwin Santos":MAILTO:cesantos@pnwumc.org
GEO:47.488569;-122.1893709
X-APPLE-STRUCTURED-LOCATION;VALUE=URI;X-ADDRESS=Renton UMC 2201 Northeast 4th Street Renton WA 98056 United States;X-APPLE-RADIUS=500;X-TITLE=2201 Northeast 4th Street:geo:-122.1893709,47.488569
END:VEVENT
BEGIN:VEVENT
DTSTART;TZID=America/Los_Angeles:20240423T183000
DTEND;TZID=America/Los_Angeles:20240423T203000
DTSTAMP:20260424T001928
CREATED:20240227T190253Z
LAST-MODIFIED:20240227T190253Z
UID:10000846-1713897000-1713904200@www.pnwumc.org
SUMMARY:Introduction to Lay Servant Ministries: The Basic Course
DESCRIPTION:The “Introduction to Lay Servant Ministry: The BASIC Course” is the foundational course for Lay Servant Ministries. This is the gateway course for those who are called to be Certified Lay Servants\, Lay Speakers\, and Lay Ministers. And can also be part of a person’s discipleship plan to acquaint you with their gifts\, calling\, and responsibilities as followers of Christ. \nThis course will be offered over five two-hour sessions on Zoom on April 2\, 9\, 16\, 23\, and 30\, 2024\, from 6:30-8:30 p.m. PT. \nClick here for more information and to register today!
URL:https://www.pnwumc.org/event/introduction-to-lay-servant-ministries-the-basic-course/2024-04-23/
CATEGORIES:Certified Lay Minister,Laity,Training
ATTACH;FMTTYPE=image/png:https://www.pnwumc.org/wp-content/uploads/2023/08/LayServantMinistries16-9.png
ORGANIZER;CN="Sheila Miranda":MAILTO:SMiranda@pnwumc.org
LOCATION:https://www.pnwumc.org/event/introduction-to-lay-servant-ministries-the-basic-course/2024-04-23/
END:VEVENT
BEGIN:VEVENT
DTSTART;TZID=America/Los_Angeles:20240430T183000
DTEND;TZID=America/Los_Angeles:20240430T203000
DTSTAMP:20260424T001928
CREATED:20240227T190253Z
LAST-MODIFIED:20240227T190253Z
UID:10000847-1714501800-1714509000@www.pnwumc.org
SUMMARY:Introduction to Lay Servant Ministries: The Basic Course
DESCRIPTION:The “Introduction to Lay Servant Ministry: The BASIC Course” is the foundational course for Lay Servant Ministries. This is the gateway course for those who are called to be Certified Lay Servants\, Lay Speakers\, and Lay Ministers. And can also be part of a person’s discipleship plan to acquaint you with their gifts\, calling\, and responsibilities as followers of Christ. \nThis course will be offered over five two-hour sessions on Zoom on April 2\, 9\, 16\, 23\, and 30\, 2024\, from 6:30-8:30 p.m. PT. \nClick here for more information and to register today!
URL:https://www.pnwumc.org/event/introduction-to-lay-servant-ministries-the-basic-course/2024-04-30/
CATEGORIES:Certified Lay Minister,Laity,Training
ATTACH;FMTTYPE=image/png:https://www.pnwumc.org/wp-content/uploads/2023/08/LayServantMinistries16-9.png
ORGANIZER;CN="Sheila Miranda":MAILTO:SMiranda@pnwumc.org
LOCATION:https://www.pnwumc.org/event/introduction-to-lay-servant-ministries-the-basic-course/2024-04-30/
END:VEVENT
END:VCALENDAR