BEGIN:VCALENDAR
VERSION:2.0
PRODID:-//The Pacific Northwest Conference of The United Methodist Church - ECPv6.15.20//NONSGML v1.0//EN
CALSCALE:GREGORIAN
METHOD:PUBLISH
X-ORIGINAL-URL:https://www.pnwumc.org
X-WR-CALDESC:Events for The Pacific Northwest Conference of The United Methodist Church
REFRESH-INTERVAL;VALUE=DURATION:PT1H
X-Robots-Tag:noindex
X-PUBLISHED-TTL:PT1H
BEGIN:VTIMEZONE
TZID:America/Los_Angeles
BEGIN:DAYLIGHT
TZOFFSETFROM:-0800
TZOFFSETTO:-0700
TZNAME:PDT
DTSTART:20230312T100000
END:DAYLIGHT
BEGIN:STANDARD
TZOFFSETFROM:-0700
TZOFFSETTO:-0800
TZNAME:PST
DTSTART:20231105T090000
END:STANDARD
BEGIN:DAYLIGHT
TZOFFSETFROM:-0800
TZOFFSETTO:-0700
TZNAME:PDT
DTSTART:20240310T100000
END:DAYLIGHT
BEGIN:STANDARD
TZOFFSETFROM:-0700
TZOFFSETTO:-0800
TZNAME:PST
DTSTART:20241103T090000
END:STANDARD
BEGIN:DAYLIGHT
TZOFFSETFROM:-0800
TZOFFSETTO:-0700
TZNAME:PDT
DTSTART:20250309T100000
END:DAYLIGHT
BEGIN:STANDARD
TZOFFSETFROM:-0700
TZOFFSETTO:-0800
TZNAME:PST
DTSTART:20251102T090000
END:STANDARD
END:VTIMEZONE
BEGIN:VEVENT
DTSTART;TZID=America/Los_Angeles:20240206T183000
DTEND;TZID=America/Los_Angeles:20240206T203000
DTSTAMP:20260424T033649
CREATED:20231101T004228Z
LAST-MODIFIED:20231101T004228Z
UID:10000770-1707244200-1707251400@www.pnwumc.org
SUMMARY:Introduction to Lay Servant Ministries: The Basic Course
DESCRIPTION:The “Introduction to Lay Servant Ministry: The BASIC Course” is the foundational course for Lay Servant Ministries. This is the gateway course for those who are called to be Certified Lay Servants\, Lay Speakers\, and Lay Ministers. And can also be part of a person’s discipleship plan to acquaint you with their gifts\, calling\, and responsibilities as followers of Christ. \nThis course will be offered over five two-hour sessions on Zoom on Jan. 9\, 16\, 23\, 30 & Feb. 6\, 2024\, from 6:30-8:30 p.m. PT. \nClick here for more information and to register today!
URL:https://www.pnwumc.org/event/introduction-to-lay-servant-ministries-the-basic-course-2/2024-02-06/
CATEGORIES:Certified Lay Minister,Laity,Training
ATTACH;FMTTYPE=image/png:https://www.pnwumc.org/wp-content/uploads/2023/08/LayServantMinistries16-9.png
ORGANIZER;CN="Sheila Miranda":MAILTO:SMiranda@pnwumc.org
END:VEVENT
BEGIN:VEVENT
DTSTART;TZID=America/Los_Angeles:20240208T090000
DTEND;TZID=America/Los_Angeles:20240208T170000
DTSTAMP:20260424T033649
CREATED:20231003T192340Z
LAST-MODIFIED:20231003T192340Z
UID:10000659-1707382800-1707411600@www.pnwumc.org
SUMMARY:Institutional Equity Cohort
DESCRIPTION:The date for one of six in-person Equity Cohort gatherings for individuals within the Oregon-Idaho and Pacific Northwest Annual Conferences leadership structures.
URL:https://www.pnwumc.org/event/institutional-equity-cohort-6/
LOCATION:Fairwood Community United Methodist Church\, 15255 SE Fairwood Blvd.\, Renton\, WA\, 98058\, United States
CATEGORIES:Greater NW Area,Training
ATTACH;FMTTYPE=image/png:https://www.pnwumc.org/wp-content/uploads/2023/09/Equity-Cohorts.png
ORGANIZER;CN="Kristina Gonzalez":MAILTO:kgonzalez@greaternw.org
GEO:47.4473178;-122.1362455
X-APPLE-STRUCTURED-LOCATION;VALUE=URI;X-ADDRESS=Fairwood Community United Methodist Church 15255 SE Fairwood Blvd. Renton WA 98058 United States;X-APPLE-RADIUS=500;X-TITLE=15255 SE Fairwood Blvd.:geo:-122.1362455,47.4473178
END:VEVENT
BEGIN:VEVENT
DTSTART;TZID=America/Los_Angeles:20240209T090000
DTEND;TZID=America/Los_Angeles:20240209T170000
DTSTAMP:20260424T033649
CREATED:20230910T211757Z
LAST-MODIFIED:20231003T191944Z
UID:10000664-1707469200-1707498000@www.pnwumc.org
SUMMARY:Congregational Equity Cohort
DESCRIPTION:The date for one of six in-person Equity Cohort gatherings for Congregational Leaders within the Oregon-Idaho and Pacific Northwest Annual Conferences.
URL:https://www.pnwumc.org/event/congregational-equity-cohort-2/
LOCATION:Fairwood Community United Methodist Church\, 15255 SE Fairwood Blvd.\, Renton\, WA\, 98058\, United States
CATEGORIES:Greater NW Area,Training
ATTACH;FMTTYPE=image/png:https://www.pnwumc.org/wp-content/uploads/2023/09/Equity-Cohorts.png
ORGANIZER;CN="Kristina Gonzalez":MAILTO:kgonzalez@greaternw.org
GEO:47.4473178;-122.1362455
X-APPLE-STRUCTURED-LOCATION;VALUE=URI;X-ADDRESS=Fairwood Community United Methodist Church 15255 SE Fairwood Blvd. Renton WA 98058 United States;X-APPLE-RADIUS=500;X-TITLE=15255 SE Fairwood Blvd.:geo:-122.1362455,47.4473178
END:VEVENT
BEGIN:VEVENT
DTSTART;TZID=America/Los_Angeles:20240210T100000
DTEND;TZID=America/Los_Angeles:20240210T150000
DTSTAMP:20260424T033649
CREATED:20240104T224427Z
LAST-MODIFIED:20240104T231803Z
UID:10000776-1707559200-1707577200@www.pnwumc.org
SUMMARY:Creating a Safety and Security Ministry
DESCRIPTION:About the workshop:\nThe SeaTac Missional District of The Pacific Northwest Conference of the United Methodist Church is sponsoring a workshop\, Creating a Safety and Security Ministry\, on Saturday\, February 10\, 2024\, from 10 am to 3 pm. The workshop will be held in the Lee Activity Center at Blaine Memorial United Methodist Church. \nThe pandemic years showed us that something can disrupt even the hallowed routine of attending church on Sunday. Recent changes in our world have challenged our sense of safety and security\, creating a continued feeling of unease. Rev. Derek Nakano\, District Superintendent for the SeaTac Missional District\, tasked his member churches to address church safety and security during their charge conferences. \nJoin workshop facilitator Ronald Miller\, MA\, MS\, and his wife Joanne\, MSN\, RN\, ARNP\, who will discuss the steps to create a Safety and Security Ministry for your church. Helping others create safe and secure ministries is a passion and personal ministry for the Millers. \nWhy attend?\nMany churches find planning for safety and security challenging. Bluntly\, “It could never happen here” is irresponsible and naïve. The “normal” has changed. Frequently\, through prayerful discernment\, we need a change in basic assumptions. But where do you start? \n\nThe scriptural basis for protection.\nA brief review of the history and trends of violence on faith-based properties.\nProactive v Reactive—The Mindset.\nInitial steps to creating a ministry for safety and protection.\nThreat vulnerability and mitigation of identified factors.\nBuilding the Ministry team\, Equipment\, and Training Resources.\nOn-going networking and training.\nPotential legal liabilities for failing to plan and prepare (not legal advice).\nFederal funding programs for Faith-Based Organizations.\n\n\nWho should attend?\nAnyone who feels called may serve in this ministry. If you have the heart\, there is a role for you. We are first and foremost Ambassadors for Christ who “watch over the flock” for the Shepherd. That is the mission. Clergy are urged to attend with their congregants. \nThe workshop costs $50 per person or $100 for up to 4 same congregation members. For questions\, please email Erin at etombaugh@pnwumc.org. We will provide lunch and refreshments. \nRegister and pay online here. \nAbout the presenters:\nRonald Miller\, MA\, MS\, sits on the Episcopal Diocese of Olympia’s Board of Directors and serves as the Safety and Security Coordinator for the Diocese. He is a retired police officer\, trained as a forensic scientist\, a retired Licensed Mental Health Counselor\, and a court-appointed Forensic Investigator specializing in behavioral evidence analysis in homicide investigations. He is a certified firearms instructor. \nJoanne Miller\, ARNP\, is a retired advanced practice registered nurse specializing in trauma\, ICU\, and palliative care. She is also a certified firearms instructor who focuses on women’s issues and needs in handgun training. Together\, she and Ron provide private firearms safety and training instruction.
URL:https://www.pnwumc.org/event/creating-a-safety-and-security-ministry/
LOCATION:Blaine Memorial UMC\, 3001 24th Ave S\, Seattle\, WA\, 98144\, United States
CATEGORIES:SeaTac,Training
ATTACH;FMTTYPE=image/png:https://www.pnwumc.org/wp-content/uploads/2024/01/Safety-Security-Ministry-Workshop.png
ORGANIZER;CN="SeaTac District":MAILTO:etombaugh@pnwumc.org
GEO:47.5764631;-122.3013508
X-APPLE-STRUCTURED-LOCATION;VALUE=URI;X-ADDRESS=Blaine Memorial UMC 3001 24th Ave S Seattle WA 98144 United States;X-APPLE-RADIUS=500;X-TITLE=3001 24th Ave S:geo:-122.3013508,47.5764631
END:VEVENT
BEGIN:VEVENT
DTSTART;TZID=America/Los_Angeles:20240229T080000
DTEND;TZID=America/Los_Angeles:20240229T130000
DTSTAMP:20260424T033649
CREATED:20240113T013307Z
LAST-MODIFIED:20240113T013307Z
UID:10000779-1709193600-1709211600@www.pnwumc.org
SUMMARY:Kids & Family Ministries (Online Training)
DESCRIPTION:Learn strategic and practical ways to engage kids and their families in your church. Five major areas of focus will be covered: kid’s programs with the whole family in mind\, celebrating faith milestones that become foundational for life\, creating a safe and welcoming environment\, development of curriculum content and context specific to your community\, and hosting outreach events that broaden your connection to new young families! \nThis online training takes place from 8 am to 1 pm Pacific Time. Learn more about the 5 sessions focusing on different aspects of ministry with kids and families in Session Descriptions. \nClick here to learn more and register.
URL:https://www.pnwumc.org/event/kids-family-ministries-online-training/
CATEGORIES:Children's Ministry,Education,Networks,Training,Young People's Ministry
ATTACH;FMTTYPE=image/jpeg:https://www.pnwumc.org/wp-content/uploads/2024/01/1.jpg
ORGANIZER;CN="Megan Cullum":MAILTO:megan.cullum@cor.org
LOCATION:https://www.pnwumc.org/event/kids-family-ministries-online-training/
END:VEVENT
END:VCALENDAR