BEGIN:VCALENDAR
VERSION:2.0
PRODID:-//The Pacific Northwest Conference of The United Methodist Church - ECPv6.15.20//NONSGML v1.0//EN
CALSCALE:GREGORIAN
METHOD:PUBLISH
X-ORIGINAL-URL:https://www.pnwumc.org
X-WR-CALDESC:Events for The Pacific Northwest Conference of The United Methodist Church
REFRESH-INTERVAL;VALUE=DURATION:PT1H
X-Robots-Tag:noindex
X-PUBLISHED-TTL:PT1H
BEGIN:VTIMEZONE
TZID:America/Los_Angeles
BEGIN:DAYLIGHT
TZOFFSETFROM:-0800
TZOFFSETTO:-0700
TZNAME:PDT
DTSTART:20220313T100000
END:DAYLIGHT
BEGIN:STANDARD
TZOFFSETFROM:-0700
TZOFFSETTO:-0800
TZNAME:PST
DTSTART:20221106T090000
END:STANDARD
BEGIN:DAYLIGHT
TZOFFSETFROM:-0800
TZOFFSETTO:-0700
TZNAME:PDT
DTSTART:20230312T100000
END:DAYLIGHT
BEGIN:STANDARD
TZOFFSETFROM:-0700
TZOFFSETTO:-0800
TZNAME:PST
DTSTART:20231105T090000
END:STANDARD
BEGIN:DAYLIGHT
TZOFFSETFROM:-0800
TZOFFSETTO:-0700
TZNAME:PDT
DTSTART:20240310T100000
END:DAYLIGHT
BEGIN:STANDARD
TZOFFSETFROM:-0700
TZOFFSETTO:-0800
TZNAME:PST
DTSTART:20241103T090000
END:STANDARD
END:VTIMEZONE
BEGIN:VEVENT
DTSTART;TZID=America/Los_Angeles:20231114T100000
DTEND;TZID=America/Los_Angeles:20231114T130000
DTSTAMP:20260419T140707
CREATED:20231027T175434Z
LAST-MODIFIED:20231027T175434Z
UID:10000680-1699956000-1699966800@www.pnwumc.org
SUMMARY:Appointive Cabinet
DESCRIPTION:The GNW Appointive Cabinet is meeting.
URL:https://www.pnwumc.org/event/appointive-cabinet/2023-11-14/
CATEGORIES:Meetings
ORGANIZER;CN="Rhondalei Gabuat":MAILTO:rgabuat@pnwumc.org
LOCATION:https://www.pnwumc.org/event/appointive-cabinet/2023-11-14/
END:VEVENT
BEGIN:VEVENT
DTSTART;TZID=America/Los_Angeles:20231115T090000
DTEND;TZID=America/Los_Angeles:20231115T160000
DTSTAMP:20260419T140707
CREATED:20231108T023221Z
LAST-MODIFIED:20231108T023307Z
UID:10000772-1700038800-1700064000@www.pnwumc.org
SUMMARY:Board of Ordained Ministry
DESCRIPTION:
URL:https://www.pnwumc.org/event/board-of-ordained-ministry-2/
LOCATION:Tacoma First United Methodist Church\, 621 Tacoma Avenue South\, Tacoma\, WA\, 98402\, United States
CATEGORIES:Board of Ordained Ministry,Meetings
ATTACH;FMTTYPE=image/png:https://www.pnwumc.org/wp-content/uploads/2013/08/LOGO_BOM_200w.png
ORGANIZER;CN="Stephanie Franklin":MAILTO:sfranklin@pnwumc.org
GEO:47.2573855;-122.4453398
X-APPLE-STRUCTURED-LOCATION;VALUE=URI;X-ADDRESS=Tacoma First United Methodist Church 621 Tacoma Avenue South Tacoma WA 98402 United States;X-APPLE-RADIUS=500;X-TITLE=621 Tacoma Avenue South:geo:-122.4453398,47.2573855
END:VEVENT
BEGIN:VEVENT
DTSTART;TZID=America/Los_Angeles:20231115T180000
DTEND;TZID=America/Los_Angeles:20231115T200000
DTSTAMP:20260419T140707
CREATED:20230815T223342Z
LAST-MODIFIED:20230815T231613Z
UID:10000641-1700071200-1700078400@www.pnwumc.org
SUMMARY:Pacific Northwest Special Called Session
DESCRIPTION:Online only\, with online voting support. More details TBA. \nThe sole purpose of the Special Session is to affirm or not affirm the church conference actions of local churches that are choosing to ask to disaffiliate from The United Methodist Church under the provisions of ¶ 2553 of The Book of Discipline\, 2019 Addendum. The Board of Trustees will present negotiated settlements that cannot be amended. The members of Annual Conference will affirm or not affirm the agreements by a simple majority vote. \nThe Special Session will be held on Zoom and will require registration for voting credentials. Registration and further information regarding the session and its business will be sent to the persons to be seated at the special session of the Annual Conference and posted on the conference website by Nov. 3\, 2023. \nThe voting membership of the special session will consist of the clergy members of the annual conference as defined in ¶32 of the Book of Discipline and the lay members of the June 2023 Annual Conference (lay member or alternate\, whoever was last seated in the June annual conference) in accordance with the Book of Discipline ¶602.5.1 \n1 No local charge will be deprived of its lay member due to death\, serious illness\, or cessation of membership. Under such circumstances\, another lay member may be elected by the charge conference (¶602.5). If your charge is affected\, please contact Rev. Shirley DeLarme\, the Conference Secretary.
URL:https://www.pnwumc.org/event/special-session-nov-7-2023/
CATEGORIES:Annual Conference,Meetings
ATTACH;FMTTYPE=image/jpeg:https://www.pnwumc.org/wp-content/uploads/2023/08/SpecialSessionNov15.jpg
LOCATION:https://www.pnwumc.org/event/special-session-nov-7-2023/
END:VEVENT
BEGIN:VEVENT
DTSTART;TZID=America/Los_Angeles:20231116T090000
DTEND;TZID=America/Los_Angeles:20231116T140000
DTSTAMP:20260419T140707
CREATED:20231027T180204Z
LAST-MODIFIED:20231027T180204Z
UID:10000696-1700125200-1700143200@www.pnwumc.org
SUMMARY:Full GNW Cabinet
DESCRIPTION:The full GNW Cabinet is meeting on Zoom.
URL:https://www.pnwumc.org/event/full-gnw-cabinet/2023-11-16/
CATEGORIES:Meetings
ORGANIZER;CN="Rhondalei Gabuat":MAILTO:rgabuat@pnwumc.org
LOCATION:https://www.pnwumc.org/event/full-gnw-cabinet/2023-11-16/
END:VEVENT
END:VCALENDAR