BEGIN:VCALENDAR
VERSION:2.0
PRODID:-//The Pacific Northwest Conference of The United Methodist Church - ECPv6.15.20//NONSGML v1.0//EN
CALSCALE:GREGORIAN
METHOD:PUBLISH
X-ORIGINAL-URL:https://www.pnwumc.org
X-WR-CALDESC:Events for The Pacific Northwest Conference of The United Methodist Church
REFRESH-INTERVAL;VALUE=DURATION:PT1H
X-Robots-Tag:noindex
X-PUBLISHED-TTL:PT1H
BEGIN:VTIMEZONE
TZID:America/Los_Angeles
BEGIN:DAYLIGHT
TZOFFSETFROM:-0800
TZOFFSETTO:-0700
TZNAME:PDT
DTSTART:20250309T100000
END:DAYLIGHT
BEGIN:STANDARD
TZOFFSETFROM:-0700
TZOFFSETTO:-0800
TZNAME:PST
DTSTART:20251102T090000
END:STANDARD
BEGIN:DAYLIGHT
TZOFFSETFROM:-0800
TZOFFSETTO:-0700
TZNAME:PDT
DTSTART:20260308T100000
END:DAYLIGHT
BEGIN:STANDARD
TZOFFSETFROM:-0700
TZOFFSETTO:-0800
TZNAME:PST
DTSTART:20261101T090000
END:STANDARD
BEGIN:DAYLIGHT
TZOFFSETFROM:-0800
TZOFFSETTO:-0700
TZNAME:PDT
DTSTART:20270314T100000
END:DAYLIGHT
BEGIN:STANDARD
TZOFFSETFROM:-0700
TZOFFSETTO:-0800
TZNAME:PST
DTSTART:20271107T090000
END:STANDARD
END:VTIMEZONE
BEGIN:VEVENT
DTSTART;TZID=America/Los_Angeles:20260420T190000
DTEND;TZID=America/Los_Angeles:20260420T200000
DTSTAMP:20260420T003032
CREATED:20260303T203626Z
LAST-MODIFIED:20260303T203626Z
UID:10002089-1776711600-1776715200@www.pnwumc.org
SUMMARY:Crest to Coast Lay Leadership Gatherings
DESCRIPTION:Crest to Coast Laity and Clergy are invited to join District Superintendent Rev. Kathleen Weber at an upcoming Lay Leadership Gathering—a dynamic space for connection\, inspiration\, and practical sharing. \nWhether you’re looking for fresh ideas\, eager to tackle challenges together\, or simply want to see what others are accomplishing\, these Zoom gatherings are designed for you. \nSign up for one or attend them all\, then bring your questions\, your energy\, and your curiosity—or just listen in and be inspired by fellow laity from across the Crest to Coast district. \nUpcoming Gathering Dates and Subjects:  \n\nMarch 9*- Council Chairs\nMarch 16*- Lay Leaders\nMarch 23*- Lay Speaker/Servants\nMarch 30*- Finance\nApril 13*- Youth and Children Interests\nApril 20*- Day Care/Preschools\n\n*All gatherings meet from 7 to 8 p.m. \nReady to be part of the conversation? Register at https://gnw-reg.brtapp.com/C2CLayLeadershipGatheringsW2026
URL:https://www.pnwumc.org/event/crest-to-coast-lay-leadership-gatherings/2026-04-20/
CATEGORIES:Clergy,District,Laity,Meetings
ATTACH;FMTTYPE=image/png:https://www.pnwumc.org/wp-content/uploads/2026/03/C2C-Leadership-Gatherings-Logo-3-e1772569919598.png
ORGANIZER;CN="Rev. Kathleen Weber":MAILTO:c2cds@pnwumc.org
LOCATION:https://www.pnwumc.org/event/crest-to-coast-lay-leadership-gatherings/2026-04-20/
END:VEVENT
BEGIN:VEVENT
DTSTART;TZID=America/Los_Angeles:20260616T183000
DTEND;TZID=America/Los_Angeles:20260616T193000
DTSTAMP:20260420T003032
CREATED:20260414T213050Z
LAST-MODIFIED:20260416T172852Z
UID:10002209-1781634600-1781638200@www.pnwumc.org
SUMMARY:Archives and History Meetups
DESCRIPTION:Preserving the Stories of Our Faith for Generations to Come\n\nEvery photo\, ledger\, and letter in our local churches tells a story of faith in action. But how do we ensure these precious memories are preserved for those who follow us?\n\nThe PNW Conference Archives and History Committee warmly invites you to our quarterly virtual meetups. Whether you have spent years caring for your church’s records or are just beginning to organize your congregation’s “memory closet\,” your perspective is invaluable. We gather to share practical advice\, compare notes\, and support one another in this sacred work of keeping our history alive.\n\nWe are offering the following Meetups on Zoom in June and September. \n\n\nTuesday\, June 16 | 6:30 – 7:30 PM -Topic: Guidelines for Local Church Archives\nTuesday\, September 22 | 6:30 – 7:30 PM -Topic: Archiving Digital Records\n\nPlease join us for one or both. We look forward to gathering with you and honoring the legacy of our conference together. \n\nRegister here: https://gnw-reg.brtapp.com/PNWArchivesandHistoryMeetup\n\n\n 
URL:https://www.pnwumc.org/event/archives-and-history-meetups/2026-06-16/
LOCATION:Zoom Meeting
CATEGORIES:Archives & History,Meetings
ATTACH;FMTTYPE=image/jpeg:https://www.pnwumc.org/wp-content/uploads/2024/10/PNW-AH.jpg
ORGANIZER;CN="PNW Archives and History Committee":MAILTO:Lvelonza@pnwumc.org
END:VEVENT
BEGIN:VEVENT
DTSTART;VALUE=DATE:20260623
DTEND;VALUE=DATE:20260626
DTSTAMP:20260420T003032
CREATED:20250929T230822Z
LAST-MODIFIED:20260331T202336Z
UID:10001617-1782172800-1782431999@www.pnwumc.org
SUMMARY:PNW Annual Conference Session 2026
DESCRIPTION:Our 2026 Pacific Northwest Annual Conference is scheduled to take place June 23-25 at Spokane Valley United Methodist Church. \nClick here to learn more.
URL:https://www.pnwumc.org/event/pnw-annual-conference-session-2026/
LOCATION:Spokane Valley United Methodist Church\, 115 N Raymond Rd\, Spokane Valley\, WA\, 99206\, United States
CATEGORIES:Annual Conference,Meetings
ATTACH;FMTTYPE=image/jpeg:https://www.pnwumc.org/wp-content/uploads/2026/03/PNWAC-2026-logo-16x9-1400w.jpg
GEO:47.658477;-117.264698
X-APPLE-STRUCTURED-LOCATION;VALUE=URI;X-ADDRESS=Spokane Valley United Methodist Church 115 N Raymond Rd Spokane Valley WA 99206 United States;X-APPLE-RADIUS=500;X-TITLE=115 N Raymond Rd:geo:-117.264698,47.658477
END:VEVENT
BEGIN:VEVENT
DTSTART;TZID=America/Los_Angeles:20260922T183000
DTEND;TZID=America/Los_Angeles:20260922T193000
DTSTAMP:20260420T003032
CREATED:20260414T213050Z
LAST-MODIFIED:20260416T172852Z
UID:10002210-1790101800-1790105400@www.pnwumc.org
SUMMARY:Archives and History Meetups
DESCRIPTION:Preserving the Stories of Our Faith for Generations to Come\n\nEvery photo\, ledger\, and letter in our local churches tells a story of faith in action. But how do we ensure these precious memories are preserved for those who follow us?\n\nThe PNW Conference Archives and History Committee warmly invites you to our quarterly virtual meetups. Whether you have spent years caring for your church’s records or are just beginning to organize your congregation’s “memory closet\,” your perspective is invaluable. We gather to share practical advice\, compare notes\, and support one another in this sacred work of keeping our history alive.\n\nWe are offering the following Meetups on Zoom in June and September. \n\n\nTuesday\, June 16 | 6:30 – 7:30 PM -Topic: Guidelines for Local Church Archives\nTuesday\, September 22 | 6:30 – 7:30 PM -Topic: Archiving Digital Records\n\nPlease join us for one or both. We look forward to gathering with you and honoring the legacy of our conference together. \n\nRegister here: https://gnw-reg.brtapp.com/PNWArchivesandHistoryMeetup\n\n\n 
URL:https://www.pnwumc.org/event/archives-and-history-meetups/2026-09-22/
LOCATION:Zoom Meeting
CATEGORIES:Archives & History,Meetings
ATTACH;FMTTYPE=image/jpeg:https://www.pnwumc.org/wp-content/uploads/2024/10/PNW-AH.jpg
ORGANIZER;CN="PNW Archives and History Committee":MAILTO:Lvelonza@pnwumc.org
END:VEVENT
END:VCALENDAR