BEGIN:VCALENDAR
VERSION:2.0
PRODID:-//The Pacific Northwest Conference of The United Methodist Church - ECPv6.15.20//NONSGML v1.0//EN
CALSCALE:GREGORIAN
METHOD:PUBLISH
X-ORIGINAL-URL:https://www.pnwumc.org
X-WR-CALDESC:Events for The Pacific Northwest Conference of The United Methodist Church
REFRESH-INTERVAL;VALUE=DURATION:PT1H
X-Robots-Tag:noindex
X-PUBLISHED-TTL:PT1H
BEGIN:VTIMEZONE
TZID:America/Los_Angeles
BEGIN:DAYLIGHT
TZOFFSETFROM:-0800
TZOFFSETTO:-0700
TZNAME:PDT
DTSTART:20220313T100000
END:DAYLIGHT
BEGIN:STANDARD
TZOFFSETFROM:-0700
TZOFFSETTO:-0800
TZNAME:PST
DTSTART:20221106T090000
END:STANDARD
BEGIN:DAYLIGHT
TZOFFSETFROM:-0800
TZOFFSETTO:-0700
TZNAME:PDT
DTSTART:20230312T100000
END:DAYLIGHT
BEGIN:STANDARD
TZOFFSETFROM:-0700
TZOFFSETTO:-0800
TZNAME:PST
DTSTART:20231105T090000
END:STANDARD
BEGIN:DAYLIGHT
TZOFFSETFROM:-0800
TZOFFSETTO:-0700
TZNAME:PDT
DTSTART:20240310T100000
END:DAYLIGHT
BEGIN:STANDARD
TZOFFSETFROM:-0700
TZOFFSETTO:-0800
TZNAME:PST
DTSTART:20241103T090000
END:STANDARD
END:VTIMEZONE
BEGIN:VEVENT
DTSTART;TZID=America/Los_Angeles:20230422T100000
DTEND;TZID=America/Los_Angeles:20230422T140000
DTSTAMP:20260419T225221
CREATED:20230213T185208Z
LAST-MODIFIED:20230213T213819Z
UID:10000597-1682157600-1682172000@www.pnwumc.org
SUMMARY:Orientation to Ministry
DESCRIPTION:The PNW Board of Ordained Ministry will be hosting two gatherings for exploring and established candidates for ministry to: \n\nSHARE INFORMATION regarding the pathway to professional ministries\, in its various forms\nBUILD RELATIONSHIPS between candidates\, mentors\, and BOM members (¶312 Book of Discipline)\nMEET & GREET\, Presentation of Different Ministries\n\nAttending this orientation is a requirement for certification as a candidate for ordained ministry in The United Methodist Church. Registration is required to Stephanie Franklin at sfranklin@pnwumc.org. Lunch will be served. When you email\, please let us know if you have food restrictions\, need child care\, or would benefit from an interpreter. \nThere is NO COST—For more information\, contact: Stephanie Franklin or Rev. Kathy Morse revkathymorse@gmail.com. \nAn additional opportunity is being offered on March 25 at Renton UMC.
URL:https://www.pnwumc.org/event/orientation-to-ministry-4/
LOCATION:Moses Lake United Methodist Church\, 746 S Ironwood Drive\, Moses Lake\, WA\, 98837\, United States
CATEGORIES:Board of Ordained Ministry,Meetings
ORGANIZER;CN="Stephanie Franklin":MAILTO:sfranklin@pnwumc.org
GEO:47.1267938;-119.2627205
X-APPLE-STRUCTURED-LOCATION;VALUE=URI;X-ADDRESS=Moses Lake United Methodist Church 746 S Ironwood Drive Moses Lake WA 98837 United States;X-APPLE-RADIUS=500;X-TITLE=746 S Ironwood Drive:geo:-119.2627205,47.1267938
END:VEVENT
END:VCALENDAR