BEGIN:VCALENDAR
VERSION:2.0
PRODID:-//The Pacific Northwest Conference of The United Methodist Church - ECPv6.15.20//NONSGML v1.0//EN
CALSCALE:GREGORIAN
METHOD:PUBLISH
X-WR-CALNAME:The Pacific Northwest Conference of The United Methodist Church
X-ORIGINAL-URL:https://www.pnwumc.org
X-WR-CALDESC:Events for The Pacific Northwest Conference of The United Methodist Church
REFRESH-INTERVAL;VALUE=DURATION:PT1H
X-Robots-Tag:noindex
X-PUBLISHED-TTL:PT1H
BEGIN:VTIMEZONE
TZID:America/Los_Angeles
BEGIN:DAYLIGHT
TZOFFSETFROM:-0800
TZOFFSETTO:-0700
TZNAME:PDT
DTSTART:20240310T100000
END:DAYLIGHT
BEGIN:STANDARD
TZOFFSETFROM:-0700
TZOFFSETTO:-0800
TZNAME:PST
DTSTART:20241103T090000
END:STANDARD
BEGIN:DAYLIGHT
TZOFFSETFROM:-0800
TZOFFSETTO:-0700
TZNAME:PDT
DTSTART:20250309T100000
END:DAYLIGHT
BEGIN:STANDARD
TZOFFSETFROM:-0700
TZOFFSETTO:-0800
TZNAME:PST
DTSTART:20251102T090000
END:STANDARD
BEGIN:DAYLIGHT
TZOFFSETFROM:-0800
TZOFFSETTO:-0700
TZNAME:PDT
DTSTART:20260308T100000
END:DAYLIGHT
BEGIN:STANDARD
TZOFFSETFROM:-0700
TZOFFSETTO:-0800
TZNAME:PST
DTSTART:20261101T090000
END:STANDARD
END:VTIMEZONE
BEGIN:VEVENT
DTSTART;TZID=America/Los_Angeles:20251028T180000
DTEND;TZID=America/Los_Angeles:20251028T200000
DTSTAMP:20260422T162351
CREATED:20250701T191142Z
LAST-MODIFIED:20250701T191221Z
UID:10001569-1761674400-1761681600@www.pnwumc.org
SUMMARY:Lay Servant Ministries: Lay Pastoral Care Giving
DESCRIPTION:Lay Pastoral Care Giving offers insights into the life span and the dynamics of contemporary life\, helping church leaders reach out with God’s love and care to others. Expressing care to someone in need\, whether within the community of faith or beyond\, may seem the most natural thing in the world. For some\, it is\, for others\, it’s less so. All can improve. \nThe course is being offered online this October (Thursdays and Tuesdays\, 6 to 8 PM PDT) for those interested in taking the next step in their exploration. The instructor is Billie Fitzsimmons\, a Certified Lay Minister. \nWhile the course is offered for those who register at no cost\, participants must secure a copy of the Lay Pastoral Care Giving Participant’s Book (ISBN • 978-0-88177-554-9) by Tim. M Farabough. The participants’ book is available at Cokesbury and on Amazon in paperback and Kindle formats. \nParticipant Requirements: Each participant must have a book\, read it\, complete assignments\, and be fully engaged in all five\, two-hour sessions with audio and video capability active. \nRegister Here: https://gnw-reg.brtapp.com/LayPastoralCareGiving2025 \n 
URL:https://www.pnwumc.org/event/lay-pastoral-care-giving-2/2025-10-28/
CATEGORIES:Certified Lay Minister,Greater NW Area,Laity,Online Training,Training
ATTACH;FMTTYPE=image/jpeg:https://www.pnwumc.org/wp-content/uploads/2025/04/laypastoralcare.jpg
ORGANIZER;CN="Laura Velonza":MAILTO:lvelonza@pnwumc.org
LOCATION:https://www.pnwumc.org/event/lay-pastoral-care-giving-2/2025-10-28/
END:VEVENT
BEGIN:VEVENT
DTSTART;TZID=America/Los_Angeles:20251029T180000
DTEND;TZID=America/Los_Angeles:20251029T200000
DTSTAMP:20260422T162351
CREATED:20250701T171355Z
LAST-MODIFIED:20250701T193257Z
UID:10001562-1761760800-1761768000@www.pnwumc.org
SUMMARY:Lay Servant Ministries: Advanced Course - Called To Preach
DESCRIPTION:Join Rev. Joanne Coleman Campbell as she leads you through the Advanced Course on Preaching\, “Called to Preach.” This course is designed for those who have not completed formal preaching training\, for pastors seeking a basic refresher course\, and for others who are called upon to preach in a pastor’s absence. Called to Preach is the required preaching course in the lay Speaker track of study.  Register:  https://gnw-reg.brtapp.com/LayServantMinistriesACCalledToPreach \n  \n 
URL:https://www.pnwumc.org/event/lay-servant-ministries-advanced-course-called-to-preach-wednesday/2025-10-29/
LOCATION:Zoom
CATEGORIES:Certified Lay Minister,Laity,Online Training,Training
ATTACH;FMTTYPE=image/png:https://www.pnwumc.org/wp-content/uploads/2025/01/Called-to-Preach-Section-1-featured-image.png
ORGANIZER;CN="Joanne Coleman Campbell":MAILTO:jecolecamp@gmail.com
END:VEVENT
BEGIN:VEVENT
DTSTART;TZID=America/Los_Angeles:20251030T180000
DTEND;TZID=America/Los_Angeles:20251030T200000
DTSTAMP:20260422T162351
CREATED:20250701T191142Z
LAST-MODIFIED:20250701T191221Z
UID:10001570-1761847200-1761854400@www.pnwumc.org
SUMMARY:Lay Servant Ministries: Lay Pastoral Care Giving
DESCRIPTION:Lay Pastoral Care Giving offers insights into the life span and the dynamics of contemporary life\, helping church leaders reach out with God’s love and care to others. Expressing care to someone in need\, whether within the community of faith or beyond\, may seem the most natural thing in the world. For some\, it is\, for others\, it’s less so. All can improve. \nThe course is being offered online this October (Thursdays and Tuesdays\, 6 to 8 PM PDT) for those interested in taking the next step in their exploration. The instructor is Billie Fitzsimmons\, a Certified Lay Minister. \nWhile the course is offered for those who register at no cost\, participants must secure a copy of the Lay Pastoral Care Giving Participant’s Book (ISBN • 978-0-88177-554-9) by Tim. M Farabough. The participants’ book is available at Cokesbury and on Amazon in paperback and Kindle formats. \nParticipant Requirements: Each participant must have a book\, read it\, complete assignments\, and be fully engaged in all five\, two-hour sessions with audio and video capability active. \nRegister Here: https://gnw-reg.brtapp.com/LayPastoralCareGiving2025 \n 
URL:https://www.pnwumc.org/event/lay-pastoral-care-giving-2/2025-10-30/
CATEGORIES:Certified Lay Minister,Greater NW Area,Laity,Online Training,Training
ATTACH;FMTTYPE=image/jpeg:https://www.pnwumc.org/wp-content/uploads/2025/04/laypastoralcare.jpg
ORGANIZER;CN="Laura Velonza":MAILTO:lvelonza@pnwumc.org
LOCATION:https://www.pnwumc.org/event/lay-pastoral-care-giving-2/2025-10-30/
END:VEVENT
BEGIN:VEVENT
DTSTART;TZID=America/Los_Angeles:20251101T090000
DTEND;TZID=America/Los_Angeles:20251101T113000
DTSTAMP:20260422T162351
CREATED:20250826T232644Z
LAST-MODIFIED:20250826T232644Z
UID:10001587-1761987600-1761996600@www.pnwumc.org
SUMMARY:Lay Servant Ministries: Leading Worship
DESCRIPTION:Lay Servants who have completed the Basic Course are invited to participate in this four-week class on leading worship\, led by Rev. Dr. Desi Larson\, from November 1-22\, 2025. The class will be held on Zoom on Saturdays from 9:00-11:30am. This class is worth 1 CEU and counts toward either Lay Servant or Lay Speaker Certification. It is also a prerequisite for Certified Lay Minister Modules. \nUsing Hoyt Hickman’s book\, Worshiping with United Methodists\, this course will help students understand the basic pattern of United Methodist worship within the broader context of Christian worship. Drawing upon five basic principles\, the author explains the formative nature of worship and how it can revitalize persons’ lives. \nThe Rev. Dr. Desi Larson is a member of the Oregon-Idaho Conference\, currently serving as Pastor of Trinity UMC in Sequim\, WA. Prior to moving to the western US in 2016\, Desi was a member of the New England Conference and served as Pastor of several churches in Maine. Desi holds a BA degree in English and Visual Arts from Waynesburg College in Pennsylvania and a Master of Divinity from Boston University in Massachusetts. Being a life-long learner\, Pastor Desi also received MS and Ph.D. degrees in Adult Education from Cornell University in New York. \nDATES: November 1\, 8\, 15\, and 22 \nTIME: Saturdays\, 9:00-11:30am PST     \nWHERE: Zoom (Link will be sent with registration confirmation)  \nFEE:  the cost of the book — Worshiping with United Methodists by Hoyt Hickman ($13.99 at Cokesbury\, or $20.99 at Amazon; ISBN 13: 9780687335268) \nParticipant Requirements: Must have completed the Basic course. Each participant must have a book\, read it prior to the first session\, complete assignments\, and be fully engaged in all 4 sessions with audio and video capability active. The registration deadline is October 20. \nContact Rev Sheila Miranda\, smiranda@pnwumc.org\, with questions or if you need assistance. \nTo register\, please complete the form on our registration website. 
URL:https://www.pnwumc.org/event/lay-servant-ministries-leading-worship-2/2025-11-01/
LOCATION:Zoom
CATEGORIES:Certified Lay Minister,Education,Laity,Online Training,Training
ATTACH;FMTTYPE=image/png:https://www.pnwumc.org/wp-content/uploads/2023/08/LayServantMinistries16-9.png
ORGANIZER;CN="Sheila Miranda":MAILTO:SMiranda@pnwumc.org
END:VEVENT
END:VCALENDAR