BEGIN:VCALENDAR
VERSION:2.0
PRODID:-//The Pacific Northwest Conference of The United Methodist Church - ECPv6.15.20//NONSGML v1.0//EN
CALSCALE:GREGORIAN
METHOD:PUBLISH
X-WR-CALNAME:The Pacific Northwest Conference of The United Methodist Church
X-ORIGINAL-URL:https://www.pnwumc.org
X-WR-CALDESC:Events for The Pacific Northwest Conference of The United Methodist Church
REFRESH-INTERVAL;VALUE=DURATION:PT1H
X-Robots-Tag:noindex
X-PUBLISHED-TTL:PT1H
BEGIN:VTIMEZONE
TZID:America/Los_Angeles
BEGIN:DAYLIGHT
TZOFFSETFROM:-0800
TZOFFSETTO:-0700
TZNAME:PDT
DTSTART:20240310T100000
END:DAYLIGHT
BEGIN:STANDARD
TZOFFSETFROM:-0700
TZOFFSETTO:-0800
TZNAME:PST
DTSTART:20241103T090000
END:STANDARD
BEGIN:DAYLIGHT
TZOFFSETFROM:-0800
TZOFFSETTO:-0700
TZNAME:PDT
DTSTART:20250309T100000
END:DAYLIGHT
BEGIN:STANDARD
TZOFFSETFROM:-0700
TZOFFSETTO:-0800
TZNAME:PST
DTSTART:20251102T090000
END:STANDARD
BEGIN:DAYLIGHT
TZOFFSETFROM:-0800
TZOFFSETTO:-0700
TZNAME:PDT
DTSTART:20260308T100000
END:DAYLIGHT
BEGIN:STANDARD
TZOFFSETFROM:-0700
TZOFFSETTO:-0800
TZNAME:PST
DTSTART:20261101T090000
END:STANDARD
END:VTIMEZONE
BEGIN:VEVENT
DTSTART;TZID=America/Los_Angeles:20251021T180000
DTEND;TZID=America/Los_Angeles:20251021T200000
DTSTAMP:20260422T181151
CREATED:20250401T214733Z
LAST-MODIFIED:20250701T191350Z
UID:10001567-1761069600-1761076800@www.pnwumc.org
SUMMARY:Lay Servant Ministries: Lay Pastoral Care Giving
DESCRIPTION:Lay Pastoral Care Giving offers insights into the life span and the dynamics of contemporary life\, helping church leaders reach out with God’s love and care to others. Expressing care to someone in need\, whether within the community of faith or beyond\, may seem the most natural thing in the world. For some\, it is\, for others\, it’s less so. All can improve. \nThe course is being offered online this October (Thursdays and Tuesdays\, 6 to 8 PM PDT) for those interested in taking the next step in their exploration. The instructor is Billie Fitzsimmons\, a Certified Lay Minister. \nWhile the course is offered for those who register at no cost\, participants must secure a copy of the Lay Pastoral Care Giving Participant’s Book (ISBN • 978-0-88177-554-9) by Tim. M Farabough. The participants’ book is available at Cokesbury and on Amazon in paperback and Kindle formats. \nParticipant Requirements: Each participant must have a book\, read it\, complete assignments\, and be fully engaged in all five\, two-hour sessions with audio and video capability active. \nRegister Here: https://gnw-reg.brtapp.com/LayPastoralCareGiving2025
URL:https://www.pnwumc.org/event/lay-pastoral-care-giving/2025-10-21/
CATEGORIES:Certified Lay Minister,Greater NW Area,Laity,Online Training,Training
ATTACH;FMTTYPE=image/jpeg:https://www.pnwumc.org/wp-content/uploads/2025/04/laypastoralcare.jpg
ORGANIZER;CN="Laura Velonza":MAILTO:lvelonza@pnwumc.org
LOCATION:https://www.pnwumc.org/event/lay-pastoral-care-giving/2025-10-21/
END:VEVENT
BEGIN:VEVENT
DTSTART;TZID=America/Los_Angeles:20251022T180000
DTEND;TZID=America/Los_Angeles:20251022T200000
DTSTAMP:20260422T181151
CREATED:20250701T171355Z
LAST-MODIFIED:20250701T193257Z
UID:10001561-1761156000-1761163200@www.pnwumc.org
SUMMARY:Lay Servant Ministries: Advanced Course - Called To Preach
DESCRIPTION:Join Rev. Joanne Coleman Campbell as she leads you through the Advanced Course on Preaching\, “Called to Preach.” This course is designed for those who have not completed formal preaching training\, for pastors seeking a basic refresher course\, and for others who are called upon to preach in a pastor’s absence. Called to Preach is the required preaching course in the lay Speaker track of study.  Register:  https://gnw-reg.brtapp.com/LayServantMinistriesACCalledToPreach \n  \n 
URL:https://www.pnwumc.org/event/lay-servant-ministries-advanced-course-called-to-preach-wednesday/2025-10-22/
LOCATION:Zoom
CATEGORIES:Certified Lay Minister,Laity,Online Training,Training
ATTACH;FMTTYPE=image/png:https://www.pnwumc.org/wp-content/uploads/2025/01/Called-to-Preach-Section-1-featured-image.png
ORGANIZER;CN="Joanne Coleman Campbell":MAILTO:jecolecamp@gmail.com
END:VEVENT
BEGIN:VEVENT
DTSTART;TZID=America/Los_Angeles:20251023T180000
DTEND;TZID=America/Los_Angeles:20251023T200000
DTSTAMP:20260422T181151
CREATED:20250701T191142Z
LAST-MODIFIED:20250701T191221Z
UID:10001571-1761242400-1761249600@www.pnwumc.org
SUMMARY:Lay Servant Ministries: Lay Pastoral Care Giving
DESCRIPTION:Lay Pastoral Care Giving offers insights into the life span and the dynamics of contemporary life\, helping church leaders reach out with God’s love and care to others. Expressing care to someone in need\, whether within the community of faith or beyond\, may seem the most natural thing in the world. For some\, it is\, for others\, it’s less so. All can improve. \nThe course is being offered online this October (Thursdays and Tuesdays\, 6 to 8 PM PDT) for those interested in taking the next step in their exploration. The instructor is Billie Fitzsimmons\, a Certified Lay Minister. \nWhile the course is offered for those who register at no cost\, participants must secure a copy of the Lay Pastoral Care Giving Participant’s Book (ISBN • 978-0-88177-554-9) by Tim. M Farabough. The participants’ book is available at Cokesbury and on Amazon in paperback and Kindle formats. \nParticipant Requirements: Each participant must have a book\, read it\, complete assignments\, and be fully engaged in all five\, two-hour sessions with audio and video capability active. \nRegister Here: https://gnw-reg.brtapp.com/LayPastoralCareGiving2025 \n 
URL:https://www.pnwumc.org/event/lay-pastoral-care-giving-2/2025-10-23/
CATEGORIES:Certified Lay Minister,Greater NW Area,Laity,Online Training,Training
ATTACH;FMTTYPE=image/jpeg:https://www.pnwumc.org/wp-content/uploads/2025/04/laypastoralcare.jpg
ORGANIZER;CN="Laura Velonza":MAILTO:lvelonza@pnwumc.org
LOCATION:https://www.pnwumc.org/event/lay-pastoral-care-giving-2/2025-10-23/
END:VEVENT
BEGIN:VEVENT
DTSTART;TZID=America/Los_Angeles:20251025T090000
DTEND;TZID=America/Los_Angeles:20251025T150000
DTSTAMP:20260422T181151
CREATED:20250827T000758Z
LAST-MODIFIED:20250910T202512Z
UID:10001593-1761382800-1761404400@www.pnwumc.org
SUMMARY:Roots & Wings: Puget Sound District Training
DESCRIPTION:Laity and clergy of the Puget Sound District are invited to join use for our annual training event. In an effort to make the event more accessible\, we are once again hosting Roots & Wings on three different dates in different locations across the district. The dates and locations are: \nSaturday\, September 27 – Central UMC\, Sedro-Woolley\nSaturday\, October 25 – Community UMC\, Port Hadlock\nSaturday\, November 15 – Haller Lake UMC\, Seattle \nEach location will feature members of the church sharing about ministry that is happening in their community\, along with tips and suggestions for other churches to consider. There will also be other workshops across a variety of topics. \nRegistration for Roots & Wings here.
URL:https://www.pnwumc.org/event/roots-wings-puget-sound-district-training-5/
LOCATION:Port Hadlock Community UMC\, 130 Church Ln\, Port Hadlock-Irondale\, WA\, 98339\, United States
CATEGORIES:District,Laity,Puget Sound,Training
ATTACH;FMTTYPE=image/png:https://www.pnwumc.org/wp-content/uploads/2025/08/Roots-Wings-logo-2025-smaller-file.png
END:VEVENT
END:VCALENDAR