BEGIN:VCALENDAR
VERSION:2.0
PRODID:-//The Pacific Northwest Conference of The United Methodist Church - ECPv6.15.20//NONSGML v1.0//EN
CALSCALE:GREGORIAN
METHOD:PUBLISH
X-WR-CALNAME:The Pacific Northwest Conference of The United Methodist Church
X-ORIGINAL-URL:https://www.pnwumc.org
X-WR-CALDESC:Events for The Pacific Northwest Conference of The United Methodist Church
REFRESH-INTERVAL;VALUE=DURATION:PT1H
X-Robots-Tag:noindex
X-PUBLISHED-TTL:PT1H
BEGIN:VTIMEZONE
TZID:America/Los_Angeles
BEGIN:DAYLIGHT
TZOFFSETFROM:-0800
TZOFFSETTO:-0700
TZNAME:PDT
DTSTART:20250309T100000
END:DAYLIGHT
BEGIN:STANDARD
TZOFFSETFROM:-0700
TZOFFSETTO:-0800
TZNAME:PST
DTSTART:20251102T090000
END:STANDARD
BEGIN:DAYLIGHT
TZOFFSETFROM:-0800
TZOFFSETTO:-0700
TZNAME:PDT
DTSTART:20260308T100000
END:DAYLIGHT
BEGIN:STANDARD
TZOFFSETFROM:-0700
TZOFFSETTO:-0800
TZNAME:PST
DTSTART:20261101T090000
END:STANDARD
BEGIN:DAYLIGHT
TZOFFSETFROM:-0800
TZOFFSETTO:-0700
TZNAME:PDT
DTSTART:20270314T100000
END:DAYLIGHT
BEGIN:STANDARD
TZOFFSETFROM:-0700
TZOFFSETTO:-0800
TZNAME:PST
DTSTART:20271107T090000
END:STANDARD
END:VTIMEZONE
BEGIN:VEVENT
DTSTART;TZID=America/Los_Angeles:20260302T183000
DTEND;TZID=America/Los_Angeles:20260302T203000
DTSTAMP:20260420T001853
CREATED:20251126T030420Z
LAST-MODIFIED:20251126T033805Z
UID:10001638-1772476200-1772483400@www.pnwumc.org
SUMMARY:Lay Servant Ministries Foundations (Basic) Course
DESCRIPTION:This is a foundational course designed to equip church leaders in the United Methodist Church. It explores: personal spiritual gifts; servant leadership; each leader’s role in developing future leaders; the importance of consistent spiritual practices; “God’s call to a life of servanthood” as a disciple of Jesus Christ; and the core ministries of Leading\, Caring\, and Communicating. \nCOURSE DATES: February 9\, 16\, 23\, March 2 & 9.  \nTIME: Mondays  6:30 – 8:30 pm  PST     \nZoom Course: Save your registration; the Zoom link is at the top of your confirmation. \n*COST:  $13.00 for the cost of the book “Lay Servant Ministries: The Basic Course\,” Participant’s Book by Sandy Zeigler Jackson and Brian Jackson  • DR626 • 978-0-88177-626-3 •  Available at Cokesbury and Upper Room. Ebooks are also available.  \nParticipant Requirements: Have the book named above\, read the 1st session before the first meeting\, and fully engage in all five sessions with audio and video active. Additional assignments will be provided in your welcome letter. \nINSTRUCTOR: Sheila Miranda\, PNW Lay Servant Ministries. Any questions about this class or Lay Servant Ministries in the PNW Annual Conference should be directed to Sheila Miranda\, smiranda@pnwumc.org \nRegister here by January 26\, 2026.
URL:https://www.pnwumc.org/event/lay-servant-ministries-foundations-basic-course/2026-03-02/
CATEGORIES:Certified Lay Minister,Education,Greater NW Area,Laity,Local Church,Online Training,Training
ATTACH;FMTTYPE=image/jpeg:https://www.pnwumc.org/wp-content/uploads/2025/11/Lay-Servant-Ministries-Basic-Course-e1764128230745.jpg
ORGANIZER;CN="Sheila Miranda":MAILTO:SMiranda@pnwumc.org
LOCATION:https://www.pnwumc.org/event/lay-servant-ministries-foundations-basic-course/2026-03-02/
END:VEVENT
BEGIN:VEVENT
DTSTART;TZID=America/Los_Angeles:20260309T183000
DTEND;TZID=America/Los_Angeles:20260309T203000
DTSTAMP:20260420T001853
CREATED:20251126T030420Z
LAST-MODIFIED:20251126T033805Z
UID:10001639-1773081000-1773088200@www.pnwumc.org
SUMMARY:Lay Servant Ministries Foundations (Basic) Course
DESCRIPTION:This is a foundational course designed to equip church leaders in the United Methodist Church. It explores: personal spiritual gifts; servant leadership; each leader’s role in developing future leaders; the importance of consistent spiritual practices; “God’s call to a life of servanthood” as a disciple of Jesus Christ; and the core ministries of Leading\, Caring\, and Communicating. \nCOURSE DATES: February 9\, 16\, 23\, March 2 & 9.  \nTIME: Mondays  6:30 – 8:30 pm  PST     \nZoom Course: Save your registration; the Zoom link is at the top of your confirmation. \n*COST:  $13.00 for the cost of the book “Lay Servant Ministries: The Basic Course\,” Participant’s Book by Sandy Zeigler Jackson and Brian Jackson  • DR626 • 978-0-88177-626-3 •  Available at Cokesbury and Upper Room. Ebooks are also available.  \nParticipant Requirements: Have the book named above\, read the 1st session before the first meeting\, and fully engage in all five sessions with audio and video active. Additional assignments will be provided in your welcome letter. \nINSTRUCTOR: Sheila Miranda\, PNW Lay Servant Ministries. Any questions about this class or Lay Servant Ministries in the PNW Annual Conference should be directed to Sheila Miranda\, smiranda@pnwumc.org \nRegister here by January 26\, 2026.
URL:https://www.pnwumc.org/event/lay-servant-ministries-foundations-basic-course/2026-03-09/
CATEGORIES:Certified Lay Minister,Education,Greater NW Area,Laity,Local Church,Online Training,Training
ATTACH;FMTTYPE=image/jpeg:https://www.pnwumc.org/wp-content/uploads/2025/11/Lay-Servant-Ministries-Basic-Course-e1764128230745.jpg
ORGANIZER;CN="Sheila Miranda":MAILTO:SMiranda@pnwumc.org
LOCATION:https://www.pnwumc.org/event/lay-servant-ministries-foundations-basic-course/2026-03-09/
END:VEVENT
BEGIN:VEVENT
DTSTART;TZID=America/Los_Angeles:20260309T190000
DTEND;TZID=America/Los_Angeles:20260309T200000
DTSTAMP:20260420T001853
CREATED:20260303T203626Z
LAST-MODIFIED:20260303T203626Z
UID:10002083-1773082800-1773086400@www.pnwumc.org
SUMMARY:Crest to Coast Lay Leadership Gatherings
DESCRIPTION:Crest to Coast Laity and Clergy are invited to join District Superintendent Rev. Kathleen Weber at an upcoming Lay Leadership Gathering—a dynamic space for connection\, inspiration\, and practical sharing. \nWhether you’re looking for fresh ideas\, eager to tackle challenges together\, or simply want to see what others are accomplishing\, these Zoom gatherings are designed for you. \nSign up for one or attend them all\, then bring your questions\, your energy\, and your curiosity—or just listen in and be inspired by fellow laity from across the Crest to Coast district. \nUpcoming Gathering Dates and Subjects:  \n\nMarch 9*- Council Chairs\nMarch 16*- Lay Leaders\nMarch 23*- Lay Speaker/Servants\nMarch 30*- Finance\nApril 13*- Youth and Children Interests\nApril 20*- Day Care/Preschools\n\n*All gatherings meet from 7 to 8 p.m. \nReady to be part of the conversation? Register at https://gnw-reg.brtapp.com/C2CLayLeadershipGatheringsW2026
URL:https://www.pnwumc.org/event/crest-to-coast-lay-leadership-gatherings/2026-03-09/
CATEGORIES:Clergy,District,Laity,Meetings
ATTACH;FMTTYPE=image/png:https://www.pnwumc.org/wp-content/uploads/2026/03/C2C-Leadership-Gatherings-Logo-3-e1772569919598.png
ORGANIZER;CN="Rev. Kathleen Weber":MAILTO:c2cds@pnwumc.org
LOCATION:https://www.pnwumc.org/event/crest-to-coast-lay-leadership-gatherings/2026-03-09/
END:VEVENT
BEGIN:VEVENT
DTSTART;TZID=America/Los_Angeles:20260316T190000
DTEND;TZID=America/Los_Angeles:20260316T200000
DTSTAMP:20260420T001853
CREATED:20260303T203626Z
LAST-MODIFIED:20260303T203626Z
UID:10002084-1773687600-1773691200@www.pnwumc.org
SUMMARY:Crest to Coast Lay Leadership Gatherings
DESCRIPTION:Crest to Coast Laity and Clergy are invited to join District Superintendent Rev. Kathleen Weber at an upcoming Lay Leadership Gathering—a dynamic space for connection\, inspiration\, and practical sharing. \nWhether you’re looking for fresh ideas\, eager to tackle challenges together\, or simply want to see what others are accomplishing\, these Zoom gatherings are designed for you. \nSign up for one or attend them all\, then bring your questions\, your energy\, and your curiosity—or just listen in and be inspired by fellow laity from across the Crest to Coast district. \nUpcoming Gathering Dates and Subjects:  \n\nMarch 9*- Council Chairs\nMarch 16*- Lay Leaders\nMarch 23*- Lay Speaker/Servants\nMarch 30*- Finance\nApril 13*- Youth and Children Interests\nApril 20*- Day Care/Preschools\n\n*All gatherings meet from 7 to 8 p.m. \nReady to be part of the conversation? Register at https://gnw-reg.brtapp.com/C2CLayLeadershipGatheringsW2026
URL:https://www.pnwumc.org/event/crest-to-coast-lay-leadership-gatherings/2026-03-16/
CATEGORIES:Clergy,District,Laity,Meetings
ATTACH;FMTTYPE=image/png:https://www.pnwumc.org/wp-content/uploads/2026/03/C2C-Leadership-Gatherings-Logo-3-e1772569919598.png
ORGANIZER;CN="Rev. Kathleen Weber":MAILTO:c2cds@pnwumc.org
LOCATION:https://www.pnwumc.org/event/crest-to-coast-lay-leadership-gatherings/2026-03-16/
END:VEVENT
BEGIN:VEVENT
DTSTART;TZID=America/Los_Angeles:20260323T190000
DTEND;TZID=America/Los_Angeles:20260323T200000
DTSTAMP:20260420T001853
CREATED:20260303T203626Z
LAST-MODIFIED:20260303T203626Z
UID:10002085-1774292400-1774296000@www.pnwumc.org
SUMMARY:Crest to Coast Lay Leadership Gatherings
DESCRIPTION:Crest to Coast Laity and Clergy are invited to join District Superintendent Rev. Kathleen Weber at an upcoming Lay Leadership Gathering—a dynamic space for connection\, inspiration\, and practical sharing. \nWhether you’re looking for fresh ideas\, eager to tackle challenges together\, or simply want to see what others are accomplishing\, these Zoom gatherings are designed for you. \nSign up for one or attend them all\, then bring your questions\, your energy\, and your curiosity—or just listen in and be inspired by fellow laity from across the Crest to Coast district. \nUpcoming Gathering Dates and Subjects:  \n\nMarch 9*- Council Chairs\nMarch 16*- Lay Leaders\nMarch 23*- Lay Speaker/Servants\nMarch 30*- Finance\nApril 13*- Youth and Children Interests\nApril 20*- Day Care/Preschools\n\n*All gatherings meet from 7 to 8 p.m. \nReady to be part of the conversation? Register at https://gnw-reg.brtapp.com/C2CLayLeadershipGatheringsW2026
URL:https://www.pnwumc.org/event/crest-to-coast-lay-leadership-gatherings/2026-03-23/
CATEGORIES:Clergy,District,Laity,Meetings
ATTACH;FMTTYPE=image/png:https://www.pnwumc.org/wp-content/uploads/2026/03/C2C-Leadership-Gatherings-Logo-3-e1772569919598.png
ORGANIZER;CN="Rev. Kathleen Weber":MAILTO:c2cds@pnwumc.org
LOCATION:https://www.pnwumc.org/event/crest-to-coast-lay-leadership-gatherings/2026-03-23/
END:VEVENT
BEGIN:VEVENT
DTSTART;TZID=America/Los_Angeles:20260330T190000
DTEND;TZID=America/Los_Angeles:20260330T200000
DTSTAMP:20260420T001853
CREATED:20260303T203626Z
LAST-MODIFIED:20260303T203626Z
UID:10002086-1774897200-1774900800@www.pnwumc.org
SUMMARY:Crest to Coast Lay Leadership Gatherings
DESCRIPTION:Crest to Coast Laity and Clergy are invited to join District Superintendent Rev. Kathleen Weber at an upcoming Lay Leadership Gathering—a dynamic space for connection\, inspiration\, and practical sharing. \nWhether you’re looking for fresh ideas\, eager to tackle challenges together\, or simply want to see what others are accomplishing\, these Zoom gatherings are designed for you. \nSign up for one or attend them all\, then bring your questions\, your energy\, and your curiosity—or just listen in and be inspired by fellow laity from across the Crest to Coast district. \nUpcoming Gathering Dates and Subjects:  \n\nMarch 9*- Council Chairs\nMarch 16*- Lay Leaders\nMarch 23*- Lay Speaker/Servants\nMarch 30*- Finance\nApril 13*- Youth and Children Interests\nApril 20*- Day Care/Preschools\n\n*All gatherings meet from 7 to 8 p.m. \nReady to be part of the conversation? Register at https://gnw-reg.brtapp.com/C2CLayLeadershipGatheringsW2026
URL:https://www.pnwumc.org/event/crest-to-coast-lay-leadership-gatherings/2026-03-30/
CATEGORIES:Clergy,District,Laity,Meetings
ATTACH;FMTTYPE=image/png:https://www.pnwumc.org/wp-content/uploads/2026/03/C2C-Leadership-Gatherings-Logo-3-e1772569919598.png
ORGANIZER;CN="Rev. Kathleen Weber":MAILTO:c2cds@pnwumc.org
LOCATION:https://www.pnwumc.org/event/crest-to-coast-lay-leadership-gatherings/2026-03-30/
END:VEVENT
END:VCALENDAR