BEGIN:VCALENDAR
VERSION:2.0
PRODID:-//The Pacific Northwest Conference of The United Methodist Church - ECPv6.15.20//NONSGML v1.0//EN
CALSCALE:GREGORIAN
METHOD:PUBLISH
X-ORIGINAL-URL:https://www.pnwumc.org
X-WR-CALDESC:Events for The Pacific Northwest Conference of The United Methodist Church
REFRESH-INTERVAL;VALUE=DURATION:PT1H
X-Robots-Tag:noindex
X-PUBLISHED-TTL:PT1H
BEGIN:VTIMEZONE
TZID:America/Los_Angeles
BEGIN:DAYLIGHT
TZOFFSETFROM:-0800
TZOFFSETTO:-0700
TZNAME:PDT
DTSTART:20240310T100000
END:DAYLIGHT
BEGIN:STANDARD
TZOFFSETFROM:-0700
TZOFFSETTO:-0800
TZNAME:PST
DTSTART:20241103T090000
END:STANDARD
BEGIN:DAYLIGHT
TZOFFSETFROM:-0800
TZOFFSETTO:-0700
TZNAME:PDT
DTSTART:20250309T100000
END:DAYLIGHT
BEGIN:STANDARD
TZOFFSETFROM:-0700
TZOFFSETTO:-0800
TZNAME:PST
DTSTART:20251102T090000
END:STANDARD
BEGIN:DAYLIGHT
TZOFFSETFROM:-0800
TZOFFSETTO:-0700
TZNAME:PDT
DTSTART:20260308T100000
END:DAYLIGHT
BEGIN:STANDARD
TZOFFSETFROM:-0700
TZOFFSETTO:-0800
TZNAME:PST
DTSTART:20261101T090000
END:STANDARD
END:VTIMEZONE
BEGIN:VEVENT
DTSTART;TZID=America/Los_Angeles:20250109T130000
DTEND;TZID=America/Los_Angeles:20250109T153000
DTSTAMP:20260422T223551
CREATED:20241112T220729Z
LAST-MODIFIED:20241120T000420Z
UID:10000969-1736427600-1736436600@www.pnwumc.org
SUMMARY:Grief Workshop With Sue Magrath
DESCRIPTION:Clergy of the Inland and Seven Rivers districts are invited to attend a four-week class on grief led by Sue Magrath from January 9th – 30th. The class will be held on Zoom on Thursday from 1:00 to 3:30 PM and will count as one CEU of your continuing education requirement. \nBased on Magrath’s new book\, Love Abides: The Sacrament of Grieving\, this class will explore the myths about grief and the many life events and losses that result in grief. We will examine the life experiences that shaped our thoughts about grief and how to challenge unhealthy beliefs and responses. We will dive into the situations unique to ministry that lead to grief yet are not always recognized as such. We will share our own grief stories\, practice the language of lament\, and gain more understanding of how to compassionately walk with parishioners who are grieving\, especially when their loss leads to a crisis of faith. Lastly\, we will seek to find meaning in our losses and transform them in life-giving ways that open us to hope and healing. \nSue Magrath is a retired mental health counselor and spiritual director who has been active in the Pacific Northwest Annual Conference for fourteen years. She has led retreats and workshops\, worked in clergy wellness\, served on the Board of Ordained Ministry’s formation committee\, and preached whenever she has the opportunity. Sue has led Advanced Boundary classes every quadrennium since 2012. She is the author of four books\, including My Burden is Light: A Primer for Clergy Wellness. \n  \nTIME: Thursdays 1-3:30 pm  PST     \nDATES: January 9\, 16\, 23\, and 30.  \nWHERE: Zoom (Link will be sent with registration confirmation)  \n*COST:  $15 Registration Fee  \nSue’s Book Love Abides is available on Kindle or from Amazon here\, but it is not necessary for this class. \nRegister Here: https://gnw-reg.brtapp.com/2025GriefWorkshop
URL:https://www.pnwumc.org/event/grief-workshop-with-sue-magrath/2025-01-09/
LOCATION:Zoom
CATEGORIES:Inland,Online Training,Seven Rivers
ATTACH;FMTTYPE=image/jpeg:https://www.pnwumc.org/wp-content/uploads/2024/11/love-abides.jpg
ORGANIZER;CN="Laura Velonza":MAILTO:lvelonza@pnwumc.org
END:VEVENT
END:VCALENDAR