BEGIN:VCALENDAR
VERSION:2.0
PRODID:-//The Pacific Northwest Conference of The United Methodist Church - ECPv6.15.20//NONSGML v1.0//EN
CALSCALE:GREGORIAN
METHOD:PUBLISH
X-ORIGINAL-URL:https://www.pnwumc.org
X-WR-CALDESC:Events for The Pacific Northwest Conference of The United Methodist Church
REFRESH-INTERVAL;VALUE=DURATION:PT1H
X-Robots-Tag:noindex
X-PUBLISHED-TTL:PT1H
BEGIN:VTIMEZONE
TZID:America/Los_Angeles
BEGIN:DAYLIGHT
TZOFFSETFROM:-0800
TZOFFSETTO:-0700
TZNAME:PDT
DTSTART:20160313T100000
END:DAYLIGHT
BEGIN:STANDARD
TZOFFSETFROM:-0700
TZOFFSETTO:-0800
TZNAME:PST
DTSTART:20161106T090000
END:STANDARD
BEGIN:DAYLIGHT
TZOFFSETFROM:-0800
TZOFFSETTO:-0700
TZNAME:PDT
DTSTART:20170312T100000
END:DAYLIGHT
BEGIN:STANDARD
TZOFFSETFROM:-0700
TZOFFSETTO:-0800
TZNAME:PST
DTSTART:20171105T090000
END:STANDARD
BEGIN:DAYLIGHT
TZOFFSETFROM:-0800
TZOFFSETTO:-0700
TZNAME:PDT
DTSTART:20180311T100000
END:DAYLIGHT
BEGIN:STANDARD
TZOFFSETFROM:-0700
TZOFFSETTO:-0800
TZNAME:PST
DTSTART:20181104T090000
END:STANDARD
BEGIN:DAYLIGHT
TZOFFSETFROM:-0800
TZOFFSETTO:-0700
TZNAME:PDT
DTSTART:20190310T100000
END:DAYLIGHT
BEGIN:STANDARD
TZOFFSETFROM:-0700
TZOFFSETTO:-0800
TZNAME:PST
DTSTART:20191103T090000
END:STANDARD
BEGIN:DAYLIGHT
TZOFFSETFROM:-0800
TZOFFSETTO:-0700
TZNAME:PDT
DTSTART:20200308T100000
END:DAYLIGHT
BEGIN:STANDARD
TZOFFSETFROM:-0700
TZOFFSETTO:-0800
TZNAME:PST
DTSTART:20201101T090000
END:STANDARD
END:VTIMEZONE
BEGIN:VEVENT
DTSTART;TZID=America/Los_Angeles:20190508T090000
DTEND;TZID=America/Los_Angeles:20190508T160000
DTSTAMP:20260422T142947
CREATED:20190322T001026Z
LAST-MODIFIED:20190422T215011Z
UID:10000379-1557306000-1557331200@www.pnwumc.org
SUMMARY:CANCELLED Advanced Boundary Training (Second Session)
DESCRIPTION:Seven Rivers District is offering two Advanced Boundary Trainings this spring to fulfill the boundary requirement for clergy. This is the second of those trainings – the first training is on April 30. The advanced training is for clergy who have already participated in one or more boundary workshops in the past. The class involves discussion of case studies prepared by the participants. These should be prepared prior to the training\, based on a personal experience related to boundary issues. Please describe the incident\, your actions\, the outcome\, and what you learned and/or might have done differently. This study should be typed out and e-mailed to the presenter so that it can be forwarded to all participants prior to the training.  Please submit this to the presenter at least one week prior to the class.  \nCANCELLED APRIL 22\, 2019. \nA limited lunch selection will be provided: two types of homemade soup\, one made with meat\, the other vegetarian and gluten-free. If neither choice appeals to you\, please feel free to bring your own lunch.
URL:https://www.pnwumc.org/event/advanced-boundary-training-second-session/
LOCATION:Yakima: Wesley UMC\, 14 North 48th Avenue\, Yakima\, WA\, 98908\, United States
CATEGORIES:Board of Ordained Ministry,Seven Rivers,Training
ATTACH;FMTTYPE=image/jpeg:https://www.pnwumc.org/wp-content/uploads/2019/03/boundaryTraining.jpg
ORGANIZER;CN="Sue Magrath":MAILTO:suemagrath@msn.com
GEO:46.5971846;-120.5733166
X-APPLE-STRUCTURED-LOCATION;VALUE=URI;X-ADDRESS=Yakima: Wesley UMC 14 North 48th Avenue Yakima WA 98908 United States;X-APPLE-RADIUS=500;X-TITLE=14 North 48th Avenue:geo:-120.5733166,46.5971846
END:VEVENT
BEGIN:VEVENT
DTSTART;TZID=America/Los_Angeles:20190430T090000
DTEND;TZID=America/Los_Angeles:20190430T160000
DTSTAMP:20260422T142947
CREATED:20190305T164633Z
LAST-MODIFIED:20190422T214912Z
UID:10000361-1556614800-1556640000@www.pnwumc.org
SUMMARY:CANCELLED Advanced Boundary Training (First Session)
DESCRIPTION:Seven Rivers District is offering two Advanced Boundary Trainings this spring to fulfill the boundary requirement for clergy. This is the first of those trainings – the second training is on May 8. The advanced training is for clergy who have already participated in one or more boundary workshops in the past. The class involves discussion of case studies prepared by the participants. These should be prepared prior to the training\, based on a personal experience related to boundary issues. Please describe the incident\, your actions\, the outcome\, and what you learned and/or might have done differently. This study should be typed out and e-mailed to the presenter so that it can be forwarded to all participants prior to the training. Please submit this to the presenter at least one week prior to the class.  \nCANCELLED APRIL 22\, 2019. \nA limited lunch selection will be provided: two types of homemade soup\, one made with meat\, the other vegetarian and gluten-free. If neither choice appeals to you\, please feel free to bring your own lunch.
URL:https://www.pnwumc.org/event/advanced-boundary-training/
LOCATION:Wenatchee First United Methodist Church\, 941 Washington Street\, Wenatchee\, WA\, 98801\, United States
CATEGORIES:Board of Ordained Ministry,Seven Rivers,Training
ATTACH;FMTTYPE=image/jpeg:https://www.pnwumc.org/wp-content/uploads/2019/03/boundaryTraining.jpg
ORGANIZER;CN="Denise McGuiness":MAILTO:d.mcguiness@gmail.com
GEO:47.4224801;-120.324255
X-APPLE-STRUCTURED-LOCATION;VALUE=URI;X-ADDRESS=Wenatchee First United Methodist Church 941 Washington Street Wenatchee WA 98801 United States;X-APPLE-RADIUS=500;X-TITLE=941 Washington Street:geo:-120.324255,47.4224801
END:VEVENT
BEGIN:VEVENT
DTSTART;TZID=America/Los_Angeles:20190427T090000
DTEND;TZID=America/Los_Angeles:20190427T150000
DTSTAMP:20260422T142947
CREATED:20190323T000943Z
LAST-MODIFIED:20190323T000943Z
UID:10000381-1556355600-1556377200@www.pnwumc.org
SUMMARY:Seven Rivers District -- UMW Spring Meeting
DESCRIPTION:Worship and Training together with explanations and Questions\nCrafts\, lunch\, a guest speaker\, and a possible scavenger hunt!!\nGuest Speaker: National Officer\, Estella Wallace\n\n“Where Does the Money Go?”\n\n\n\nPrice is $10 and a non-perishable food item for the children’s backpack program. \nSee you there!!
URL:https://www.pnwumc.org/event/seven-rivers-district-umw-spring-meeting/
LOCATION:Ellensburg First United Methodist Church\, 210 N Ruby St.\, Ellensburg\, WA\, 98926\, United States
CATEGORIES:District,Seven Rivers,United Methodist Women
GEO:46.9941701;-120.5439212
X-APPLE-STRUCTURED-LOCATION;VALUE=URI;X-ADDRESS=Ellensburg First United Methodist Church 210 N Ruby St. Ellensburg WA 98926 United States;X-APPLE-RADIUS=500;X-TITLE=210 N Ruby St.:geo:-120.5439212,46.9941701
END:VEVENT
BEGIN:VEVENT
DTSTART;TZID=America/Los_Angeles:20190423T183000
DTEND;TZID=America/Los_Angeles:20190423T210000
DTSTAMP:20260422T142947
CREATED:20190306T002647Z
LAST-MODIFIED:20190306T002647Z
UID:10000376-1556044200-1556053200@www.pnwumc.org
SUMMARY:Table Talks 3.0
DESCRIPTION:For more information and to sign-up for your desired table talk\, please click here.
URL:https://www.pnwumc.org/event/table-talks-3-0-13/
LOCATION:Oak Harbor First UMC\, 1050 SE Ireland St\, Oak Harbor\, WA\, 98277\, United States
CATEGORIES:Clergy,Crest to Coast,District,Education,General Church,Inland,Laity,Meetings,Puget Sound,SeaTac,Seven Rivers,Western Jurisdiction
GEO:48.2898315;-122.6461586
X-APPLE-STRUCTURED-LOCATION;VALUE=URI;X-ADDRESS=Oak Harbor First UMC 1050 SE Ireland St Oak Harbor WA 98277 United States;X-APPLE-RADIUS=500;X-TITLE=1050 SE Ireland St:geo:-122.6461586,48.2898315
END:VEVENT
BEGIN:VEVENT
DTSTART;TZID=America/Los_Angeles:20190408T080000
DTEND;TZID=America/Los_Angeles:20190408T170000
DTSTAMP:20260422T142947
CREATED:20190306T002346Z
LAST-MODIFIED:20190306T002346Z
UID:10000375-1554710400-1554742800@www.pnwumc.org
SUMMARY:Table Talks
DESCRIPTION:For more information and to sign-up for your desired table talk\, please click here.
URL:https://www.pnwumc.org/event/table-talks/
LOCATION:Stanwood UMC\, 27128 102nd Dr\, Stanwood\, WA\, 98292\, United States
CATEGORIES:Clergy,Crest to Coast,District,Education,General Church,Inland,Laity,Meetings,Puget Sound,SeaTac,Seven Rivers,Western Jurisdiction
GEO:48.2426767;-122.3723045
X-APPLE-STRUCTURED-LOCATION;VALUE=URI;X-ADDRESS=Stanwood UMC 27128 102nd Dr Stanwood WA 98292 United States;X-APPLE-RADIUS=500;X-TITLE=27128 102nd Dr:geo:-122.3723045,48.2426767
END:VEVENT
BEGIN:VEVENT
DTSTART;TZID=America/Los_Angeles:20190407T140000
DTEND;TZID=America/Los_Angeles:20190407T170000
DTSTAMP:20260422T142947
CREATED:20190306T000713Z
LAST-MODIFIED:20190306T000713Z
UID:10000373-1554645600-1554656400@www.pnwumc.org
SUMMARY:Table Talks 3.0
DESCRIPTION:For more information and to sign-up for your desired table talk\, please click here.
URL:https://www.pnwumc.org/event/table-talks-3-0-11/
LOCATION:Kelso United Methodist Presbyterian Church\, 206 Cowlitz Way\, Kelso\, WA\, United States
CATEGORIES:Clergy,Crest to Coast,District,Education,General Church,Inland,Laity,Meetings,Puget Sound,SeaTac,Seven Rivers,Western Jurisdiction
GEO:46.146701;-122.909919
X-APPLE-STRUCTURED-LOCATION;VALUE=URI;X-ADDRESS=Kelso United Methodist Presbyterian Church 206 Cowlitz Way Kelso WA United States;X-APPLE-RADIUS=500;X-TITLE=206 Cowlitz Way:geo:-122.909919,46.146701
END:VEVENT
BEGIN:VEVENT
DTSTART;TZID=America/Los_Angeles:20190407T140000
DTEND;TZID=America/Los_Angeles:20190407T160000
DTSTAMP:20260422T142947
CREATED:20190306T001249Z
LAST-MODIFIED:20190309T073106Z
UID:10000374-1554645600-1554652800@www.pnwumc.org
SUMMARY:Table Talks 3.0
DESCRIPTION:For more information and to sign-up for your desired table talk\, please click here. \n  \n 
URL:https://www.pnwumc.org/event/table-talks-3-0-12/
LOCATION:Lewiston First UMC\, 1906 Broadview Drive\, Lewiston\, ID\, United States
CATEGORIES:Clergy,Crest to Coast,District,Education,General Church,Inland,Laity,Meetings,Puget Sound,SeaTac,Seven Rivers,Western Jurisdiction
GEO:46.4004024;-117.0161847
X-APPLE-STRUCTURED-LOCATION;VALUE=URI;X-ADDRESS=Lewiston First UMC 1906 Broadview Drive Lewiston ID United States;X-APPLE-RADIUS=500;X-TITLE=1906 Broadview Drive:geo:-117.0161847,46.4004024
END:VEVENT
BEGIN:VEVENT
DTSTART;TZID=America/Los_Angeles:20190329T080000
DTEND;TZID=America/Los_Angeles:20190331T170000
DTSTAMP:20260422T142947
CREATED:20180504T214723Z
LAST-MODIFIED:20190221T001218Z
UID:10000263-1553846400-1554051600@www.pnwumc.org
SUMMARY:7 Rivers Clergy & Laity Retreat
DESCRIPTION:7 Rivers District Retreat for Laity & Clergy\nAnxiety & Hope: Embodying hope in anxious times\nMarch 29-31\, 2019 \nLazy F Camp and Retreat Center \nWe live in anxious times. Each new change we face\, be it in our family\, our church\, or our nation\, brings a fresh wave. When faced with change or the anxiety of others\, the one thing we have control over is ourselves. The way we engage the situation can either calm the anxiety or feed it. Join retreat leaders Sue Magrath and Dr. Denise McGuinness to explore how to process your own anxiety and be a non-anxious presence for others. \nWe begin with dinner on Friday evening followed by a time of centering and an introduction to our topic. Saturday leads us deeper and includes a presentation and Q & A on the previous month’s General Conference 2019 by DS Mary Huycke\, the clergy delegate from our Annual Conference. We wrap up our time apart on Sunday morning and depart just prior to lunch. \nTo REGISTER NOW \n 
URL:https://www.pnwumc.org/event/7rivers-retreat/
LOCATION:Lazy F Camp and Retreat Center\, 16170 Manastash Road\, Ellensburg\, WA\, 98926\, United States
CATEGORIES:Adult Retreats,Camp and Retreat Ministries,Clergy,Seven Rivers
ORGANIZER;CN="Seven Rivers District":MAILTO:sevenrivers@pnwumc.org
GEO:46.961686;-120.775124
X-APPLE-STRUCTURED-LOCATION;VALUE=URI;X-ADDRESS=Lazy F Camp and Retreat Center 16170 Manastash Road Ellensburg WA 98926 United States;X-APPLE-RADIUS=500;X-TITLE=16170 Manastash Road:geo:-120.775124,46.961686
END:VEVENT
BEGIN:VEVENT
DTSTART;TZID=America/Los_Angeles:20190324T130000
DTEND;TZID=America/Los_Angeles:20190324T150000
DTSTAMP:20260422T142947
CREATED:20190305T230341Z
LAST-MODIFIED:20190305T230341Z
UID:10000368-1553432400-1553439600@www.pnwumc.org
SUMMARY:Table Talks 3.0
DESCRIPTION:For more information and to sign-up for your desired table talk\, please click here.
URL:https://www.pnwumc.org/event/table-talks-3-0-6/
LOCATION:Wenatchee First United Methodist Church\, 941 Washington Street\, Wenatchee\, WA\, 98801\, United States
CATEGORIES:Crest to Coast,District,Education,General Church,Greater NW Area,Laity,Meetings,Puget Sound,Seven Rivers,Western Jurisdiction
GEO:47.4224801;-120.324255
X-APPLE-STRUCTURED-LOCATION;VALUE=URI;X-ADDRESS=Wenatchee First United Methodist Church 941 Washington Street Wenatchee WA 98801 United States;X-APPLE-RADIUS=500;X-TITLE=941 Washington Street:geo:-120.324255,47.4224801
END:VEVENT
BEGIN:VEVENT
DTSTART;TZID=America/Los_Angeles:20190323T090000
DTEND;TZID=America/Los_Angeles:20190323T110000
DTSTAMP:20260422T142947
CREATED:20190305T225739Z
LAST-MODIFIED:20190305T225909Z
UID:10000367-1553331600-1553338800@www.pnwumc.org
SUMMARY:Table Talks 3.0
DESCRIPTION:For more information and to sign-up for your desired table talk\, please click here.
URL:https://www.pnwumc.org/event/table-talks-3-0-5/
LOCATION:Kennewick First UMC\, 421 W Kennewick Ave\, Kennewick\, WA\, 99336\, United States
CATEGORIES:Crest to Coast,District,Education,General Church,Greater NW Area,Inland,Laity,Meetings,Puget Sound,SeaTac,Seven Rivers,Western Jurisdiction
GEO:46.2084114;-119.1241804
X-APPLE-STRUCTURED-LOCATION;VALUE=URI;X-ADDRESS=Kennewick First UMC 421 W Kennewick Ave Kennewick WA 99336 United States;X-APPLE-RADIUS=500;X-TITLE=421 W Kennewick Ave:geo:-119.1241804,46.2084114
END:VEVENT
BEGIN:VEVENT
DTSTART;TZID=America/Los_Angeles:20190317T160000
DTEND;TZID=America/Los_Angeles:20190317T180000
DTSTAMP:20260422T142947
CREATED:20190305T225313Z
LAST-MODIFIED:20190305T225313Z
UID:10000366-1552838400-1552845600@www.pnwumc.org
SUMMARY:Table Talks 3.0
DESCRIPTION:For more information and to sign-up for your desired table talk\, please click here.
URL:https://www.pnwumc.org/event/table-talks-3-0-4/
LOCATION:Faith UMC\, 3924 Issaquah Pine Lake Road\, Issaquah\, WA\, 98029\, United States
CATEGORIES:Crest to Coast,District,Education,General Church,Inland,Laity,Meetings,Puget Sound,SeaTac,Seven Rivers,Western Jurisdiction
GEO:47.5743026;-122.0210168
X-APPLE-STRUCTURED-LOCATION;VALUE=URI;X-ADDRESS=Faith UMC 3924 Issaquah Pine Lake Road Issaquah WA 98029 United States;X-APPLE-RADIUS=500;X-TITLE=3924 Issaquah Pine Lake Road:geo:-122.0210168,47.5743026
END:VEVENT
BEGIN:VEVENT
DTSTART;TZID=America/Los_Angeles:20190317T140000
DTEND;TZID=America/Los_Angeles:20190317T160000
DTSTAMP:20260422T142947
CREATED:20190305T224618Z
LAST-MODIFIED:20190305T224618Z
UID:10000365-1552831200-1552838400@www.pnwumc.org
SUMMARY:Table Talks 3.0
DESCRIPTION:For more information and to sign-up for your desired table talk\, please click here.
URL:https://www.pnwumc.org/event/table-talks-3-0-3/
LOCATION:Spokane\, WA\, TBA\, WA\, United States
CATEGORIES:District,Education,General Church,Inland,Meetings,Seven Rivers,Western Jurisdiction
ORGANIZER;CN="Rachel Fitzgerald":MAILTO:rfitzgerald@greaternw.org
GEO:47.7510741;-120.7401385
X-APPLE-STRUCTURED-LOCATION;VALUE=URI;X-ADDRESS=Spokane WA TBA WA United States;X-APPLE-RADIUS=500;X-TITLE=TBA:geo:-120.7401385,47.7510741
END:VEVENT
BEGIN:VEVENT
DTSTART;TZID=America/Los_Angeles:20190316T090000
DTEND;TZID=America/Los_Angeles:20190316T110000
DTSTAMP:20260422T142947
CREATED:20190305T222645Z
LAST-MODIFIED:20190305T223239Z
UID:10000363-1552726800-1552734000@www.pnwumc.org
SUMMARY:Table Talks  3.0
DESCRIPTION:For more information and to sign-up for your desired table talk\, please click here.
URL:https://www.pnwumc.org/event/table-talks-3-0-2/
LOCATION:Des Moines United Methodist Church\, 22225 9th Ave S\, Des Moines\, WA\, 98198\, United States
CATEGORIES:Crest to Coast,District,Education,General Church,Inland,Meetings,Puget Sound,SeaTac,Seven Rivers,Western Jurisdiction
GEO:47.402228;-122.322559
X-APPLE-STRUCTURED-LOCATION;VALUE=URI;X-ADDRESS=Des Moines United Methodist Church 22225 9th Ave S Des Moines WA 98198 United States;X-APPLE-RADIUS=500;X-TITLE=22225 9th Ave S:geo:-122.322559,47.402228
END:VEVENT
BEGIN:VEVENT
DTSTART;TZID=America/Los_Angeles:20190310T190000
DTEND;TZID=America/Los_Angeles:20190310T210000
DTSTAMP:20260422T142947
CREATED:20190305T222356Z
LAST-MODIFIED:20190305T223640Z
UID:10000362-1552244400-1552251600@www.pnwumc.org
SUMMARY:Table Talks 3.0
DESCRIPTION:For more information and to sign-up for your desired table talk\, please click here.
URL:https://www.pnwumc.org/event/table-talks-3-0/
LOCATION:Bothell United Methodist Church\, 18515 92nd Ave NE\, Bothell\, 98011\, United States
CATEGORIES:Crest to Coast,District,Education,General Church,Inland,Meetings,Puget Sound,SeaTac,Seven Rivers,Western Jurisdiction
GEO:47.7624306;-122.2189218
X-APPLE-STRUCTURED-LOCATION;VALUE=URI;X-ADDRESS=Bothell United Methodist Church 18515 92nd Ave NE Bothell 98011 United States;X-APPLE-RADIUS=500;X-TITLE=18515 92nd Ave NE:geo:-122.2189218,47.7624306
END:VEVENT
BEGIN:VEVENT
DTSTART;TZID=America/Los_Angeles:20190209T100000
DTEND;TZID=America/Los_Angeles:20190209T140000
DTSTAMP:20260422T142947
CREATED:20190117T234933Z
LAST-MODIFIED:20190117T234933Z
UID:10000348-1549706400-1549720800@www.pnwumc.org
SUMMARY:Yakima Advocacy Day
DESCRIPTION:
URL:https://www.pnwumc.org/event/yakima-advocacy-day/
LOCATION:Yakima: Wesley UMC\, 14 North 48th Avenue\, Yakima\, WA\, 98908\, United States
CATEGORIES:Networks,Seven Rivers,United Methodist Women
GEO:46.5971846;-120.5733166
X-APPLE-STRUCTURED-LOCATION;VALUE=URI;X-ADDRESS=Yakima: Wesley UMC 14 North 48th Avenue Yakima WA 98908 United States;X-APPLE-RADIUS=500;X-TITLE=14 North 48th Avenue:geo:-120.5733166,46.5971846
END:VEVENT
BEGIN:VEVENT
DTSTART;TZID=America/Los_Angeles:20180908T090000
DTEND;TZID=America/Los_Angeles:20180908T120000
DTSTAMP:20260422T142947
CREATED:20180310T190318Z
LAST-MODIFIED:20180726T232547Z
UID:10000252-1536397200-1536408000@www.pnwumc.org
SUMMARY:Table Talks: Finding a Way Forward Together
DESCRIPTION:United Methodists in the Alaska\, Oregon-Idaho and Pacific Northwest Conferences are being encouraged to participate in Table Talk conversations being planned in various settings across the Greater Northwest Area. These opportunities will provide attendees a way to engage the church’s current discussion of human sexuality and the report of the Commission on a Way Forward within a structure of worship and respect for one another. \nOur Table Talk at Wenatchee First UMC will start at 9am and finish at Noon. \nClergy and lay people from all across the area are asked to seriously consider participating in one of these opportunities. \nClick here to learn more about these conversations.\nPlease RSVP so site leaders can prepare for the right number of people.
URL:https://www.pnwumc.org/event/table-talks-finding-a-way-forward-together-10/
LOCATION:Wenatchee First United Methodist Church\, 941 Washington Street\, Wenatchee\, WA\, 98801\, United States
CATEGORIES:Annual Conference,Clergy,District,Greater NW Area,Laity,Seven Rivers,Training
GEO:47.4224801;-120.324255
X-APPLE-STRUCTURED-LOCATION;VALUE=URI;X-ADDRESS=Wenatchee First United Methodist Church 941 Washington Street Wenatchee WA 98801 United States;X-APPLE-RADIUS=500;X-TITLE=941 Washington Street:geo:-120.324255,47.4224801
END:VEVENT
BEGIN:VEVENT
DTSTART;VALUE=DATE:20180602
DTEND;VALUE=DATE:20180603
DTSTAMP:20260422T142947
CREATED:20180310T190033Z
LAST-MODIFIED:20180314T200510Z
UID:10000251-1527897600-1527983999@www.pnwumc.org
SUMMARY:Table Talks: Finding a Way Forward Together
DESCRIPTION:United Methodists in the Alaska\, Oregon-Idaho and Pacific Northwest Conferences are being encouraged to participate in Table Talk conversations being planned in various settings across the Greater Northwest Area. These opportunities will provide attendees a way to engage the church’s current discussion of human sexuality and the report of the Commission on a Way Forward within a structure of worship and respect for one another. \nTimes TBD. \nClergy and lay people from all across the area are asked to seriously consider participating in one of these opportunities. \nClick here to learn more about these conversations.\nPlease RSVP so site leaders can prepare for the right number of people.
URL:https://www.pnwumc.org/event/table-talks-finding-a-way-forward-together-9/
LOCATION:Yakima: Wesley UMC\, 14 North 48th Avenue\, Yakima\, WA\, 98908\, United States
CATEGORIES:Annual Conference,Clergy,District,Greater NW Area,Laity,Seven Rivers,Training
GEO:46.5971846;-120.5733166
X-APPLE-STRUCTURED-LOCATION;VALUE=URI;X-ADDRESS=Yakima: Wesley UMC 14 North 48th Avenue Yakima WA 98908 United States;X-APPLE-RADIUS=500;X-TITLE=14 North 48th Avenue:geo:-120.5733166,46.5971846
END:VEVENT
BEGIN:VEVENT
DTSTART;VALUE=DATE:20180512
DTEND;VALUE=DATE:20180513
DTSTAMP:20260422T142947
CREATED:20180307T203830Z
LAST-MODIFIED:20180314T200235Z
UID:10000247-1526083200-1526169599@www.pnwumc.org
SUMMARY:Table Talks: Finding a Way Forward Together
DESCRIPTION:United Methodists in the Alaska\, Oregon-Idaho and Pacific Northwest Conferences are being encouraged to participate in Table Talk conversations being planned in various settings across the Greater Northwest Area. These opportunities will provide attendees a way to engage the church’s current discussion of human sexuality and the report of the Commission on a Way Forward within a structure of worship and respect for one another. \nBishop Elaine Stanovsky will be present at this Table Talk. Time TBD. \nClergy and lay people from all across the area are asked to seriously consider participating in one of these opportunities. \nClick here to learn more about these conversations.\nPlease RSVP so site leaders can prepare for the right number of people.
URL:https://www.pnwumc.org/event/table-talks-finding-a-way-forward-together-5/
LOCATION:Central United Protestant\, 1124 Stevens Dr.\, Richland\, WA\, 99354\, United States
CATEGORIES:Annual Conference,Clergy,Greater NW Area,Laity,Seven Rivers,Training
ATTACH;FMTTYPE=image/jpeg:https://www.pnwumc.org/wp-content/uploads/2018/03/Table-Talks-banner.jpg
GEO:46.283981;-119.28319
X-APPLE-STRUCTURED-LOCATION;VALUE=URI;X-ADDRESS=Central United Protestant 1124 Stevens Dr. Richland WA 99354 United States;X-APPLE-RADIUS=500;X-TITLE=1124 Stevens Dr.:geo:-119.28319,46.283981
END:VEVENT
BEGIN:VEVENT
DTSTART;TZID=America/Los_Angeles:20171007T090000
DTEND;TZID=America/Los_Angeles:20171007T150000
DTSTAMP:20260422T142947
CREATED:20170519T235120Z
LAST-MODIFIED:20170901T164417Z
UID:10000086-1507366800-1507388400@www.pnwumc.org
SUMMARY:Compassion v 2.0
DESCRIPTION:Compassion v 2.0\nUpgrade your operating system!\nJesus models a three-fold way of compassion that helps us respond to a world divided into “them against us”\, fueled by fear\, anxiety\, and incivility. This workshop offers practical methods for showing compassion for yourself and others\, even offensive people. Learn to move from survive to thrive! \nEvent begins at 9am and should end around 3pm. \nThere will be a coffee/tea service in the morning with snacks and a simple catered lunch. Please note on your registration if you have any dietary needs. General needs such as vegetarian we should be able to accommodate but if your dietary needs are restrictive\, we suggest that you bring some supplementary snacks to ensure you are well-fed throughout the event. \nPlease register HERE.
URL:https://www.pnwumc.org/event/seven-rivers-district-training/
LOCATION:Wesley United Methodist Church\, 14 North 48th Avenue\, Yakima\, WA\, 98908\, United States
CATEGORIES:Adult Retreats,District,Seven Rivers
GEO:46.5970489;-120.5729818
X-APPLE-STRUCTURED-LOCATION;VALUE=URI;X-ADDRESS=Wesley United Methodist Church 14 North 48th Avenue Yakima WA 98908 United States;X-APPLE-RADIUS=500;X-TITLE=14 North 48th Avenue:geo:-120.5729818,46.5970489
END:VEVENT
BEGIN:VEVENT
DTSTART;TZID=America/Los_Angeles:20170506T190000
DTEND;TZID=America/Los_Angeles:20170506T215900
DTSTAMP:20260422T142947
CREATED:20161118T223807Z
LAST-MODIFIED:20170410T191111Z
UID:10000050-1494097200-1494107940@www.pnwumc.org
SUMMARY:Seattle District - Project Rebuild Fundraiser
DESCRIPTION:  \n 
URL:https://www.pnwumc.org/event/seattle-district-project-rebuild-fundraiser/
LOCATION:Bellevue First United Methodist Church\, 1934 108th Ave NE\, Bellevue\, WA\, 98077\, United States
CATEGORIES:SeaTac,Seven Rivers
ORGANIZER;CN="Rosalee Mahoney":MAILTO:office@rivertonparkumc.com
GEO:47.627856;-122.195259
X-APPLE-STRUCTURED-LOCATION;VALUE=URI;X-ADDRESS=Bellevue First United Methodist Church 1934 108th Ave NE Bellevue WA 98077 United States;X-APPLE-RADIUS=500;X-TITLE=1934 108th Ave NE:geo:-122.195259,47.627856
END:VEVENT
BEGIN:VEVENT
DTSTART;TZID=America/Los_Angeles:20170506T080000
DTEND;TZID=America/Los_Angeles:20170506T170000
DTSTAMP:20260422T142947
CREATED:20170428T171209Z
LAST-MODIFIED:20170501T230613Z
UID:10000084-1494057600-1494090000@www.pnwumc.org
SUMMARY:3 Events to Make a Difference
DESCRIPTION:Moving Toward Positive Change in Our Communities\n\n\n\n\nBYSTANDER REVOLUTION\nMay 6 • Led by Rev. Terri Stewart • 9:30 a.m – Noon \nHave you heard a racist\, religious\, or sexist joke and not known how to respond with compassion to say that such jokes are not welcome? Have you seen someone harassed in public and wanted to help but didn’t know how? Do you have children who ask how to handle a bullying situation\, and you want good strategies to help them? This training will introduce participants to proactive ways to be a supportive presence in racially or socially difficult circumstances. \n\n\n\n\nKING COUNTY JUVENILE COURT IS PILOTING PEACEMAKING CIRCLES\nMay 6 • Led by Rev. Terri Stewart • 2 p.m. – 4 p.m. \nAs an alternative and community-based way to resolve some of its juvenile felony cases. This reduces incarceration\, fosters healing for both victims and offenders\, and affords profound opportunity for transformation. This is the Gospel in action. Come to learn more! \n\n\n\n\nWANTED: A SPIRITUAL PURSUIT THROUGH JAIL\, AMONG OUTLAWS\, AND ACROSS BORDERS\nMay 6 • 7:30 p.m.\n May 7 • Preaching at Sunnyside UMC \nA Young Chaplain Pursues an Elusive God in Society’s Forgotten Places. Come hear Chris Hoke tell his story of ministry with gang members in rural Washington. \nTo access this information in Spanish\, click here.\n\n\n\n\n  \n\n\n\n\n 
URL:https://www.pnwumc.org/event/3-events-to-make-a-difference/
LOCATION:Sunnyside United Methodist Church\, 906 E. Edison Ave.\, Sunnyside\, WA\, 98944\, United States
CATEGORIES:District,Seven Rivers,Training
ATTACH;FMTTYPE=image/jpeg:https://www.pnwumc.org/wp-content/uploads/2017/04/3-events.jpg
GEO:46.3240789;-120.0080491
X-APPLE-STRUCTURED-LOCATION;VALUE=URI;X-ADDRESS=Sunnyside United Methodist Church 906 E. Edison Ave. Sunnyside WA 98944 United States;X-APPLE-RADIUS=500;X-TITLE=906 E. Edison Ave.:geo:-120.0080491,46.3240789
END:VEVENT
BEGIN:VEVENT
DTSTART;TZID=America/Los_Angeles:20170304T103000
DTEND;TZID=America/Los_Angeles:20170304T150000
DTSTAMP:20260422T142947
CREATED:20170103T185340Z
LAST-MODIFIED:20170208T194717Z
UID:10000028-1488623400-1488639600@www.pnwumc.org
SUMMARY:Exploring New Ways of Walking With One Another in Uncertain Times
DESCRIPTION:In a reality where immigrants are threatened with deportation\, Muslims with registration\, and any stranger may be harassed as a danger\, Jesus calls us to love our neighbors. A lot of discussion about “sanctuary” is being expressed and shared. As Church\, we need to consider what “sanctuary” means\, what it looks like\, and how we may be able to offer it to those in need. Exploring other responses to these needs may help our communities to be safe places. \nYou are invited to pray\, study\, and propose ways that we\, as Church\, can: \n\nBe Hospitable\,\nOffer Sanctuary\,\nand Love One Another.\n\nPlease come with your experiences\, questions\, worries\, and ideas. \n“Keep on loving one another as brothers and sisters. Do not forget to show hospitality to strangers\, for by so doing some people have shown hospitality to angels without knowing it. Continue to remember those in prison as if you were there with them in prison\, and those who are mistreated as if you yourselves were suffering.”           – Hebrews 13: 1-3 \nPlease prayerfully consider this opportunity for sharing time about an important aspect of our current culture—invite others and bring a team from your church! \nREGISTER NOW!\nA light soup lunch will be provided.  Donations accepted.
URL:https://www.pnwumc.org/event/exploring-new-ways-of-walking-with-one-another-in-uncertain-times/
LOCATION:Moses Lake United Methodist Church\, 746 S Ironwood Drive\, Moses Lake\, WA\, 98837\, United States
CATEGORIES:Annual Conference,District,Hispanic Ministries,Seven Rivers
ORGANIZER;CN="Lyda Pierce":MAILTO:lpierce@pnwumc.org
GEO:47.1267938;-119.2627205
X-APPLE-STRUCTURED-LOCATION;VALUE=URI;X-ADDRESS=Moses Lake United Methodist Church 746 S Ironwood Drive Moses Lake WA 98837 United States;X-APPLE-RADIUS=500;X-TITLE=746 S Ironwood Drive:geo:-119.2627205,47.1267938
END:VEVENT
END:VCALENDAR