BEGIN:VCALENDAR
VERSION:2.0
PRODID:-//The Pacific Northwest Conference of The United Methodist Church - ECPv6.15.20//NONSGML v1.0//EN
CALSCALE:GREGORIAN
METHOD:PUBLISH
X-WR-CALNAME:The Pacific Northwest Conference of The United Methodist Church
X-ORIGINAL-URL:https://www.pnwumc.org
X-WR-CALDESC:Events for The Pacific Northwest Conference of The United Methodist Church
REFRESH-INTERVAL;VALUE=DURATION:PT1H
X-Robots-Tag:noindex
X-PUBLISHED-TTL:PT1H
BEGIN:VTIMEZONE
TZID:America/Los_Angeles
BEGIN:DAYLIGHT
TZOFFSETFROM:-0800
TZOFFSETTO:-0700
TZNAME:PDT
DTSTART:20240310T100000
END:DAYLIGHT
BEGIN:STANDARD
TZOFFSETFROM:-0700
TZOFFSETTO:-0800
TZNAME:PST
DTSTART:20241103T090000
END:STANDARD
BEGIN:DAYLIGHT
TZOFFSETFROM:-0800
TZOFFSETTO:-0700
TZNAME:PDT
DTSTART:20250309T100000
END:DAYLIGHT
BEGIN:STANDARD
TZOFFSETFROM:-0700
TZOFFSETTO:-0800
TZNAME:PST
DTSTART:20251102T090000
END:STANDARD
BEGIN:DAYLIGHT
TZOFFSETFROM:-0800
TZOFFSETTO:-0700
TZNAME:PDT
DTSTART:20260308T100000
END:DAYLIGHT
BEGIN:STANDARD
TZOFFSETFROM:-0700
TZOFFSETTO:-0800
TZNAME:PST
DTSTART:20261101T090000
END:STANDARD
END:VTIMEZONE
BEGIN:VEVENT
DTSTART;VALUE=DATE:20250509
DTEND;VALUE=DATE:20250511
DTSTAMP:20260421T163115
CREATED:20250205T032055Z
LAST-MODIFIED:20250220T214009Z
UID:10001151-1746748800-1746921599@www.pnwumc.org
SUMMARY:United Methodist Youth Rally - Overnight District Youth Event
DESCRIPTION:Youth and leaders from the Seven Rivers and Inland Districts are invited to a United Methodist Youth Rally\, an overnight District Youth Event at Kennewick First United Methodist Church on May 9-10. Join them for worship\, games\, and so much more! \nHave questions or want more information? Click here for the flyer and contact Claressa Elvik\, Youth Director at Kennewick First United Methodist Church. Claressa@kennewickfirst.com 509-582-2163.
URL:https://www.pnwumc.org/event/overnight-district-youth-event/
LOCATION:Kennewick First UMC\, 421 W Kennewick Ave\, Kennewick\, WA\, 99336\, United States
CATEGORIES:Disaster Response,Inland,Seven Rivers,Young People's Ministry
ATTACH;FMTTYPE=image/jpeg:https://www.pnwumc.org/wp-content/uploads/2025/02/Youth-Rally-Flyer-calimage.jpg
GEO:46.2084114;-119.1241804
X-APPLE-STRUCTURED-LOCATION;VALUE=URI;X-ADDRESS=Kennewick First UMC 421 W Kennewick Ave Kennewick WA 99336 United States;X-APPLE-RADIUS=500;X-TITLE=421 W Kennewick Ave:geo:-119.1241804,46.2084114
END:VEVENT
END:VCALENDAR