BEGIN:VCALENDAR
VERSION:2.0
PRODID:-//The Pacific Northwest Conference of The United Methodist Church - ECPv6.15.20//NONSGML v1.0//EN
CALSCALE:GREGORIAN
METHOD:PUBLISH
X-WR-CALNAME:The Pacific Northwest Conference of The United Methodist Church
X-ORIGINAL-URL:https://www.pnwumc.org
X-WR-CALDESC:Events for The Pacific Northwest Conference of The United Methodist Church
REFRESH-INTERVAL;VALUE=DURATION:PT1H
X-Robots-Tag:noindex
X-PUBLISHED-TTL:PT1H
BEGIN:VTIMEZONE
TZID:America/Los_Angeles
BEGIN:DAYLIGHT
TZOFFSETFROM:-0800
TZOFFSETTO:-0700
TZNAME:PDT
DTSTART:20240310T100000
END:DAYLIGHT
BEGIN:STANDARD
TZOFFSETFROM:-0700
TZOFFSETTO:-0800
TZNAME:PST
DTSTART:20241103T090000
END:STANDARD
BEGIN:DAYLIGHT
TZOFFSETFROM:-0800
TZOFFSETTO:-0700
TZNAME:PDT
DTSTART:20250309T100000
END:DAYLIGHT
BEGIN:STANDARD
TZOFFSETFROM:-0700
TZOFFSETTO:-0800
TZNAME:PST
DTSTART:20251102T090000
END:STANDARD
BEGIN:DAYLIGHT
TZOFFSETFROM:-0800
TZOFFSETTO:-0700
TZNAME:PDT
DTSTART:20260308T100000
END:DAYLIGHT
BEGIN:STANDARD
TZOFFSETFROM:-0700
TZOFFSETTO:-0800
TZNAME:PST
DTSTART:20261101T090000
END:STANDARD
END:VTIMEZONE
BEGIN:VEVENT
DTSTART;TZID=America/Los_Angeles:20250210T190000
DTEND;TZID=America/Los_Angeles:20250210T200000
DTSTAMP:20260421T163600
CREATED:20250130T170746Z
LAST-MODIFIED:20250130T170746Z
UID:10001144-1739214000-1739217600@www.pnwumc.org
SUMMARY:Crest to Coast Laity Leadership Gathering
DESCRIPTION:The Crest to Coast District is pleased to offer six opportunities for district clergy\, church leaders\, and laity to come together to learn and discuss topics related to the local church. Each of the following events will be held on Zoom from 7:00 to 8:00 p.m. \nTopics for discussion include: \n\nFebruary 10: SPRC\nFebruary 24: Financial Position Leaders\nMarch 10: Trustees\nMarch 24: Church Office Administrators\nApril 14: Lay  Servants\, Lay Speakers\, Lay Ministers\nApril 28:Churches with Preschools/Day Cares\n\nWe do our best to record these events\, but your input is what makes them successful\, so please join us! \nRegister Here.
URL:https://www.pnwumc.org/event/crest-to-coast-laity-leadership-gathering/2025-02-10/
LOCATION:https://www.pnwumc.org/event/crest-to-coast-laity-leadership-gathering/2025-02-10/
CATEGORIES:Crest to Coast
ORGANIZER;CN="Laura Velonza":MAILTO:lvelonza@pnwumc.org
END:VEVENT
END:VCALENDAR