BEGIN:VCALENDAR
VERSION:2.0
PRODID:-//The Pacific Northwest Conference of The United Methodist Church - ECPv6.15.20//NONSGML v1.0//EN
CALSCALE:GREGORIAN
METHOD:PUBLISH
X-ORIGINAL-URL:https://www.pnwumc.org
X-WR-CALDESC:Events for The Pacific Northwest Conference of The United Methodist Church
REFRESH-INTERVAL;VALUE=DURATION:PT1H
X-Robots-Tag:noindex
X-PUBLISHED-TTL:PT1H
BEGIN:VTIMEZONE
TZID:America/Los_Angeles
BEGIN:DAYLIGHT
TZOFFSETFROM:-0800
TZOFFSETTO:-0700
TZNAME:PDT
DTSTART:20210314T100000
END:DAYLIGHT
BEGIN:STANDARD
TZOFFSETFROM:-0700
TZOFFSETTO:-0800
TZNAME:PST
DTSTART:20211107T090000
END:STANDARD
BEGIN:DAYLIGHT
TZOFFSETFROM:-0800
TZOFFSETTO:-0700
TZNAME:PDT
DTSTART:20220313T100000
END:DAYLIGHT
BEGIN:STANDARD
TZOFFSETFROM:-0700
TZOFFSETTO:-0800
TZNAME:PST
DTSTART:20221106T090000
END:STANDARD
BEGIN:DAYLIGHT
TZOFFSETFROM:-0800
TZOFFSETTO:-0700
TZNAME:PDT
DTSTART:20230312T100000
END:DAYLIGHT
BEGIN:STANDARD
TZOFFSETFROM:-0700
TZOFFSETTO:-0800
TZNAME:PST
DTSTART:20231105T090000
END:STANDARD
END:VTIMEZONE
BEGIN:VEVENT
DTSTART;TZID=America/Los_Angeles:20220430T100000
DTEND;TZID=America/Los_Angeles:20220430T100000
DTSTAMP:20260424T092810
CREATED:20220225T230214Z
LAST-MODIFIED:20220427T170319Z
UID:10000535-1651312800-1651312800@www.pnwumc.org
SUMMARY:Soul Shop: Virtual Suicide Prevention Training
DESCRIPTION:Hosted by the Crest to Coast Missional District of the PNW Conference of the UMCc \nSaturday\, April 30th 10:00am – 11:30am Pacific \nFor Pastors\, professional staff\, and lay leaders in the PNW Conference\, Columbia District and Cascadia District\, \nIn this virtual\, 90-minute training\, participants will learn how prevalent suicide is\, indicators of risk\, how to ask if a person is thinking about suicide and available resources to help those at risk. This is an introductory training appropriate for church leaders who are interested in creating networks of support for those affected by suicidal desperation in their church and their communities. \nSoul Shop’s mission is to equip faith communities to save lives and to bring hope to those affected by suicidal desperation. Soul Shop’s mission is to be the national leader in developing faith communities that companion those impacted by suicide into hope and connection. Learn more about Soul Shop’s approach and philosophy. \nPlease note when registering.  If registering as a group please have one person register everyone from your church that is planning to attend.  You can come back at a later date and add additional people if needed.  Please register for one workshop date below \nClick here to register for the April 30th training \n  \n$5/per person \n$20/per church (4 or more people) \nForms you may find useful: https://www.pnwumc.org/wp-content/uploads/2022/02/Leavingingoodhands-1.docx \nhttps://www.pnwumc.org/wp-content/uploads/2022/02/1B11.1EN2910-HelpersInYourCommunity-3-1-1.pdf
URL:https://www.pnwumc.org/event/soul-shop-virtual-suicide-prevention-training/
LOCATION:Zoom Webinar\, United States
CATEGORIES:Crest to Coast,District
ORGANIZER;CN="Anna Conklin":MAILTO:aconklin@pnwumc.org
GEO:37.09024;-95.712891
END:VEVENT
END:VCALENDAR