BEGIN:VCALENDAR
VERSION:2.0
PRODID:-//The Pacific Northwest Conference of The United Methodist Church - ECPv6.15.20//NONSGML v1.0//EN
CALSCALE:GREGORIAN
METHOD:PUBLISH
X-WR-CALNAME:The Pacific Northwest Conference of The United Methodist Church
X-ORIGINAL-URL:https://www.pnwumc.org
X-WR-CALDESC:Events for The Pacific Northwest Conference of The United Methodist Church
REFRESH-INTERVAL;VALUE=DURATION:PT1H
X-Robots-Tag:noindex
X-PUBLISHED-TTL:PT1H
BEGIN:VTIMEZONE
TZID:America/Los_Angeles
BEGIN:DAYLIGHT
TZOFFSETFROM:-0800
TZOFFSETTO:-0700
TZNAME:PDT
DTSTART:20190310T100000
END:DAYLIGHT
BEGIN:STANDARD
TZOFFSETFROM:-0700
TZOFFSETTO:-0800
TZNAME:PST
DTSTART:20191103T090000
END:STANDARD
BEGIN:DAYLIGHT
TZOFFSETFROM:-0800
TZOFFSETTO:-0700
TZNAME:PDT
DTSTART:20200308T100000
END:DAYLIGHT
BEGIN:STANDARD
TZOFFSETFROM:-0700
TZOFFSETTO:-0800
TZNAME:PST
DTSTART:20201101T090000
END:STANDARD
BEGIN:DAYLIGHT
TZOFFSETFROM:-0800
TZOFFSETTO:-0700
TZNAME:PDT
DTSTART:20210314T100000
END:DAYLIGHT
BEGIN:STANDARD
TZOFFSETFROM:-0700
TZOFFSETTO:-0800
TZNAME:PST
DTSTART:20211107T090000
END:STANDARD
END:VTIMEZONE
BEGIN:VEVENT
DTSTART;VALUE=DATE:20200919
DTEND;VALUE=DATE:20200920
DTSTAMP:20260425T210943
CREATED:20200203T232255Z
LAST-MODIFIED:20200203T232255Z
UID:10000431-1600473600-1600559999@www.pnwumc.org
SUMMARY:Crest to Coast Missional District Annual Meeting
DESCRIPTION:Meeting times not available at the time of posting.
URL:https://www.pnwumc.org/event/crest-to-coast-missional-district-annual-meeting/
LOCATION:Vancouver: First UMC\, 401 E 33rd St\, Vancouver\, WA\, 98663\, United States
CATEGORIES:Crest to Coast,United Methodist Women
GEO:45.644877;-122.667931
X-APPLE-STRUCTURED-LOCATION;VALUE=URI;X-ADDRESS=Vancouver: First UMC 401 E 33rd St Vancouver WA 98663 United States;X-APPLE-RADIUS=500;X-TITLE=401 E 33rd St:geo:-122.667931,45.644877
END:VEVENT
END:VCALENDAR