BEGIN:VCALENDAR
VERSION:2.0
PRODID:-//The Pacific Northwest Conference of The United Methodist Church - ECPv6.15.20//NONSGML v1.0//EN
CALSCALE:GREGORIAN
METHOD:PUBLISH
X-ORIGINAL-URL:https://www.pnwumc.org
X-WR-CALDESC:Events for The Pacific Northwest Conference of The United Methodist Church
REFRESH-INTERVAL;VALUE=DURATION:PT1H
X-Robots-Tag:noindex
X-PUBLISHED-TTL:PT1H
BEGIN:VTIMEZONE
TZID:America/Los_Angeles
BEGIN:DAYLIGHT
TZOFFSETFROM:-0800
TZOFFSETTO:-0700
TZNAME:PDT
DTSTART:20240310T100000
END:DAYLIGHT
BEGIN:STANDARD
TZOFFSETFROM:-0700
TZOFFSETTO:-0800
TZNAME:PST
DTSTART:20241103T090000
END:STANDARD
BEGIN:DAYLIGHT
TZOFFSETFROM:-0800
TZOFFSETTO:-0700
TZNAME:PDT
DTSTART:20250309T100000
END:DAYLIGHT
BEGIN:STANDARD
TZOFFSETFROM:-0700
TZOFFSETTO:-0800
TZNAME:PST
DTSTART:20251102T090000
END:STANDARD
BEGIN:DAYLIGHT
TZOFFSETFROM:-0800
TZOFFSETTO:-0700
TZNAME:PDT
DTSTART:20260308T100000
END:DAYLIGHT
BEGIN:STANDARD
TZOFFSETFROM:-0700
TZOFFSETTO:-0800
TZNAME:PST
DTSTART:20261101T090000
END:STANDARD
END:VTIMEZONE
BEGIN:VEVENT
DTSTART;VALUE=DATE:20251025
DTEND;VALUE=DATE:20251027
DTSTAMP:20260420T223509
CREATED:20250904T182623Z
LAST-MODIFIED:20250904T182623Z
UID:10001611-1761350400-1761523199@www.pnwumc.org
SUMMARY:Halloween Youth Overnight -- Real. Raw. Redeemed
DESCRIPTION:West Side PNW Youth Present:\nHalloween Youth Overnight — Real. Raw. Redeemed.\nIn a world where we are always putting on masks to perform\, you are invited to a 24 hour event of fun\, service\, and worship! West Side PNW Youth invites you to a Halloween overnighter where between costumes and games we are reminded that God calls us to take off our masks and be our authentic selves before God and one another. Bring your youth group and join us as we invest in connectional youth ministry once again! \nDate: Saturday to Sunday October 25th-26th \nAddress: 1224 Legion Way SE\, Olympia\, WA 98501 \nTime: 1:30 PM on Saturday to 11:30 AM after worship on Sunday \nWho: Youth 6-12th grades\n\n\nLink to register: https://forms.gle/45F4UBfuvaZNHb2q7\n\n\nFlyer: Youth All Nighter
URL:https://www.pnwumc.org/event/halloween-youth-overnight-25/
LOCATION:Olympia First United Methodist Church\, 1224 Legion Way SE\, Olympia\, 98501\, United States
CATEGORIES:Annual Conference,Crest to Coast,Puget Sound,SeaTac,Young People's Ministry,Youth
ATTACH;FMTTYPE=image/png:https://www.pnwumc.org/wp-content/uploads/2025/09/Youth-All-Nighter-1.pdf-Facebook-Cover.png
ORGANIZER;CN="Rev. Kellen Corliss":MAILTO:kellencorliss@gmail.com
GEO:47.0447683;-122.8854621
X-APPLE-STRUCTURED-LOCATION;VALUE=URI;X-ADDRESS=Olympia First United Methodist Church 1224 Legion Way SE Olympia 98501 United States;X-APPLE-RADIUS=500;X-TITLE=1224 Legion Way SE:geo:-122.8854621,47.0447683
END:VEVENT
END:VCALENDAR