BEGIN:VCALENDAR
VERSION:2.0
PRODID:-//The Pacific Northwest Conference of The United Methodist Church - ECPv6.15.20//NONSGML v1.0//EN
CALSCALE:GREGORIAN
METHOD:PUBLISH
X-ORIGINAL-URL:https://www.pnwumc.org
X-WR-CALDESC:Events for The Pacific Northwest Conference of The United Methodist Church
REFRESH-INTERVAL;VALUE=DURATION:PT1H
X-Robots-Tag:noindex
X-PUBLISHED-TTL:PT1H
BEGIN:VTIMEZONE
TZID:America/Los_Angeles
BEGIN:DAYLIGHT
TZOFFSETFROM:-0800
TZOFFSETTO:-0700
TZNAME:PDT
DTSTART:20230312T100000
END:DAYLIGHT
BEGIN:STANDARD
TZOFFSETFROM:-0700
TZOFFSETTO:-0800
TZNAME:PST
DTSTART:20231105T090000
END:STANDARD
BEGIN:DAYLIGHT
TZOFFSETFROM:-0800
TZOFFSETTO:-0700
TZNAME:PDT
DTSTART:20240310T100000
END:DAYLIGHT
BEGIN:STANDARD
TZOFFSETFROM:-0700
TZOFFSETTO:-0800
TZNAME:PST
DTSTART:20241103T090000
END:STANDARD
BEGIN:DAYLIGHT
TZOFFSETFROM:-0800
TZOFFSETTO:-0700
TZNAME:PDT
DTSTART:20250309T100000
END:DAYLIGHT
BEGIN:STANDARD
TZOFFSETFROM:-0700
TZOFFSETTO:-0800
TZNAME:PST
DTSTART:20251102T090000
END:STANDARD
END:VTIMEZONE
BEGIN:VEVENT
DTSTART;TZID=America/Los_Angeles:20240523T090000
DTEND;TZID=America/Los_Angeles:20240523T150000
DTSTAMP:20260423T083001
CREATED:20240509T230940Z
LAST-MODIFIED:20240509T231017Z
UID:10000858-1716454800-1716476400@www.pnwumc.org
SUMMARY:SeaTac DCOM
DESCRIPTION:A meeting of the SeaTac District Committee on Ministry. A hybrid option is available for those who require it.
URL:https://www.pnwumc.org/event/seatac-dcom/
LOCATION:Des Moines United Methodist Church\, 22225 9th Ave S\, Des Moines\, WA\, 98198\, United States
CATEGORIES:Board of Ordained Ministry,SeaTac
ORGANIZER;CN="Stephanie Franklin":MAILTO:sfranklin@pnwumc.org
GEO:47.402228;-122.322559
X-APPLE-STRUCTURED-LOCATION;VALUE=URI;X-ADDRESS=Des Moines United Methodist Church 22225 9th Ave S Des Moines WA 98198 United States;X-APPLE-RADIUS=500;X-TITLE=22225 9th Ave S:geo:-122.322559,47.402228
END:VEVENT
END:VCALENDAR