BEGIN:VCALENDAR
VERSION:2.0
PRODID:-//The Pacific Northwest Conference of The United Methodist Church - ECPv6.15.20//NONSGML v1.0//EN
CALSCALE:GREGORIAN
METHOD:PUBLISH
X-ORIGINAL-URL:https://www.pnwumc.org
X-WR-CALDESC:Events for The Pacific Northwest Conference of The United Methodist Church
REFRESH-INTERVAL;VALUE=DURATION:PT1H
X-Robots-Tag:noindex
X-PUBLISHED-TTL:PT1H
BEGIN:VTIMEZONE
TZID:America/Los_Angeles
BEGIN:DAYLIGHT
TZOFFSETFROM:-0800
TZOFFSETTO:-0700
TZNAME:PDT
DTSTART:20230312T100000
END:DAYLIGHT
BEGIN:STANDARD
TZOFFSETFROM:-0700
TZOFFSETTO:-0800
TZNAME:PST
DTSTART:20231105T090000
END:STANDARD
BEGIN:DAYLIGHT
TZOFFSETFROM:-0800
TZOFFSETTO:-0700
TZNAME:PDT
DTSTART:20240310T100000
END:DAYLIGHT
BEGIN:STANDARD
TZOFFSETFROM:-0700
TZOFFSETTO:-0800
TZNAME:PST
DTSTART:20241103T090000
END:STANDARD
BEGIN:DAYLIGHT
TZOFFSETFROM:-0800
TZOFFSETTO:-0700
TZNAME:PDT
DTSTART:20250309T100000
END:DAYLIGHT
BEGIN:STANDARD
TZOFFSETFROM:-0700
TZOFFSETTO:-0800
TZNAME:PST
DTSTART:20251102T090000
END:STANDARD
END:VTIMEZONE
BEGIN:VEVENT
DTSTART;TZID=America/Los_Angeles:20240415T150000
DTEND;TZID=America/Los_Angeles:20240415T163000
DTSTAMP:20260424T164003
CREATED:20240314T002841Z
LAST-MODIFIED:20240314T002841Z
UID:10000852-1713193200-1713198600@www.pnwumc.org
SUMMARY:'Clergy Who Cook' virtual cooking course
DESCRIPTION:An online cooking class is being offered for pastoral leaders (under appointment or retired) on April 15 from 3-4:30 p.m. as an opportunity for fellowship and community building. Participants will join Rev. Joe Kim in making a Korean meal. RSVP here by April 11 to get the Zoom link and ingredient list.
URL:https://www.pnwumc.org/event/clergy-who-cook-virtual-cooking-course/
CATEGORIES:Clergy
ATTACH;FMTTYPE=image/jpeg:https://www.pnwumc.org/wp-content/uploads/2024/03/cooking-class-ad.jpg
LOCATION:https://www.pnwumc.org/event/clergy-who-cook-virtual-cooking-course/
END:VEVENT
END:VCALENDAR