BEGIN:VCALENDAR
VERSION:2.0
PRODID:-//The Pacific Northwest Conference of The United Methodist Church - ECPv6.15.20//NONSGML v1.0//EN
CALSCALE:GREGORIAN
METHOD:PUBLISH
X-ORIGINAL-URL:https://www.pnwumc.org
X-WR-CALDESC:Events for The Pacific Northwest Conference of The United Methodist Church
REFRESH-INTERVAL;VALUE=DURATION:PT1H
X-Robots-Tag:noindex
X-PUBLISHED-TTL:PT1H
BEGIN:VTIMEZONE
TZID:America/Los_Angeles
BEGIN:DAYLIGHT
TZOFFSETFROM:-0800
TZOFFSETTO:-0700
TZNAME:PDT
DTSTART:20240310T100000
END:DAYLIGHT
BEGIN:STANDARD
TZOFFSETFROM:-0700
TZOFFSETTO:-0800
TZNAME:PST
DTSTART:20241103T090000
END:STANDARD
BEGIN:DAYLIGHT
TZOFFSETFROM:-0800
TZOFFSETTO:-0700
TZNAME:PDT
DTSTART:20250309T100000
END:DAYLIGHT
BEGIN:STANDARD
TZOFFSETFROM:-0700
TZOFFSETTO:-0800
TZNAME:PST
DTSTART:20251102T090000
END:STANDARD
BEGIN:DAYLIGHT
TZOFFSETFROM:-0800
TZOFFSETTO:-0700
TZNAME:PDT
DTSTART:20260308T100000
END:DAYLIGHT
BEGIN:STANDARD
TZOFFSETFROM:-0700
TZOFFSETTO:-0800
TZNAME:PST
DTSTART:20261101T090000
END:STANDARD
BEGIN:DAYLIGHT
TZOFFSETFROM:-0800
TZOFFSETTO:-0700
TZNAME:PDT
DTSTART:20270314T100000
END:DAYLIGHT
BEGIN:STANDARD
TZOFFSETFROM:-0700
TZOFFSETTO:-0800
TZNAME:PST
DTSTART:20271107T090000
END:STANDARD
END:VTIMEZONE
BEGIN:VEVENT
DTSTART;TZID=America/Los_Angeles:20260404T160000
DTEND;TZID=America/Los_Angeles:20260404T180000
DTSTAMP:20260420T124229
CREATED:20260317T185107Z
LAST-MODIFIED:20260317T185107Z
UID:10002093-1775318400-1775325600@www.pnwumc.org
SUMMARY:Table Turning - Unite to Free Them All
DESCRIPTION:Valley & Mountain Fellowship UMC are preparing for their annual Holy Week Table Turning tradition and they are calling on people of faith all across the city and county to join them for a People of Faith & Conscience to Unite in One Voice to Free Them All. \n“We have all seen the abuses of Immigration Customs Enforcement in Chicago\, Minneapolis and here at home. Immigrant siblings are being detained without legal process. Children are being caged all across our land. This is the moment that people of faith can stand together to demand the release of our people and to defend immigrant families from being torn apart. \nOn April 4th\, 4-6PM join us outside the Northwest Detention Center for a gathering of people of faith in partnership with many community groups working to free them all. Gather your people\, make your signs and be prepared to use your voice for change.” \nIf you have any questions about this event please contact Rev. Dr. DeAnza Spaulding Sekou at deanza@valleyandmountain.org.
URL:https://www.pnwumc.org/event/table-turning-unite-to-free-them-all/
LOCATION:Northwest Detention Center\, Tacoma\, 1623 E J St\, Tacoma\, United States
CATEGORIES:Church and Society,Local Church
ATTACH;FMTTYPE=image/jpeg:https://www.pnwumc.org/wp-content/uploads/2026/03/Table-16-9.jpg
END:VEVENT
BEGIN:VEVENT
DTSTART;TZID=America/Los_Angeles:20260319T190000
DTEND;TZID=America/Los_Angeles:20260319T203000
DTSTAMP:20260420T124229
CREATED:20260312T004405Z
LAST-MODIFIED:20260312T005121Z
UID:10002091-1773946800-1773952200@www.pnwumc.org
SUMMARY:Safe Parking 101
DESCRIPTION:Lake Washington United Methodist Church will be offering a webinar “Safe Parking 101” for community members interested in learning more about this program. It will be on Zoom on Thursday\, March 19\, at 7pm. If you would like to attend\, please RSVP and you will receive a confirmation email right away. The day before the webinar\, the church will send out a reminder with the Zoom link. They look forward to seeing you there! \nClick here to RSVP for this training on Zoom. \nClick here to learn more about this program. 
URL:https://www.pnwumc.org/event/safe-parking-101/
LOCATION:https://www.pnwumc.org/event/safe-parking-101/
CATEGORIES:Church and Society,Local Church,Training
ATTACH;FMTTYPE=image/jpeg:https://www.pnwumc.org/wp-content/uploads/2024/12/safe-parking.jpg
END:VEVENT
BEGIN:VEVENT
DTSTART;TZID=America/Los_Angeles:20260315T114500
DTEND;TZID=America/Los_Angeles:20260315T130000
DTSTAMP:20260420T124229
CREATED:20260309T220323Z
LAST-MODIFIED:20260309T220323Z
UID:10002090-1773575100-1773579600@www.pnwumc.org
SUMMARY:Climate Justice and the Right to Food
DESCRIPTION:The impact of climate change on poor rural households is already staggeringly high. What to do? One approach is to tackle the issue in terms of the “Right to Food.” Other approaches include innovative strategies the United Methodist Committee on Relief (UMCOR) has developed in the context of disaster recovery and climate risk reduction. \nAll are invited to a Climate Justice related Lunch & Learn after worship on UMCOR Sunday\, March 15th\, hosted by the Climate Justice Working Group at Seattle First. Dan Gustafson\, a member who is the former Deputy Director-General of the Food and Agriculture Organization of the United Nations will present. \nA Zoom option is available for people and congregations that would like to attend but can’t make it in person due to the distance. Parking in Seattle First’s garage is also free for attending the event. \nThose who plan to attend are invited to register here ahead of time so that Seattle First knows how much food to prepare. If you register to attend via Zoom\, the link will be sent upon registration.
URL:https://www.pnwumc.org/event/climate-justice-and-the-right-to-food/
LOCATION:Seattle First United Methodist Church\, 180 Denny Way\, Seattle\, WA\, 98109\, United States
CATEGORIES:Church and Society,Local Church
ATTACH;FMTTYPE=image/jpeg:https://www.pnwumc.org/wp-content/uploads/2026/03/Climate-Lunch.jpg
GEO:47.618846;-122.353213
X-APPLE-STRUCTURED-LOCATION;VALUE=URI;X-ADDRESS=Seattle First United Methodist Church 180 Denny Way Seattle WA 98109 United States;X-APPLE-RADIUS=500;X-TITLE=180 Denny Way:geo:-122.353213,47.618846
END:VEVENT
BEGIN:VEVENT
DTSTART;TZID=America/Los_Angeles:20260124T140000
DTEND;TZID=America/Los_Angeles:20260124T153000
DTSTAMP:20260420T124229
CREATED:20260106T190826Z
LAST-MODIFIED:20260106T190826Z
UID:10001702-1769263200-1769268600@www.pnwumc.org
SUMMARY:United in Faith: A Call to Action - Clark County
DESCRIPTION:People of faith are invited to United in Faith: A Call to Action\, an ecumenical gathering for worship\, learning\, and public witness on Sat.\, January 24\, from 2–3:30 p.m. at St. Andrew Lutheran Church in Vancouver\, WA. Attendees will hear from Bishop Cedrick Bridgeforth and will organize to stand for justice\, truth\, democracy\, and the vulnerable\, resisting the misuse of religion and renewing a Christian witness rooted in love\, courage\, and the common good. \nLearn more here – https://greaternw.org/news/united-in-faith-a-call-to-action/
URL:https://www.pnwumc.org/event/united-in-faith-a-call-to-action-clark-county/
LOCATION:St. Andrew Lutheran Church\, 5607 NE Gher Road\, Vancouver\, 98662\, United States
CATEGORIES:Church and Society,Crest to Coast,Local Church,Networks
ATTACH;FMTTYPE=image/jpeg:https://www.pnwumc.org/wp-content/uploads/2026/01/uifcc.jpg
END:VEVENT
BEGIN:VEVENT
DTSTART;TZID=America/Los_Angeles:20260111T160000
DTEND;TZID=America/Los_Angeles:20260111T170000
DTSTAMP:20260420T124229
CREATED:20260110T013116Z
LAST-MODIFIED:20260110T014102Z
UID:10001704-1768147200-1768150800@www.pnwumc.org
SUMMARY:Candlelight Vigil
DESCRIPTION:Please join us for an ICE OUT FOR GOOD VIGIL on Sunday\, January 11 from 4-5 p.m. We join with other groups and churches around the country this weekend to name our outrage over the death of Renee Nicole Good and the shooting in Portland of Luis David Nico Moncada and Yorlenys Betzabeth Zambrano-Contreras by Immigration Enforcement officers. \nHosted by Edmonds United Methodist Church\, this will be a reflective service as we name the harms and injustices in our government and light candles in memory of those who’ve died in Detention Centers or shot by Immigration Enforcement officers. It will be followed by a short candlelight march on church grounds.
URL:https://www.pnwumc.org/event/candlelight-vigil/
LOCATION:Edmonds United Methodist Church\, 828 Caspers Street\, Edmonds\, WA\, 98020\, United States
CATEGORIES:Church and Society,Local Church,Puget Sound
ATTACH;FMTTYPE=image/png:https://www.pnwumc.org/wp-content/uploads/2026/01/ICE-Out-for-Good-Wordmark.png
GEO:47.8176703;-122.3690318
X-APPLE-STRUCTURED-LOCATION;VALUE=URI;X-ADDRESS=Edmonds United Methodist Church 828 Caspers Street Edmonds WA 98020 United States;X-APPLE-RADIUS=500;X-TITLE=828 Caspers Street:geo:-122.3690318,47.8176703
END:VEVENT
BEGIN:VEVENT
DTSTART;TZID=America/Los_Angeles:20251024T190000
DTEND;TZID=America/Los_Angeles:20251024T210000
DTSTAMP:20260420T124229
CREATED:20250908T221848Z
LAST-MODIFIED:20250908T221848Z
UID:10001614-1761332400-1761339600@www.pnwumc.org
SUMMARY:United in Faith: A Call to Action
DESCRIPTION:Join faith leaders and neighbors for “United in Faith: A Call to Action\,” an ecumenical gathering on Friday\, Oct. 24 at 7 p.m. at Edmonds United Methodist Church (and via livestream). Organized by the Edmonds UMC Political Action group\, the event features Bishop Shelley M. Bryan Wee (ELCA) and Bishop Cedrick D. Bridgeforth (UMC) and invites churches to build a rapid-response coalition for justice and democracy. \nFor more information\, visit: https://www.edmondsumc.org/united-in-faith \nDownload the promotional flier or slide for this event. \nThe event is free and open to all.
URL:https://www.pnwumc.org/event/united-in-faith-a-call-to-action/
LOCATION:Edmonds United Methodist Church\, 828 Caspers Street\, Edmonds\, WA\, 98020\, United States
CATEGORIES:Church and Society,Local Church,Networks
ATTACH;FMTTYPE=image/jpeg:https://www.pnwumc.org/wp-content/uploads/2025/09/UNITED-in-FAITH-slide.jpg
GEO:47.8176703;-122.3690318
X-APPLE-STRUCTURED-LOCATION;VALUE=URI;X-ADDRESS=Edmonds United Methodist Church 828 Caspers Street Edmonds WA 98020 United States;X-APPLE-RADIUS=500;X-TITLE=828 Caspers Street:geo:-122.3690318,47.8176703
END:VEVENT
BEGIN:VEVENT
DTSTART;TZID=America/Los_Angeles:20250920T130000
DTEND;TZID=America/Los_Angeles:20250920T150000
DTSTAMP:20260420T124229
CREATED:20250903T235823Z
LAST-MODIFIED:20250904T022044Z
UID:10001599-1758373200-1758380400@www.pnwumc.org
SUMMARY:UMC Solidarity Day at the Northwest Detention Center
DESCRIPTION:Join the Pacific Northwest United Methodist Church\, fellow followers of Jesus\, and all people who love justice\, as we practice solidarity with those who are detained inside the Northwest Detention Center! \n\n\n\nAs followers of Jesus\, we are mandated to care for our immigrant neighbors. As United Methodists\, we vehemently oppose the mass deportation plans of this administration and join our voices with La Resistencia in an effort to shut down the Northwest Detention Center and Free Them All! \n\n\n\nWe follow the lead\, and accept the invitation of\, La Resistencia\, a group of community members who listen first to those most impacted on the inside of NWDC\, in a campaign to free them all and shut down the Detention Center once and for all. \n\n\n\nRSVP today!\nPlease RSVP so we can plan accordingly and consider volunteering in one of the important support roles below:Hospitality: bringing donations of sunscreen (if it’s sunny)\,  granola bars\, fruit\, water bottles\, trash bags Greeters: passing out the hospitality items and intentionally saying hello as people gather Safety Team: attend one Zoom call earlier in that week to be briefed on safety protocols and arrive at least an hour early on the day of the action. Folks practiced in deescalation are needed in this role Music: We need music and strong singers who are versed in movement song to make this a joy-filled action. \n\n\n\nClick here to RSVP and/or offer your help.\n \nClick here to download a printable flyer. 
URL:https://www.pnwumc.org/event/umc-solidarity-day/
LOCATION:Northwest Detention Center\, Tacoma\, 1623 E J St\, Tacoma\, United States
CATEGORIES:Annual Conference,Church and Society,SeaTac
ATTACH;FMTTYPE=image/jpeg:https://www.pnwumc.org/wp-content/uploads/2025/09/umc-solidarity-day-2-QR-code.jpg
ORGANIZER;CN="Rev. Shalom Agtarap":MAILTO:revshalom@fumcot.org
END:VEVENT
END:VCALENDAR