BEGIN:VCALENDAR
VERSION:2.0
PRODID:-//The Pacific Northwest Conference of The United Methodist Church - ECPv6.15.20//NONSGML v1.0//EN
CALSCALE:GREGORIAN
METHOD:PUBLISH
X-WR-CALNAME:The Pacific Northwest Conference of The United Methodist Church
X-ORIGINAL-URL:https://www.pnwumc.org
X-WR-CALDESC:Events for The Pacific Northwest Conference of The United Methodist Church
REFRESH-INTERVAL;VALUE=DURATION:PT1H
X-Robots-Tag:noindex
X-PUBLISHED-TTL:PT1H
BEGIN:VTIMEZONE
TZID:America/Los_Angeles
BEGIN:DAYLIGHT
TZOFFSETFROM:-0800
TZOFFSETTO:-0700
TZNAME:PDT
DTSTART:20240310T100000
END:DAYLIGHT
BEGIN:STANDARD
TZOFFSETFROM:-0700
TZOFFSETTO:-0800
TZNAME:PST
DTSTART:20241103T090000
END:STANDARD
BEGIN:DAYLIGHT
TZOFFSETFROM:-0800
TZOFFSETTO:-0700
TZNAME:PDT
DTSTART:20250309T100000
END:DAYLIGHT
BEGIN:STANDARD
TZOFFSETFROM:-0700
TZOFFSETTO:-0800
TZNAME:PST
DTSTART:20251102T090000
END:STANDARD
BEGIN:DAYLIGHT
TZOFFSETFROM:-0800
TZOFFSETTO:-0700
TZNAME:PDT
DTSTART:20260308T100000
END:DAYLIGHT
BEGIN:STANDARD
TZOFFSETFROM:-0700
TZOFFSETTO:-0800
TZNAME:PST
DTSTART:20261101T090000
END:STANDARD
END:VTIMEZONE
BEGIN:VEVENT
DTSTART;TZID=America/Los_Angeles:20251113T090000
DTEND;TZID=America/Los_Angeles:20251113T160000
DTSTAMP:20260423T034939
CREATED:20250930T234242Z
LAST-MODIFIED:20250930T234242Z
UID:10001618-1763024400-1763049600@www.pnwumc.org
SUMMARY:Board of Ordained Ministry Fall Meeting
DESCRIPTION:The Board of Ordained Ministry will be meeting Thursday\, November 13\, 2025 from 9am to 4pm at Covenant UMC in Spokane\, Washington. We will be providing lunch to those in person\, and we will be providing access via Zoom for those who cannot attend in person. The Executive Committee of the Board will meet November 12\, at Audubon Park UMC and virtually. \nPlease contact Stephanie Franklin (sfranklin@pnwumc.org) to let her know if you will be attending in person or virtually\, or if you will not be able to attend.
URL:https://www.pnwumc.org/event/board-of-ordained-ministry-fall-meeting/
LOCATION:Covenant UMC\, 15515 North Gleneden Street\, Spokane\, 99208\, United States
CATEGORIES:Board of Ordained Ministry
ATTACH;FMTTYPE=image/png:https://www.pnwumc.org/wp-content/uploads/2024/11/LOGO_BOM_FINAL.png
ORGANIZER;CN="Board of Ordained Ministry":MAILTO:sfranklin@pnwumc.org
GEO:47.7998649;-117.404773
X-APPLE-STRUCTURED-LOCATION;VALUE=URI;X-ADDRESS=Covenant UMC 15515 North Gleneden Street Spokane 99208 United States;X-APPLE-RADIUS=500;X-TITLE=15515 North Gleneden Street:geo:-117.404773,47.7998649
END:VEVENT
END:VCALENDAR