BEGIN:VCALENDAR
VERSION:2.0
PRODID:-//The Pacific Northwest Conference of The United Methodist Church - ECPv6.15.20//NONSGML v1.0//EN
CALSCALE:GREGORIAN
METHOD:PUBLISH
X-ORIGINAL-URL:https://www.pnwumc.org
X-WR-CALDESC:Events for The Pacific Northwest Conference of The United Methodist Church
REFRESH-INTERVAL;VALUE=DURATION:PT1H
X-Robots-Tag:noindex
X-PUBLISHED-TTL:PT1H
BEGIN:VTIMEZONE
TZID:America/Los_Angeles
BEGIN:DAYLIGHT
TZOFFSETFROM:-0800
TZOFFSETTO:-0700
TZNAME:PDT
DTSTART:20170312T100000
END:DAYLIGHT
BEGIN:STANDARD
TZOFFSETFROM:-0700
TZOFFSETTO:-0800
TZNAME:PST
DTSTART:20171105T090000
END:STANDARD
BEGIN:DAYLIGHT
TZOFFSETFROM:-0800
TZOFFSETTO:-0700
TZNAME:PDT
DTSTART:20180311T100000
END:DAYLIGHT
BEGIN:STANDARD
TZOFFSETFROM:-0700
TZOFFSETTO:-0800
TZNAME:PST
DTSTART:20181104T090000
END:STANDARD
BEGIN:DAYLIGHT
TZOFFSETFROM:-0800
TZOFFSETTO:-0700
TZNAME:PDT
DTSTART:20190310T100000
END:DAYLIGHT
BEGIN:STANDARD
TZOFFSETFROM:-0700
TZOFFSETTO:-0800
TZNAME:PST
DTSTART:20191103T090000
END:STANDARD
END:VTIMEZONE
BEGIN:VEVENT
DTSTART;TZID=America/Los_Angeles:20180204T190000
DTEND;TZID=America/Los_Angeles:20180206T130000
DTSTAMP:20260419T135634
CREATED:20171213T205202Z
LAST-MODIFIED:20171218T192449Z
UID:10000197-1517770800-1517922000@www.pnwumc.org
SUMMARY:Women in Ministry Retreat
DESCRIPTION:The annual retreat is a wonderful time for women in ministry (all under appointment or retired) to come together for shared sisterhood\, a slowing down of the pace to gear up for Lent and Easter season\, a walk in the woods\, sitting up talking or playing games\, having all your meals cooked for you and cleaned up!\, and just hanging out to get to know each other better. \nThis retreat will take place at Rainbow Lodge in North Bend starting on February 4th at 7pm and concluding at 1pm on the 6th. \nPut it on your calendars now and sign up soon via the online registration form which will appear here when details are all in order. Look for more information soon. This will be a time together not to be missed! \nCLICK HERE TO REGISTER NOW!
URL:https://www.pnwumc.org/event/women-in-ministry-retreat-3/
LOCATION:Rainbow Lodge\, 46820 SE Mt Si Road\, North Bend\, WA\, 98045\, United States
CATEGORIES:Adult Retreats,Clergy
ATTACH;FMTTYPE=image/jpeg:https://www.pnwumc.org/wp-content/uploads/2017/12/women-in-ministry-banner.jpg
GEO:47.4867434;-121.7184178
X-APPLE-STRUCTURED-LOCATION;VALUE=URI;X-ADDRESS=Rainbow Lodge 46820 SE Mt Si Road North Bend WA 98045 United States;X-APPLE-RADIUS=500;X-TITLE=46820 SE Mt Si Road:geo:-121.7184178,47.4867434
END:VEVENT
BEGIN:VEVENT
DTSTART;VALUE=DATE:20180216
DTEND;VALUE=DATE:20180220
DTSTAMP:20260419T135634
CREATED:20170601T225016Z
LAST-MODIFIED:20180103T003157Z
UID:10000096-1518739200-1519084799@www.pnwumc.org
SUMMARY:Twinlow Young Adult Retreat
DESCRIPTION:For the fourth year in a row Twinlow will be the destination for your winter getaway! If you are a young adult between the ages of 18-35(ish) come enjoy a long weekend of wintery fun. Activities may include\, skiing/snow boarding\, broomball\, snowshoeing\, card games\, crafts\, and more. Oh\, and the best part\, worshiping with friends. \nCheck in starts at 4:00 pm on Saturday. First meal is Dinner on Saturday at 6:00 pm and the last meal is Breakfast Monday Morning. \nClick here for more details.
URL:https://www.pnwumc.org/event/twinlow-young-adult-retreat/
LOCATION:Twinlow Camp\, 22787 N. Twinlow Road\, Rathdrum\, ID\, 83858\, United States
CATEGORIES:Adult Retreats,Camp and Retreat Ministries,Young Adult,Young People's Ministry
ORGANIZER;CN="Kristen Moon":MAILTO:kristen@twinlowcamp.org
GEO:47.877512;-116.856824
X-APPLE-STRUCTURED-LOCATION;VALUE=URI;X-ADDRESS=Twinlow Camp 22787 N. Twinlow Road Rathdrum ID 83858 United States;X-APPLE-RADIUS=500;X-TITLE=22787 N. Twinlow Road:geo:-116.856824,47.877512
END:VEVENT
END:VCALENDAR