BEGIN:VCALENDAR
VERSION:2.0
PRODID:-//The Pacific Northwest Conference of The United Methodist Church - ECPv6.15.20//NONSGML v1.0//EN
CALSCALE:GREGORIAN
METHOD:PUBLISH
X-WR-CALNAME:The Pacific Northwest Conference of The United Methodist Church
X-ORIGINAL-URL:https://www.pnwumc.org
X-WR-CALDESC:Events for The Pacific Northwest Conference of The United Methodist Church
REFRESH-INTERVAL;VALUE=DURATION:PT1H
X-Robots-Tag:noindex
X-PUBLISHED-TTL:PT1H
BEGIN:VTIMEZONE
TZID:America/Los_Angeles
BEGIN:DAYLIGHT
TZOFFSETFROM:-0800
TZOFFSETTO:-0700
TZNAME:PDT
DTSTART:20240310T100000
END:DAYLIGHT
BEGIN:STANDARD
TZOFFSETFROM:-0700
TZOFFSETTO:-0800
TZNAME:PST
DTSTART:20241103T090000
END:STANDARD
BEGIN:DAYLIGHT
TZOFFSETFROM:-0800
TZOFFSETTO:-0700
TZNAME:PDT
DTSTART:20250309T100000
END:DAYLIGHT
BEGIN:STANDARD
TZOFFSETFROM:-0700
TZOFFSETTO:-0800
TZNAME:PST
DTSTART:20251102T090000
END:STANDARD
BEGIN:DAYLIGHT
TZOFFSETFROM:-0800
TZOFFSETTO:-0700
TZNAME:PDT
DTSTART:20260308T100000
END:DAYLIGHT
BEGIN:STANDARD
TZOFFSETFROM:-0700
TZOFFSETTO:-0800
TZNAME:PST
DTSTART:20261101T090000
END:STANDARD
END:VTIMEZONE
BEGIN:VEVENT
DTSTART;TZID=America/Los_Angeles:20250602T180000
DTEND;TZID=America/Los_Angeles:20250602T193000
DTSTAMP:20260423T004430
CREATED:20250529T012733Z
LAST-MODIFIED:20250529T013057Z
UID:10001181-1748887200-1748892600@www.pnwumc.org
SUMMARY:PNW Focus Sessions
DESCRIPTION:Guests can watch online at https://pnwumc.org/ac2025. \nRegistered members should attend via the Zoom meeting link that will be sent to them before the meeting.
URL:https://www.pnwumc.org/event/pnw-focus-sessions/2025-06-02/
LOCATION:https://www.pnwumc.org/event/pnw-focus-sessions/2025-06-02/
CATEGORIES:Annual Conference
ATTACH;FMTTYPE=image/jpeg:https://www.pnwumc.org/wp-content/uploads/2025/05/Focus-Sessions16-9.jpg
END:VEVENT
BEGIN:VEVENT
DTSTART;TZID=America/Los_Angeles:20250603T180000
DTEND;TZID=America/Los_Angeles:20250603T193000
DTSTAMP:20260423T004430
CREATED:20250529T012733Z
LAST-MODIFIED:20250529T013057Z
UID:10001182-1748973600-1748979000@www.pnwumc.org
SUMMARY:PNW Focus Sessions
DESCRIPTION:Guests can watch online at https://pnwumc.org/ac2025. \nRegistered members should attend via the Zoom meeting link that will be sent to them before the meeting.
URL:https://www.pnwumc.org/event/pnw-focus-sessions/2025-06-03/
LOCATION:https://www.pnwumc.org/event/pnw-focus-sessions/2025-06-03/
CATEGORIES:Annual Conference
ATTACH;FMTTYPE=image/jpeg:https://www.pnwumc.org/wp-content/uploads/2025/05/Focus-Sessions16-9.jpg
END:VEVENT
BEGIN:VEVENT
DTSTART;TZID=America/Los_Angeles:20250604T110000
DTEND;TZID=America/Los_Angeles:20250604T123000
DTSTAMP:20260423T004430
CREATED:20241120T023657Z
LAST-MODIFIED:20241120T023657Z
UID:10001030-1749034800-1749040200@www.pnwumc.org
SUMMARY:Board of Discipleship
DESCRIPTION:The Board of Discipleship is planning to meet on this date to continue its connectional work. Please contact Rev. DJ del Rosario for any additional information about this meeting.
URL:https://www.pnwumc.org/event/board-of-discipleship/2025-06-04/
LOCATION:https://www.pnwumc.org/event/board-of-discipleship/2025-06-04/
CATEGORIES:Discipleship,Meetings
ATTACH;FMTTYPE=image/jpeg:https://www.pnwumc.org/wp-content/uploads/2024/11/Board-of-Discipleship.jpg
ORGANIZER;CN="DJ del Rosario":MAILTO:dj@revdj.com
END:VEVENT
BEGIN:VEVENT
DTSTART;TZID=America/Los_Angeles:20250612T090000
DTEND;TZID=America/Los_Angeles:20250612T153000
DTSTAMP:20260423T004430
CREATED:20241101T183415Z
LAST-MODIFIED:20241101T183415Z
UID:10000965-1749718800-1749742200@www.pnwumc.org
SUMMARY:Seattle District Committee on Ministry
DESCRIPTION:This is a regular meeting of the Seattle District Committee on Ministry.
URL:https://www.pnwumc.org/event/seattle-district-committee-on-ministry/2025-06-12/
LOCATION:The Pacific Northwest Conference of the United Methodist Church\, 816 S 216th St\, Des Moines\, WA\, 98198\, United States
CATEGORIES:Board of Ordained Ministry,Meetings,SeaTac
GEO:47.4095109;-122.3211638
X-APPLE-STRUCTURED-LOCATION;VALUE=URI;X-ADDRESS=The Pacific Northwest Conference of the United Methodist Church 816 S 216th St Des Moines WA 98198 United States;X-APPLE-RADIUS=500;X-TITLE=816 S 216th St:geo:-122.3211638,47.4095109
END:VEVENT
BEGIN:VEVENT
DTSTART;VALUE=DATE:20250626
DTEND;VALUE=DATE:20250630
DTSTAMP:20260423T004430
CREATED:20240716T192858Z
LAST-MODIFIED:20250124T002548Z
UID:10000878-1750896000-1751241599@www.pnwumc.org
SUMMARY:PNW Annual Conference 2025
DESCRIPTION:The 2025 session of the Pacific Northwest Annual Conference will take place from June 26 to June 28 at Bothell UMC. \nLearn more by reading this story on the 2025 PNWAC website.
URL:https://www.pnwumc.org/event/pnw-annual-conference-2025/
LOCATION:Bothell United Methodist Church\, 18515 92nd Ave NE\, Bothell\, 98011\, United States
CATEGORIES:Annual Conference
ATTACH;FMTTYPE=image/jpeg:https://www.pnwumc.org/wp-content/uploads/2024/07/PNWAC2024STD.jpg
GEO:47.7624306;-122.2189218
X-APPLE-STRUCTURED-LOCATION;VALUE=URI;X-ADDRESS=Bothell United Methodist Church 18515 92nd Ave NE Bothell 98011 United States;X-APPLE-RADIUS=500;X-TITLE=18515 92nd Ave NE:geo:-122.2189218,47.7624306
END:VEVENT
END:VCALENDAR