BEGIN:VCALENDAR
VERSION:2.0
PRODID:-//The Pacific Northwest Conference of The United Methodist Church - ECPv6.15.20//NONSGML v1.0//EN
CALSCALE:GREGORIAN
METHOD:PUBLISH
X-ORIGINAL-URL:https://www.pnwumc.org
X-WR-CALDESC:Events for The Pacific Northwest Conference of The United Methodist Church
REFRESH-INTERVAL;VALUE=DURATION:PT1H
X-Robots-Tag:noindex
X-PUBLISHED-TTL:PT1H
BEGIN:VTIMEZONE
TZID:America/Los_Angeles
BEGIN:DAYLIGHT
TZOFFSETFROM:-0800
TZOFFSETTO:-0700
TZNAME:PDT
DTSTART:20230312T100000
END:DAYLIGHT
BEGIN:STANDARD
TZOFFSETFROM:-0700
TZOFFSETTO:-0800
TZNAME:PST
DTSTART:20231105T090000
END:STANDARD
BEGIN:DAYLIGHT
TZOFFSETFROM:-0800
TZOFFSETTO:-0700
TZNAME:PDT
DTSTART:20240310T100000
END:DAYLIGHT
BEGIN:STANDARD
TZOFFSETFROM:-0700
TZOFFSETTO:-0800
TZNAME:PST
DTSTART:20241103T090000
END:STANDARD
BEGIN:DAYLIGHT
TZOFFSETFROM:-0800
TZOFFSETTO:-0700
TZNAME:PDT
DTSTART:20250309T100000
END:DAYLIGHT
BEGIN:STANDARD
TZOFFSETFROM:-0700
TZOFFSETTO:-0800
TZNAME:PST
DTSTART:20251102T090000
END:STANDARD
END:VTIMEZONE
BEGIN:VEVENT
DTSTART;TZID=America/Los_Angeles:20240816T183000
DTEND;TZID=America/Los_Angeles:20240818T120000
DTSTAMP:20260423T164000
CREATED:20240717T231605Z
LAST-MODIFIED:20240717T232029Z
UID:10000879-1723833000-1723982400@www.pnwumc.org
SUMMARY:Worship Workshops: “small bites\, BIG FLAVOR”
DESCRIPTION:As a layperson\, do you find yourself responsible for leading worship? Do you need help with worship resources? Would you like to learn skills to enhance worship leadership in your small church? If so\, these worship workshops are for you! \nThe Pacific Northwest (PNW) Conference has invited Dr. Marcia McFee to lead three workshops over the next several months to empower laity to become more effective in worship planning and leading. Bitesize mindset and skillset lessons will be taught\, which can add flavor to your worship. Resources for each liturgical season will also be shared. \n\nAugust 16-18\, 2024 – Advent / Christmas / Epiphany – held in (and live-streamed from) Spokane Valley UMC\, Spokane Valley\, WA\nJanuary 10-12\, 2025 – Lent / Holy Week / Easter – held in (and live-streamed from) First UMC\, Olympia\, WA\nMay 2-4\, 2025 – Ordinary Time – held in (and live-streamed from) Wesley UMC\, Yakima\, WA\nAn orientation will be held on Wednesday\, July 31st at 9 a.m. PT\, a recording of which will also be available\n\nWhile these workshops are offered with laypersons in mind\, pastors of small churches are especially invited to attend with their laity. Pastors of larger churches are welcome but strongly encouraged to see this event as an opportunity to equip and train laity as partners in worship design. \nClick here to review the schedule for these workshops. \nParticipants from the Alaska\, Oregon-Idaho\, and PNW Conferences will have free access to all three workshops\, both in person and online. For more information and to register\, please use the following link based on the conference your local church is in. \n\nAlaska Conference Registration\nOregon-Idaho Conference Registration\nPacific Northwest Conference Registration\n\nFor those attending in person\, a nominal fee is required to cover the costs of meals and other host church expenses. A separate (simple) registration (for each event) is required so we can prepare for your needs. Registration for in-person hospitality at the August event is available here. Others will become available closer to the workshop dates. \nScholarships are available for Lay-Led Congregations and churches served by a CLM in the PNW Conference to cover this expense and support travel and housing during each workshop. Please contact your District Superintendent (PNW) for scholarship support. \nIf you have questions\, please contact Sheila Miranda at smiranda@pnwumc.org
URL:https://www.pnwumc.org/event/worship-workshops-small-bites-big-flavor/
LOCATION:Spokane Valley United Methodist Church\, 115 N Raymond Rd\, Spokane Valley\, WA\, 99206\, United States
CATEGORIES:Education,Greater NW Area,Holidays,Laity,Online Training,Training
ATTACH;FMTTYPE=image/jpeg:https://www.pnwumc.org/wp-content/uploads/2024/07/McFee-worship16-9.jpg
ORGANIZER;CN="Sheila Miranda":MAILTO:SMiranda@pnwumc.org
GEO:47.658477;-117.264698
X-APPLE-STRUCTURED-LOCATION;VALUE=URI;X-ADDRESS=Spokane Valley United Methodist Church 115 N Raymond Rd Spokane Valley WA 99206 United States;X-APPLE-RADIUS=500;X-TITLE=115 N Raymond Rd:geo:-117.264698,47.658477
END:VEVENT
BEGIN:VEVENT
DTSTART;TZID=America/Los_Angeles:20240817T093000
DTEND;TZID=America/Los_Angeles:20240817T143000
DTSTAMP:20260423T164000
CREATED:20240718T205905Z
LAST-MODIFIED:20240718T205905Z
UID:10000865-1723887000-1723905000@www.pnwumc.org
SUMMARY:Roots & Wings - Puget Sound District Training
DESCRIPTION:The Puget Sound Missional District is excited to bring back our event focused on leadership training for our laity! Because our district is geographically spread out\, we are hosting this event in three different locations on three different Saturdays. Come to the one that is closest to you or the date that works best for your calendar. There will be overlap in what workshops are offered on each day\, but you’re welcome to come to more than one event. Although this event is geared toward laity\, interested clergy may also attend. \nAugust 17 – Stanwood UMC\nSeptember 14 – Sequim Trinity UMC\nOctober 12 – Issaquah Faith UMC \n\nSome of the workshops being planned include: \n\nIndigenous Neighbor Engagement\nSolar Energy Projects\nServing the Unhoused/Volunteer Engagement\nGood Neighboring Experiment\nDisaster Preparedness/Response\nPlanned Giving/Endowments\nMessy Church\nEnvironmental Advocacy\nLay Servant Ministries/Certified Lay Ministries\n\nTo register\, click here.
URL:https://www.pnwumc.org/event/roots-wings-puget-sound-district-training-3/
LOCATION:Stanwood UMC\, 27128 102nd Dr\, Stanwood\, WA\, 98292\, United States
CATEGORIES:District,Laity,Puget Sound,Training
ATTACH;FMTTYPE=image/png:https://www.pnwumc.org/wp-content/uploads/2024/06/Roots-Wings.png
ORGANIZER;CN="Puget Sound District":MAILTO:etombaugh@pnwumc.org
GEO:48.2426767;-122.3723045
X-APPLE-STRUCTURED-LOCATION;VALUE=URI;X-ADDRESS=Stanwood UMC 27128 102nd Dr Stanwood WA 98292 United States;X-APPLE-RADIUS=500;X-TITLE=27128 102nd Dr:geo:-122.3723045,48.2426767
END:VEVENT
BEGIN:VEVENT
DTSTART;TZID=America/Los_Angeles:20240824T130000
DTEND;TZID=America/Los_Angeles:20240824T150000
DTSTAMP:20260423T164000
CREATED:20240628T173646Z
LAST-MODIFIED:20240710T224329Z
UID:10000874-1724504400-1724511600@www.pnwumc.org
SUMMARY:Cancelled: Author Sarah Augustine @ Wesley UMC in Yakima
DESCRIPTION:This event has been postponed due to extenuating circumstances. The church is working on rescheduling at a future date. \nWesley United Methodist Church in Yakima\, Washington\, and the Wesley United Women in Faith invite you to learn from author Sarah Augustine on Saturday\, August 24 at 1 p.m. PT. Sarah Augustine is founder and cochair of the Coalition to Dismantle the Doctrine of Discovery and executive director of the Dispute Resolution Center of Yakima and Kittitas Counties. Augustine\, who is Pueblo (Tewa)\, has published two books – The Land is Not Empty and So We & Our Children May Live\, written for Sojourners\, The Mennonite\, and other publications\, and she is an adjunct professor at Heritage University. She and her husband\, Dan Peplow\, and their son live in the Yakima Valley of Washington. \nAdmission is free and the doors open at 12:30 p.m. \nClick here to download a flier to share.
URL:https://www.pnwumc.org/event/author-sarah-augustine-wesley-umc-in-yakima/
LOCATION:Yakima: Wesley UMC\, 14 North 48th Avenue\, Yakima\, WA\, 98908\, United States
CATEGORIES:Local Church,United Women in Faith
ATTACH;FMTTYPE=image/jpeg:https://www.pnwumc.org/wp-content/uploads/2024/06/Sarah_Augustine_0.jpg
ORGANIZER;CN="Shane Moore":MAILTO:shane.moore@wesleyofyakima.org
GEO:46.5971846;-120.5733166
X-APPLE-STRUCTURED-LOCATION;VALUE=URI;X-ADDRESS=Yakima: Wesley UMC 14 North 48th Avenue Yakima WA 98908 United States;X-APPLE-RADIUS=500;X-TITLE=14 North 48th Avenue:geo:-120.5733166,46.5971846
END:VEVENT
BEGIN:VEVENT
DTSTART;TZID=America/Los_Angeles:20240829T150000
DTEND;TZID=America/Los_Angeles:20240829T160000
DTSTAMP:20260423T164000
CREATED:20240815T224205Z
LAST-MODIFIED:20240815T224205Z
UID:10000888-1724943600-1724947200@www.pnwumc.org
SUMMARY:Online CLM Orientation for Clergy
DESCRIPTION:The Desert Southwest Conference is inviting all clergy to join them in an “ABC’s of CLMs” session on Thursday\, Aug. 29\, 3-4 p.m. PT. You will hear from clergy persons who are in team ministry with Certified Lay Ministers (CLMs)\, learn about the application/accountability process for a CLM\, and “why” there should be a CLM at every church. \nWhile some of the process pieces may differ from conference to conference\, our PNW Conference Director of Lay Servant Ministry John Townsend recommends that clergy attend this event\, expecting that it will be a helpful and informative event. \nClick here to join this orientation on Zoom. \nFor event information\, contact Kathy Jewell at kpjewell7676@gmail.com.
URL:https://www.pnwumc.org/event/online-clm-orientation-for-clergy/
LOCATION:WA
CATEGORIES:Certified Lay Minister,Laity,Training
ATTACH;FMTTYPE=image/jpeg:https://www.pnwumc.org/wp-content/uploads/2016/09/Lay-servant-1x1-e1475794755829.jpg
END:VEVENT
END:VCALENDAR