BEGIN:VCALENDAR
VERSION:2.0
PRODID:-//The Pacific Northwest Conference of The United Methodist Church - ECPv6.15.20//NONSGML v1.0//EN
CALSCALE:GREGORIAN
METHOD:PUBLISH
X-WR-CALNAME:The Pacific Northwest Conference of The United Methodist Church
X-ORIGINAL-URL:https://www.pnwumc.org
X-WR-CALDESC:Events for The Pacific Northwest Conference of The United Methodist Church
REFRESH-INTERVAL;VALUE=DURATION:PT1H
X-Robots-Tag:noindex
X-PUBLISHED-TTL:PT1H
BEGIN:VTIMEZONE
TZID:America/Los_Angeles
BEGIN:DAYLIGHT
TZOFFSETFROM:-0800
TZOFFSETTO:-0700
TZNAME:PDT
DTSTART:20210314T100000
END:DAYLIGHT
BEGIN:STANDARD
TZOFFSETFROM:-0700
TZOFFSETTO:-0800
TZNAME:PST
DTSTART:20211107T090000
END:STANDARD
BEGIN:DAYLIGHT
TZOFFSETFROM:-0800
TZOFFSETTO:-0700
TZNAME:PDT
DTSTART:20220313T100000
END:DAYLIGHT
BEGIN:STANDARD
TZOFFSETFROM:-0700
TZOFFSETTO:-0800
TZNAME:PST
DTSTART:20221106T090000
END:STANDARD
BEGIN:DAYLIGHT
TZOFFSETFROM:-0800
TZOFFSETTO:-0700
TZNAME:PDT
DTSTART:20230312T100000
END:DAYLIGHT
BEGIN:STANDARD
TZOFFSETFROM:-0700
TZOFFSETTO:-0800
TZNAME:PST
DTSTART:20231105T090000
END:STANDARD
END:VTIMEZONE
BEGIN:VEVENT
DTSTART;VALUE=DATE:20221013
DTEND;VALUE=DATE:20221015
DTSTAMP:20260425T095221
CREATED:20211223T220609Z
LAST-MODIFIED:20211223T220609Z
UID:10000531-1665619200-1665791999@www.pnwumc.org
SUMMARY:Fall Conference UMW Exec Meeting
DESCRIPTION:
URL:https://www.pnwumc.org/event/fall-conference-umw-exec-meeting/
LOCATION:Bothell United Methodist Church\, 18515 92nd Ave NE\, Bothell\, 98011\, United States
CATEGORIES:Annual Conference,Meetings,United Methodist Women
ORGANIZER;CN="Ja net' Crouse":MAILTO:crousejw@crouses.com
GEO:47.7624306;-122.2189218
X-APPLE-STRUCTURED-LOCATION;VALUE=URI;X-ADDRESS=Bothell United Methodist Church 18515 92nd Ave NE Bothell 98011 United States;X-APPLE-RADIUS=500;X-TITLE=18515 92nd Ave NE:geo:-122.2189218,47.7624306
END:VEVENT
BEGIN:VEVENT
DTSTART;VALUE=DATE:20221014
DTEND;VALUE=DATE:20221016
DTSTAMP:20260425T095221
CREATED:20211223T220708Z
LAST-MODIFIED:20211223T220708Z
UID:10000532-1665705600-1665878399@www.pnwumc.org
SUMMARY:Conf. UMW Annual Meeting
DESCRIPTION:
URL:https://www.pnwumc.org/event/conf-umw-annual-meeting/
LOCATION:Bothell United Methodist Church\, 18515 92nd Ave NE\, Bothell\, 98011\, United States
CATEGORIES:Annual Conference,Meetings,United Methodist Women
ORGANIZER;CN="Ja net' Crouse":MAILTO:crousejw@crouses.com
GEO:47.7624306;-122.2189218
X-APPLE-STRUCTURED-LOCATION;VALUE=URI;X-ADDRESS=Bothell United Methodist Church 18515 92nd Ave NE Bothell 98011 United States;X-APPLE-RADIUS=500;X-TITLE=18515 92nd Ave NE:geo:-122.2189218,47.7624306
END:VEVENT
BEGIN:VEVENT
DTSTART;TZID=America/Los_Angeles:20221023T140000
DTEND;TZID=America/Los_Angeles:20221023T153000
DTSTAMP:20260425T095221
CREATED:20220523T222035Z
LAST-MODIFIED:20221005T170420Z
UID:10000544-1666533600-1666539000@www.pnwumc.org
SUMMARY:Immigration Round Table
DESCRIPTION:Everyone is invited to participate in our second roundtable discussion on the topic of immigration. Through these webinars\, we aim to offer practical resources and tools that church leaders can use to begin a ministry with immigrant families in their local church. \nClick here to register for this webinar. \nAt this roundtable\, we will hear a few stories from United Methodist immigrants in the PNW Conference\, get valuable information from the staff of Central Washington Justice for Our Neighbors (CWJFON)\, learn more about the Tacoma Detention Center\, and share some practical ideas and actions. There will be plenty of time left for questions and discussion. \nPanelists for this conversation include Abigail Scholar – CWJFON Executive Director\, and Todd Mildon – CWJFON Board President. Leo Pacheco and Clara Marino will offer devotions\, and Rev. Cruz Edwin Santos and Rev. Joanne Coleman Campbell will help to facilitate the webinar and a time for questions. \nThis event is hosted by the PNW Conference Immigration Roundtable Planning Team\, a cooperative effort between the PNW Conference’s Hispanic/Latinx Ministries program and Central Washington Justice for our Neighbors (CWJFON)\, a United Methodist ministry.
URL:https://www.pnwumc.org/event/immigration-round-table/
LOCATION:WA\, United States
CATEGORIES:Hispanic Ministries,Networks
ATTACH;FMTTYPE=image/png:https://www.pnwumc.org/wp-content/uploads/2022/03/Logos3.png
ORGANIZER;CN="Rev. Cruz Edwin Santos":MAILTO:cesantos@pnwumc.org
GEO:30.3321838;-81.655651
END:VEVENT
END:VCALENDAR