BEGIN:VCALENDAR
VERSION:2.0
PRODID:-//The Pacific Northwest Conference of The United Methodist Church - ECPv6.15.20//NONSGML v1.0//EN
CALSCALE:GREGORIAN
METHOD:PUBLISH
X-WR-CALNAME:The Pacific Northwest Conference of The United Methodist Church
X-ORIGINAL-URL:https://www.pnwumc.org
X-WR-CALDESC:Events for The Pacific Northwest Conference of The United Methodist Church
REFRESH-INTERVAL;VALUE=DURATION:PT1H
X-Robots-Tag:noindex
X-PUBLISHED-TTL:PT1H
BEGIN:VTIMEZONE
TZID:America/Los_Angeles
BEGIN:DAYLIGHT
TZOFFSETFROM:-0800
TZOFFSETTO:-0700
TZNAME:PDT
DTSTART:20210314T100000
END:DAYLIGHT
BEGIN:STANDARD
TZOFFSETFROM:-0700
TZOFFSETTO:-0800
TZNAME:PST
DTSTART:20211107T090000
END:STANDARD
BEGIN:DAYLIGHT
TZOFFSETFROM:-0800
TZOFFSETTO:-0700
TZNAME:PDT
DTSTART:20220313T100000
END:DAYLIGHT
BEGIN:STANDARD
TZOFFSETFROM:-0700
TZOFFSETTO:-0800
TZNAME:PST
DTSTART:20221106T090000
END:STANDARD
BEGIN:DAYLIGHT
TZOFFSETFROM:-0800
TZOFFSETTO:-0700
TZNAME:PDT
DTSTART:20230312T100000
END:DAYLIGHT
BEGIN:STANDARD
TZOFFSETFROM:-0700
TZOFFSETTO:-0800
TZNAME:PST
DTSTART:20231105T090000
END:STANDARD
END:VTIMEZONE
BEGIN:VEVENT
DTSTART;VALUE=DATE:20220710
DTEND;VALUE=DATE:20220716
DTSTAMP:20260425T151509
CREATED:20181102T003910Z
LAST-MODIFIED:20220301T014619Z
UID:10000319-1657411200-1657929599@www.pnwumc.org
SUMMARY:Greater Northwest 5 Day Academy for Spiritual Formation
DESCRIPTION:We’ll be guided through our theme “The Power of Story” by popular Academy faculty: \nRay Buckley: Interim Director of the Center for Native American Spirituality and Christian Study\, United Methodist Church. His stories\, poetry\, and art have appeared in numerous journals\, periodicals\, books and museums. \nLeticia Guardiola-Saenz: Associate Professor of Christian Scriptures at Seattle University School of Theology and Ministry. She’s a frequent writer and speaker on New Testament topics. \nRegistration is now open! \n2022 LEADERSHIP TEAM\nTeam/Retreat Leader:  Sue Magrath\nCovenant Group Leader: Cathy Warner\nWorship Leader: Paul Mitchell\nRegistrar: Karen Fisher\nHospitality: Cara Scriven
URL:https://www.pnwumc.org/event/greater-northwest-5-day-academy-for-spiritual-formation-2/
LOCATION:Archbishop Brunett Retreat Center at the Palisades\, 4700 Southwest Dash Point Road\, Federal Way\, WA\, 98023\, United States
CATEGORIES:Adult Retreats,Clergy,Greater NW Area,Laity,Networks
ATTACH;FMTTYPE=image/png:https://www.pnwumc.org/wp-content/uploads/2018/11/image.png
GEO:47.322296;-122.392944
X-APPLE-STRUCTURED-LOCATION;VALUE=URI;X-ADDRESS=Archbishop Brunett Retreat Center at the Palisades 4700 Southwest Dash Point Road Federal Way WA 98023 United States;X-APPLE-RADIUS=500;X-TITLE=4700 Southwest Dash Point Road:geo:-122.392944,47.322296
END:VEVENT
BEGIN:VEVENT
DTSTART;VALUE=DATE:20220722
DTEND;VALUE=DATE:20220725
DTSTAMP:20260425T151509
CREATED:20211223T220153Z
LAST-MODIFIED:20220719T202850Z
UID:10000528-1658448000-1658707199@www.pnwumc.org
SUMMARY:Mission u 2022
DESCRIPTION:Please join us at Mission u 2022 as we reflect on the community that Jesus is calling us to be!\nLearning Together for the Transformation of the World.\nBeginning in 2022\, we are taking an exciting new approach to Mission u curricula. This means there will be one transformative biblical curriculum for everyone. One for adults\, one for youth\, and one for children – all focusing on a shared biblical theme: Luke 13. There is no registration fee for children 5-12 if they are with a parent or grandparent. \nClick here to learn more.  \nSchedule for livestreaming\nPortions of the event schedule will be livestreamed on the Wesley UMC of Yakima YouTube Channel. The direct link is: youtube.com/channel/UCuW-cLSVsbXZmFNfkSsjSZw/live \nFriday\, July 22 – All times Pacific \n\nOpening Plenary and Worship: 3:00-5:00 pm\nMission Videos and Vesper Service: 8:30-9:30 pm\n\nSaturday\, July 23 \n\nPlenary: 8:45-9:30 am\nGuest Speaker: 3:40-4:10 pm\nHealing Service: 9:15-10:00 pm\n\nSunday\, July 24 \n\nClosing Worship with Communion: 9:00-10:30 am
URL:https://www.pnwumc.org/event/mission-u-2022/
LOCATION:Yakima: Wesley UMC\, 14 North 48th Avenue\, Yakima\, WA\, 98908\, United States
CATEGORIES:United Methodist Women
ORGANIZER;CN="Ja net' Crouse":MAILTO:crousejw@crouses.com
GEO:46.5971846;-120.5733166
X-APPLE-STRUCTURED-LOCATION;VALUE=URI;X-ADDRESS=Yakima: Wesley UMC 14 North 48th Avenue Yakima WA 98908 United States;X-APPLE-RADIUS=500;X-TITLE=14 North 48th Avenue:geo:-120.5733166,46.5971846
END:VEVENT
END:VCALENDAR