BEGIN:VCALENDAR
VERSION:2.0
PRODID:-//The Pacific Northwest Conference of The United Methodist Church - ECPv6.15.20//NONSGML v1.0//EN
CALSCALE:GREGORIAN
METHOD:PUBLISH
X-WR-CALNAME:The Pacific Northwest Conference of The United Methodist Church
X-ORIGINAL-URL:https://www.pnwumc.org
X-WR-CALDESC:Events for The Pacific Northwest Conference of The United Methodist Church
REFRESH-INTERVAL;VALUE=DURATION:PT1H
X-Robots-Tag:noindex
X-PUBLISHED-TTL:PT1H
BEGIN:VTIMEZONE
TZID:America/Los_Angeles
BEGIN:DAYLIGHT
TZOFFSETFROM:-0800
TZOFFSETTO:-0700
TZNAME:PDT
DTSTART:20210314T100000
END:DAYLIGHT
BEGIN:STANDARD
TZOFFSETFROM:-0700
TZOFFSETTO:-0800
TZNAME:PST
DTSTART:20211107T090000
END:STANDARD
BEGIN:DAYLIGHT
TZOFFSETFROM:-0800
TZOFFSETTO:-0700
TZNAME:PDT
DTSTART:20220313T100000
END:DAYLIGHT
BEGIN:STANDARD
TZOFFSETFROM:-0700
TZOFFSETTO:-0800
TZNAME:PST
DTSTART:20221106T090000
END:STANDARD
BEGIN:DAYLIGHT
TZOFFSETFROM:-0800
TZOFFSETTO:-0700
TZNAME:PDT
DTSTART:20230312T100000
END:DAYLIGHT
BEGIN:STANDARD
TZOFFSETFROM:-0700
TZOFFSETTO:-0800
TZNAME:PST
DTSTART:20231105T090000
END:STANDARD
END:VTIMEZONE
BEGIN:VEVENT
DTSTART;TZID=America/Los_Angeles:20220601T133000
DTEND;TZID=America/Los_Angeles:20220601T163000
DTSTAMP:20260425T165829
CREATED:20220203T232729Z
LAST-MODIFIED:20220203T232729Z
UID:10000534-1654090200-1654101000@www.pnwumc.org
SUMMARY:PNW Clergy Sessions
DESCRIPTION:Please save the date for this year’s clergy sessions which will be held online. More information will be announced and shared directly with clergy members in the weeks preceding the date.
URL:https://www.pnwumc.org/event/pnw-clergy-sessions-2/
LOCATION:https://www.pnwumc.org/event/pnw-clergy-sessions-2/
CATEGORIES:Annual Conference,Board of Ordained Ministry,Clergy
END:VEVENT
BEGIN:VEVENT
DTSTART;VALUE=DATE:20220603
DTEND;VALUE=DATE:20220605
DTSTAMP:20260425T165829
CREATED:20220309T204842Z
LAST-MODIFIED:20220309T205015Z
UID:10000536-1654214400-1654387199@www.pnwumc.org
SUMMARY:Children’s Disaster Services Volunteer Workshop
DESCRIPTION:Are you looking for a meaningful way to help children and families after disasters? Do you have a warm heart\, patience\, team spirit\, a sense of adventure and time to give? \nBear Creek UMC in Woodinville\, Washington\, is hosting a volunteer training workshop June 3-4\, 2022\, for people interested in learning how to respond to children in Disasters. $55 registration fee covers materials and trainer costs. Meals and an overnight stay are provided by the host organization. \nVisit childrensdisasterservices.org to register or download the flyer to share this opportunity.
URL:https://www.pnwumc.org/event/childrens-disaster-services-volunteer-workshop/
LOCATION:Bear Creek United Methodist Church\, 16530 Avondale Rd NE\, Woodinville\, WA\, 98077\, United States
CATEGORIES:Disaster Response,Local Church,Networks
GEO:47.7481217;-122.0803093
X-APPLE-STRUCTURED-LOCATION;VALUE=URI;X-ADDRESS=Bear Creek United Methodist Church 16530 Avondale Rd NE Woodinville WA 98077 United States;X-APPLE-RADIUS=500;X-TITLE=16530 Avondale Rd NE:geo:-122.0803093,47.7481217
END:VEVENT
BEGIN:VEVENT
DTSTART;VALUE=DATE:20220606
DTEND;VALUE=DATE:20220608
DTSTAMP:20260425T165829
CREATED:20220601T194636Z
LAST-MODIFIED:20220601T194643Z
UID:10000545-1654473600-1654646399@www.pnwumc.org
SUMMARY:Transitions Retreat
DESCRIPTION:
URL:https://www.pnwumc.org/event/transitions-retreat-2/
LOCATION:WA\, United States
CATEGORIES:Clergy,Online Training,Training
ORGANIZER;CN="Kathy Hogg":MAILTO:khogg@pnwumc.org
GEO:30.3321838;-81.655651
END:VEVENT
BEGIN:VEVENT
DTSTART;TZID=America/Los_Angeles:20220607T183000
DTEND;TZID=America/Los_Angeles:20220607T193000
DTSTAMP:20260425T165829
CREATED:20220420T184953Z
LAST-MODIFIED:20220420T184953Z
UID:10000542-1654626600-1654630200@www.pnwumc.org
SUMMARY:PNWAC Laity Orientation
DESCRIPTION:Please visit the PNWAC 2022 website for more information on the AC schedule.
URL:https://www.pnwumc.org/event/pnwac-laity-orientation/
LOCATION:https://www.pnwumc.org/event/pnwac-laity-orientation/
CATEGORIES:Annual Conference
END:VEVENT
BEGIN:VEVENT
DTSTART;TZID=America/Los_Angeles:20220614T183000
DTEND;TZID=America/Los_Angeles:20220614T203000
DTSTAMP:20260425T165829
CREATED:20220420T184808Z
LAST-MODIFIED:20220420T184833Z
UID:10000541-1655231400-1655238600@www.pnwumc.org
SUMMARY:GNW Laity Session
DESCRIPTION:Please visit the PNWAC 2022 website for more information on the AC schedule.
URL:https://www.pnwumc.org/event/gnw-laity-session-2/
LOCATION:WA\, United States
CATEGORIES:Annual Conference
GEO:30.3321838;-81.655651
END:VEVENT
BEGIN:VEVENT
DTSTART;VALUE=DATE:20220619
DTEND;VALUE=DATE:20220626
DTSTAMP:20260425T165829
CREATED:20210804T194745Z
LAST-MODIFIED:20220420T185035Z
UID:10000507-1655596800-1656201599@www.pnwumc.org
SUMMARY:Greater Northwest Annual Conference Sessions
DESCRIPTION:Please visit the PNWAC 2022 website for more information on the AC schedule. \nThe GNW area’s primary week of annual conference sessions\, where the business of each Conference is conducted by clergy and lay members\, will start on the evening of Sunday\, June 19\, with a GNW area-wide opening. The remainder of the week will include a separate focused day of work for each conference and individual days for ordination and commissioning services in PNW and OR-ID. \n\nThe GNW Area-wide Opening will take place on the evening of Sunday\, June 19.\nThe Alaska Conference will meet online on Monday\, June 20\, from 9 a.m. to 7 p.m. AKT.\nThe Pacific Northwest Conference will meet online on Tuesday\, June 21\, from 9 a.m. to 7 p.m. PT.\nThe Pacific Northwest Conference’s Service of Commissioning and Ordination will occur during the day on Wednesday\, June 22.\nThe Oregon-Idaho Conference will meet online on Thursday\, June 23\, from 9 a.m. to 7 p.m. PT\, 10 a.m. to 8 p.m. MT.\nThe Oregon-Idaho Conference’s Service of Commissioning and Ordination will occur during the day on Friday\, June 24.\nThe GNW Area-wide closing plenary and celebration will occur during the day on Saturday\, June 25.\n\nEach day of business will include morning bible studies and evening devotions during the first and last hour. These opportunities will be open for anyone – not just Annual Conference members – to attend. \nClick here for more information. Please watch for more information in conference and GNW Area communications. Published dates are subject to change\, and we will announce additional opportunities as they become available.
URL:https://www.pnwumc.org/event/greater-northwest-shared-annual-conference-session-2/
LOCATION:WA\, United States
CATEGORIES:Annual Conference
GEO:30.3321838;-81.655651
END:VEVENT
END:VCALENDAR